Workbook

Sheet 본당집계 - 2026년  02월 자동합산
A1: 붙임2. 6R 실천 체크 리스트(석포성당-본당 합산용).
A2: 6R 실천 체크 리스트(석포성당-본당 합산용)
A4: * 실천한 항목만 체크하세요.
B5: 활동내용 | C5: 2026년 ( 02 )월 | H5: 계
C6: 1주 | D6: 2주 | E6: 3주 | F6: 4주 | G6: 5주
A7: 거절하기 | B7: · 비닐봉지 거절(장바구니 사용)하기 | C7: =SUM(sheet1!C7,Sheet2!C7,Sheet3!C7,Sheet4!C7,Sheet5!C7,Sheet6!C7,Sheet7!C7,Sheet8!C7,Sheet9!C7,Sheet10!C7,Sheet11!C7,Sheet12!C7,Sheet13!C7,Sheet14!C7,Sheet15!C7,Sheet16!C7,Sheet17!C7,Sheet18!C7,Sheet19!C7,Sheet20!C7,Sheet21!C7,Sheet22!C7,Sheet23!C7,Sheet24!C7,Sheet25!C7,Sheet26!C7,Sheet27!C7,Sheet28!C7,Sheet29!C7,Sheet30!C7,Sheet31!C7,Sheet32!C7,Sheet33!C7,Sheet34!C7,Sheet35!C7,Sheet36!C7,Sheet37!C7,Sheet38!C7,Sheet39!C7,Sheet40!C7,Sheet41!C7,Sheet42!C7,Sheet43!C7,Sheet44!C7,Sheet45!C7,Sheet46!C7,Sheet47!C7,Sheet48!C7,Sheet49!C7,Sheet50!C7,Sheet51!C7,Sheet52!C7,Sheet53!C7,Sheet54!C7,Sheet55!C7,Sheet56!C7,Sheet57!C7,Sheet58!C7,Sheet59!C7,Sheet60!C7,Sheet61!C7,Sheet62!C7,Sheet63!C7,Sheet64!C7,Sheet65!C7,Sheet66!C7,Sheet67!C7,Sheet68!C7,Sheet69!C7,Sheet70!C7,Sheet71!C7,Sheet72!C7,Sheet73!C7,Sheet74!C7,Sheet75!C7,Sheet76!C7,Sheet77!C7,Sheet78!C7,Sheet79!C7,Sheet80!C7,Sheet81!C7,Sheet82!C7,Sheet83!C7,Sheet84!C7,Sheet85!C7,Sheet86!C7,Sheet87!C7,Sheet88!C7,Sheet89!C7,Sheet90!C7,Sheet91!C7,Sheet92!C7,Sheet93!C7,Sheet94!C7,Sheet95!C7,Sheet96!C7,Sheet97!C7,Sheet98!C7,Sheet99!C7,Sheet100!C7,Sheet101!C7,Sheet102!C7,Sheet103!C7,Sheet104!C7,Sheet105!C7,Sheet106!C7,Sheet107!C7,Sheet108!C7,Sheet109!C7,Sheet110!C7,Sheet111!C7,Sheet112!C7,Sheet113!C7,Sheet114!C7,Sheet115!C7,Sheet116!C7,Sheet117!C7,Sheet118!C7,Sheet119!C7,Sheet120!C7,Sheet121!C7,Sheet122!C7,Sheet123!C7,Sheet124!C7,Sheet125!C7,Sheet126!C7,Sheet127!C7,Sheet128!C7,Sheet129!C7,Sheet130!C7,Sheet131!C7,Sheet132!C7,Sheet133!C7,Sheet134!C7,Sheet135!C7,Sheet136!C7,Sheet137!C7,Sheet138!C7,Sheet139!C7,Sheet140!C7,Sheet141!C7,Sheet142!C7,Sheet143!C7,Sheet144!C7,Sheet145!C7,Sheet146!C7,Sheet147!C7,Sheet148!C7,Sheet149!C7,Sheet150!C7,Sheet151!C7,Sheet152!C7,Sheet153!C7,Sheet154!C7,Sheet155!C7,Sheet156!C7,Sheet157!C7,Sheet158!C7,Sheet159!C7,Sheet160!C7,Sheet161!C7,Sheet162!C7,Sheet163!C7,Sheet164!C7,Sheet165!C7,Sheet166!C7,Sheet167!C7,Sheet168!C7,Sheet169!C7,Sheet170!C7,Sheet171!C7,Sheet172!C7,Sheet173!C7,Sheet174!C7,Sheet175!C7,Sheet176!C7,Sheet177!C7,Sheet178!C7,Sheet179!C7,Sheet180!C7,Sheet181!C7,Sheet182!C7,Sheet183!C7,Sheet184!C7,Sheet185!C7,Sheet186!C7,Sheet187!C7,Sheet188!C7,Sheet189!C7,Sheet190!C7,Sheet191!C7,Sheet192!C7,Sheet193!C7,Sheet194!C7,Sheet195!C7,Sheet196!C7,Sheet197!C7,Sheet198!C7,Sheet199!C7,Sheet200!C7,Sheet201!C7,Sheet202!C7,Sheet203!C7,Sheet204!C7,Sheet205!C7,Sheet206!C7,Sheet207!C7,Sheet208!C7,Sheet209!C7,Sheet210!C7,Sheet211!C7,Sheet212!C7,Sheet213!C7,Sheet214!C7,Sheet215!C7,Sheet216!C7,Sheet217!C7,Sheet218!C7,Sheet219!C7,Sheet220!C7,Sheet221!C7,Sheet222!C7,Sheet223!C7,Sheet224!C7,Sheet225!C7,Sheet226!C7,Sheet227!C7,Sheet228!C7,Sheet229!C7,Sheet230!C7,Sheet231!C7,Sheet232!C7,Sheet233!C7,Sheet234!C7,Sheet235!C7,Sheet236!C7,Sheet237!C7,Sheet238!C7,Sheet239!C7,Sheet240!C7,Sheet241!C7,Sheet242!C7,Sheet243!C7,Sheet244!C7,Sheet245!C7,Sheet246!C7,Sheet247!C7,Sheet248!C7,Sheet249!C7,Sheet250!C7) -> 70 | D7: =SUM(sheet1!D7,Sheet2!D7,Sheet3!D7,Sheet4!D7,Sheet5!D7,Sheet6!D7,Sheet7!D7,Sheet8!D7,Sheet9!D7,Sheet10!D7,Sheet11!D7,Sheet12!D7,Sheet13!D7,Sheet14!D7,Sheet15!D7,Sheet16!D7,Sheet17!D7,Sheet18!D7,Sheet19!D7,Sheet20!D7,Sheet21!D7,Sheet22!D7,Sheet23!D7,Sheet24!D7,Sheet25!D7,Sheet26!D7,Sheet27!D7,Sheet28!D7,Sheet29!D7,Sheet30!D7,Sheet31!D7,Sheet32!D7,Sheet33!D7,Sheet34!D7,Sheet35!D7,Sheet36!D7,Sheet37!D7,Sheet38!D7,Sheet39!D7,Sheet40!D7,Sheet41!D7,Sheet42!D7,Sheet43!D7,Sheet44!D7,Sheet45!D7,Sheet46!D7,Sheet47!D7,Sheet48!D7,Sheet49!D7,Sheet50!D7,Sheet51!D7,Sheet52!D7,Sheet53!D7,Sheet54!D7,Sheet55!D7,Sheet56!D7,Sheet57!D7,Sheet58!D7,Sheet59!D7,Sheet60!D7,Sheet61!D7,Sheet62!D7,Sheet63!D7,Sheet64!D7,Sheet65!D7,Sheet66!D7,Sheet67!D7,Sheet68!D7,Sheet69!D7,Sheet70!D7,Sheet71!D7,Sheet72!D7,Sheet73!D7,Sheet74!D7,Sheet75!D7,Sheet76!D7,Sheet77!D7,Sheet78!D7,Sheet79!D7,Sheet80!D7,Sheet81!D7,Sheet82!D7,Sheet83!D7,Sheet84!D7,Sheet85!D7,Sheet86!D7,Sheet87!D7,Sheet88!D7,Sheet89!D7,Sheet90!D7,Sheet91!D7,Sheet92!D7,Sheet93!D7,Sheet94!D7,Sheet95!D7,Sheet96!D7,Sheet97!D7,Sheet98!D7,Sheet99!D7,Sheet100!D7,Sheet101!D7,Sheet102!D7,Sheet103!D7,Sheet104!D7,Sheet105!D7,Sheet106!D7,Sheet107!D7,Sheet108!D7,Sheet109!D7,Sheet110!D7,Sheet111!D7,Sheet112!D7,Sheet113!D7,Sheet114!D7,Sheet115!D7,Sheet116!D7,Sheet117!D7,Sheet118!D7,Sheet119!D7,Sheet120!D7,Sheet121!D7,Sheet122!D7,Sheet123!D7,Sheet124!D7,Sheet125!D7,Sheet126!D7,Sheet127!D7,Sheet128!D7,Sheet129!D7,Sheet130!D7,Sheet131!D7,Sheet132!D7,Sheet133!D7,Sheet134!D7,Sheet135!D7,Sheet136!D7,Sheet137!D7,Sheet138!D7,Sheet139!D7,Sheet140!D7,Sheet141!D7,Sheet142!D7,Sheet143!D7,Sheet144!D7,Sheet145!D7,Sheet146!D7,Sheet147!D7,Sheet148!D7,Sheet149!D7,Sheet150!D7,Sheet151!D7,Sheet152!D7,Sheet153!D7,Sheet154!D7,Sheet155!D7,Sheet156!D7,Sheet157!D7,Sheet158!D7,Sheet159!D7,Sheet160!D7,Sheet161!D7,Sheet162!D7,Sheet163!D7,Sheet164!D7,Sheet165!D7,Sheet166!D7,Sheet167!D7,Sheet168!D7,Sheet169!D7,Sheet170!D7,Sheet171!D7,Sheet172!D7,Sheet173!D7,Sheet174!D7,Sheet175!D7,Sheet176!D7,Sheet177!D7,Sheet178!D7,Sheet179!D7,Sheet180!D7,Sheet181!D7,Sheet182!D7,Sheet183!D7,Sheet184!D7,Sheet185!D7,Sheet186!D7,Sheet187!D7,Sheet188!D7,Sheet189!D7,Sheet190!D7,Sheet191!D7,Sheet192!D7,Sheet193!D7,Sheet194!D7,Sheet195!D7,Sheet196!D7,Sheet197!D7,Sheet198!D7,Sheet199!D7,Sheet200!D7,Sheet201!D7,Sheet202!D7,Sheet203!D7,Sheet204!D7,Sheet205!D7,Sheet206!D7,Sheet207!D7,Sheet208!D7,Sheet209!D7,Sheet210!D7,Sheet211!D7,Sheet212!D7,Sheet213!D7,Sheet214!D7,Sheet215!D7,Sheet216!D7,Sheet217!D7,Sheet218!D7,Sheet219!D7,Sheet220!D7,Sheet221!D7,Sheet222!D7,Sheet223!D7,Sheet224!D7,Sheet225!D7,Sheet226!D7,Sheet227!D7,Sheet228!D7,Sheet229!D7,Sheet230!D7,Sheet231!D7,Sheet232!D7,Sheet233!D7,Sheet234!D7,Sheet235!D7,Sheet236!D7,Sheet237!D7,Sheet238!D7,Sheet239!D7,Sheet240!D7,Sheet241!D7,Sheet242!D7,Sheet243!D7,Sheet244!D7,Sheet245!D7,Sheet246!D7,Sheet247!D7,Sheet248!D7,Sheet249!D7,Sheet250!D7) -> 63 | E7: =SUM(sheet1!E7,Sheet2!E7,Sheet3!E7,Sheet4!E7,Sheet5!E7,Sheet6!E7,Sheet7!E7,Sheet8!E7,Sheet9!E7,Sheet10!E7,Sheet11!E7,Sheet12!E7,Sheet13!E7,Sheet14!E7,Sheet15!E7,Sheet16!E7,Sheet17!E7,Sheet18!E7,Sheet19!E7,Sheet20!E7,Sheet21!E7,Sheet22!E7,Sheet23!E7,Sheet24!E7,Sheet25!E7,Sheet26!E7,Sheet27!E7,Sheet28!E7,Sheet29!E7,Sheet30!E7,Sheet31!E7,Sheet32!E7,Sheet33!E7,Sheet34!E7,Sheet35!E7,Sheet36!E7,Sheet37!E7,Sheet38!E7,Sheet39!E7,Sheet40!E7,Sheet41!E7,Sheet42!E7,Sheet43!E7,Sheet44!E7,Sheet45!E7,Sheet46!E7,Sheet47!E7,Sheet48!E7,Sheet49!E7,Sheet50!E7,Sheet51!E7,Sheet52!E7,Sheet53!E7,Sheet54!E7,Sheet55!E7,Sheet56!E7,Sheet57!E7,Sheet58!E7,Sheet59!E7,Sheet60!E7,Sheet61!E7,Sheet62!E7,Sheet63!E7,Sheet64!E7,Sheet65!E7,Sheet66!E7,Sheet67!E7,Sheet68!E7,Sheet69!E7,Sheet70!E7,Sheet71!E7,Sheet72!E7,Sheet73!E7,Sheet74!E7,Sheet75!E7,Sheet76!E7,Sheet77!E7,Sheet78!E7,Sheet79!E7,Sheet80!E7,Sheet81!E7,Sheet82!E7,Sheet83!E7,Sheet84!E7,Sheet85!E7,Sheet86!E7,Sheet87!E7,Sheet88!E7,Sheet89!E7,Sheet90!E7,Sheet91!E7,Sheet92!E7,Sheet93!E7,Sheet94!E7,Sheet95!E7,Sheet96!E7,Sheet97!E7,Sheet98!E7,Sheet99!E7,Sheet100!E7,Sheet101!E7,Sheet102!E7,Sheet103!E7,Sheet104!E7,Sheet105!E7,Sheet106!E7,Sheet107!E7,Sheet108!E7,Sheet109!E7,Sheet110!E7,Sheet111!E7,Sheet112!E7,Sheet113!E7,Sheet114!E7,Sheet115!E7,Sheet116!E7,Sheet117!E7,Sheet118!E7,Sheet119!E7,Sheet120!E7,Sheet121!E7,Sheet122!E7,Sheet123!E7,Sheet124!E7,Sheet125!E7,Sheet126!E7,Sheet127!E7,Sheet128!E7,Sheet129!E7,Sheet130!E7,Sheet131!E7,Sheet132!E7,Sheet133!E7,Sheet134!E7,Sheet135!E7,Sheet136!E7,Sheet137!E7,Sheet138!E7,Sheet139!E7,Sheet140!E7,Sheet141!E7,Sheet142!E7,Sheet143!E7,Sheet144!E7,Sheet145!E7,Sheet146!E7,Sheet147!E7,Sheet148!E7,Sheet149!E7,Sheet150!E7,Sheet151!E7,Sheet152!E7,Sheet153!E7,Sheet154!E7,Sheet155!E7,Sheet156!E7,Sheet157!E7,Sheet158!E7,Sheet159!E7,Sheet160!E7,Sheet161!E7,Sheet162!E7,Sheet163!E7,Sheet164!E7,Sheet165!E7,Sheet166!E7,Sheet167!E7,Sheet168!E7,Sheet169!E7,Sheet170!E7,Sheet171!E7,Sheet172!E7,Sheet173!E7,Sheet174!E7,Sheet175!E7,Sheet176!E7,Sheet177!E7,Sheet178!E7,Sheet179!E7,Sheet180!E7,Sheet181!E7,Sheet182!E7,Sheet183!E7,Sheet184!E7,Sheet185!E7,Sheet186!E7,Sheet187!E7,Sheet188!E7,Sheet189!E7,Sheet190!E7,Sheet191!E7,Sheet192!E7,Sheet193!E7,Sheet194!E7,Sheet195!E7,Sheet196!E7,Sheet197!E7,Sheet198!E7,Sheet199!E7,Sheet200!E7,Sheet201!E7,Sheet202!E7,Sheet203!E7,Sheet204!E7,Sheet205!E7,Sheet206!E7,Sheet207!E7,Sheet208!E7,Sheet209!E7,Sheet210!E7,Sheet211!E7,Sheet212!E7,Sheet213!E7,Sheet214!E7,Sheet215!E7,Sheet216!E7,Sheet217!E7,Sheet218!E7,Sheet219!E7,Sheet220!E7,Sheet221!E7,Sheet222!E7,Sheet223!E7,Sheet224!E7,Sheet225!E7,Sheet226!E7,Sheet227!E7,Sheet228!E7,Sheet229!E7,Sheet230!E7,Sheet231!E7,Sheet232!E7,Sheet233!E7,Sheet234!E7,Sheet235!E7,Sheet236!E7,Sheet237!E7,Sheet238!E7,Sheet239!E7,Sheet240!E7,Sheet241!E7,Sheet242!E7,Sheet243!E7,Sheet244!E7,Sheet245!E7,Sheet246!E7,Sheet247!E7,Sheet248!E7,Sheet249!E7,Sheet250!E7) -> 71 | F7: =SUM(sheet1!F7,Sheet2!F7,Sheet3!F7,Sheet4!F7,Sheet5!F7,Sheet6!F7,Sheet7!F7,Sheet8!F7,Sheet9!F7,Sheet10!F7,Sheet11!F7,Sheet12!F7,Sheet13!F7,Sheet14!F7,Sheet15!F7,Sheet16!F7,Sheet17!F7,Sheet18!F7,Sheet19!F7,Sheet20!F7,Sheet21!F7,Sheet22!F7,Sheet23!F7,Sheet24!F7,Sheet25!F7,Sheet26!F7,Sheet27!F7,Sheet28!F7,Sheet29!F7,Sheet30!F7,Sheet31!F7,Sheet32!F7,Sheet33!F7,Sheet34!F7,Sheet35!F7,Sheet36!F7,Sheet37!F7,Sheet38!F7,Sheet39!F7,Sheet40!F7,Sheet41!F7,Sheet42!F7,Sheet43!F7,Sheet44!F7,Sheet45!F7,Sheet46!F7,Sheet47!F7,Sheet48!F7,Sheet49!F7,Sheet50!F7,Sheet51!F7,Sheet52!F7,Sheet53!F7,Sheet54!F7,Sheet55!F7,Sheet56!F7,Sheet57!F7,Sheet58!F7,Sheet59!F7,Sheet60!F7,Sheet61!F7,Sheet62!F7,Sheet63!F7,Sheet64!F7,Sheet65!F7,Sheet66!F7,Sheet67!F7,Sheet68!F7,Sheet69!F7,Sheet70!F7,Sheet71!F7,Sheet72!F7,Sheet73!F7,Sheet74!F7,Sheet75!F7,Sheet76!F7,Sheet77!F7,Sheet78!F7,Sheet79!F7,Sheet80!F7,Sheet81!F7,Sheet82!F7,Sheet83!F7,Sheet84!F7,Sheet85!F7,Sheet86!F7,Sheet87!F7,Sheet88!F7,Sheet89!F7,Sheet90!F7,Sheet91!F7,Sheet92!F7,Sheet93!F7,Sheet94!F7,Sheet95!F7,Sheet96!F7,Sheet97!F7,Sheet98!F7,Sheet99!F7,Sheet100!F7,Sheet101!F7,Sheet102!F7,Sheet103!F7,Sheet104!F7,Sheet105!F7,Sheet106!F7,Sheet107!F7,Sheet108!F7,Sheet109!F7,Sheet110!F7,Sheet111!F7,Sheet112!F7,Sheet113!F7,Sheet114!F7,Sheet115!F7,Sheet116!F7,Sheet117!F7,Sheet118!F7,Sheet119!F7,Sheet120!F7,Sheet121!F7,Sheet122!F7,Sheet123!F7,Sheet124!F7,Sheet125!F7,Sheet126!F7,Sheet127!F7,Sheet128!F7,Sheet129!F7,Sheet130!F7,Sheet131!F7,Sheet132!F7,Sheet133!F7,Sheet134!F7,Sheet135!F7,Sheet136!F7,Sheet137!F7,Sheet138!F7,Sheet139!F7,Sheet140!F7,Sheet141!F7,Sheet142!F7,Sheet143!F7,Sheet144!F7,Sheet145!F7,Sheet146!F7,Sheet147!F7,Sheet148!F7,Sheet149!F7,Sheet150!F7,Sheet151!F7,Sheet152!F7,Sheet153!F7,Sheet154!F7,Sheet155!F7,Sheet156!F7,Sheet157!F7,Sheet158!F7,Sheet159!F7,Sheet160!F7,Sheet161!F7,Sheet162!F7,Sheet163!F7,Sheet164!F7,Sheet165!F7,Sheet166!F7,Sheet167!F7,Sheet168!F7,Sheet169!F7,Sheet170!F7,Sheet171!F7,Sheet172!F7,Sheet173!F7,Sheet174!F7,Sheet175!F7,Sheet176!F7,Sheet177!F7,Sheet178!F7,Sheet179!F7,Sheet180!F7,Sheet181!F7,Sheet182!F7,Sheet183!F7,Sheet184!F7,Sheet185!F7,Sheet186!F7,Sheet187!F7,Sheet188!F7,Sheet189!F7,Sheet190!F7,Sheet191!F7,Sheet192!F7,Sheet193!F7,Sheet194!F7,Sheet195!F7,Sheet196!F7,Sheet197!F7,Sheet198!F7,Sheet199!F7,Sheet200!F7,Sheet201!F7,Sheet202!F7,Sheet203!F7,Sheet204!F7,Sheet205!F7,Sheet206!F7,Sheet207!F7,Sheet208!F7,Sheet209!F7,Sheet210!F7,Sheet211!F7,Sheet212!F7,Sheet213!F7,Sheet214!F7,Sheet215!F7,Sheet216!F7,Sheet217!F7,Sheet218!F7,Sheet219!F7,Sheet220!F7,Sheet221!F7,Sheet222!F7,Sheet223!F7,Sheet224!F7,Sheet225!F7,Sheet226!F7,Sheet227!F7,Sheet228!F7,Sheet229!F7,Sheet230!F7,Sheet231!F7,Sheet232!F7,Sheet233!F7,Sheet234!F7,Sheet235!F7,Sheet236!F7,Sheet237!F7,Sheet238!F7,Sheet239!F7,Sheet240!F7,Sheet241!F7,Sheet242!F7,Sheet243!F7,Sheet244!F7,Sheet245!F7,Sheet246!F7,Sheet247!F7,Sheet248!F7,Sheet249!F7,Sheet250!F7) -> 47 | G7: =SUM(sheet1!G7,Sheet2!G7,Sheet3!G7,Sheet4!G7,Sheet5!G7,Sheet6!G7,Sheet7!G7,Sheet8!G7,Sheet9!G7,Sheet10!G7,Sheet11!G7,Sheet12!G7,Sheet13!G7,Sheet14!G7,Sheet15!G7,Sheet16!G7,Sheet17!G7,Sheet18!G7,Sheet19!G7,Sheet20!G7,Sheet21!G7,Sheet22!G7,Sheet23!G7,Sheet24!G7,Sheet25!G7,Sheet26!G7,Sheet27!G7,Sheet28!G7,Sheet29!G7,Sheet30!G7,Sheet31!G7,Sheet32!G7,Sheet33!G7,Sheet34!G7,Sheet35!G7,Sheet36!G7,Sheet37!G7,Sheet38!G7,Sheet39!G7,Sheet40!G7,Sheet41!G7,Sheet42!G7,Sheet43!G7,Sheet44!G7,Sheet45!G7,Sheet46!G7,Sheet47!G7,Sheet48!G7,Sheet49!G7,Sheet50!G7,Sheet51!G7,Sheet52!G7,Sheet53!G7,Sheet54!G7,Sheet55!G7,Sheet56!G7,Sheet57!G7,Sheet58!G7,Sheet59!G7,Sheet60!G7,Sheet61!G7,Sheet62!G7,Sheet63!G7,Sheet64!G7,Sheet65!G7,Sheet66!G7,Sheet67!G7,Sheet68!G7,Sheet69!G7,Sheet70!G7,Sheet71!G7,Sheet72!G7,Sheet73!G7,Sheet74!G7,Sheet75!G7,Sheet76!G7,Sheet77!G7,Sheet78!G7,Sheet79!G7,Sheet80!G7,Sheet81!G7,Sheet82!G7,Sheet83!G7,Sheet84!G7,Sheet85!G7,Sheet86!G7,Sheet87!G7,Sheet88!G7,Sheet89!G7,Sheet90!G7,Sheet91!G7,Sheet92!G7,Sheet93!G7,Sheet94!G7,Sheet95!G7,Sheet96!G7,Sheet97!G7,Sheet98!G7,Sheet99!G7,Sheet100!G7,Sheet101!G7,Sheet102!G7,Sheet103!G7,Sheet104!G7,Sheet105!G7,Sheet106!G7,Sheet107!G7,Sheet108!G7,Sheet109!G7,Sheet110!G7,Sheet111!G7,Sheet112!G7,Sheet113!G7,Sheet114!G7,Sheet115!G7,Sheet116!G7,Sheet117!G7,Sheet118!G7,Sheet119!G7,Sheet120!G7,Sheet121!G7,Sheet122!G7,Sheet123!G7,Sheet124!G7,Sheet125!G7,Sheet126!G7,Sheet127!G7,Sheet128!G7,Sheet129!G7,Sheet130!G7,Sheet131!G7,Sheet132!G7,Sheet133!G7,Sheet134!G7,Sheet135!G7,Sheet136!G7,Sheet137!G7,Sheet138!G7,Sheet139!G7,Sheet140!G7,Sheet141!G7,Sheet142!G7,Sheet143!G7,Sheet144!G7,Sheet145!G7,Sheet146!G7,Sheet147!G7,Sheet148!G7,Sheet149!G7,Sheet150!G7,Sheet151!G7,Sheet152!G7,Sheet153!G7,Sheet154!G7,Sheet155!G7,Sheet156!G7,Sheet157!G7,Sheet158!G7,Sheet159!G7,Sheet160!G7,Sheet161!G7,Sheet162!G7,Sheet163!G7,Sheet164!G7,Sheet165!G7,Sheet166!G7,Sheet167!G7,Sheet168!G7,Sheet169!G7,Sheet170!G7,Sheet171!G7,Sheet172!G7,Sheet173!G7,Sheet174!G7,Sheet175!G7,Sheet176!G7,Sheet177!G7,Sheet178!G7,Sheet179!G7,Sheet180!G7,Sheet181!G7,Sheet182!G7,Sheet183!G7,Sheet184!G7,Sheet185!G7,Sheet186!G7,Sheet187!G7,Sheet188!G7,Sheet189!G7,Sheet190!G7,Sheet191!G7,Sheet192!G7,Sheet193!G7,Sheet194!G7,Sheet195!G7,Sheet196!G7,Sheet197!G7,Sheet198!G7,Sheet199!G7,Sheet200!G7,Sheet201!G7,Sheet202!G7,Sheet203!G7,Sheet204!G7,Sheet205!G7,Sheet206!G7,Sheet207!G7,Sheet208!G7,Sheet209!G7,Sheet210!G7,Sheet211!G7,Sheet212!G7,Sheet213!G7,Sheet214!G7,Sheet215!G7,Sheet216!G7,Sheet217!G7,Sheet218!G7,Sheet219!G7,Sheet220!G7,Sheet221!G7,Sheet222!G7,Sheet223!G7,Sheet224!G7,Sheet225!G7,Sheet226!G7,Sheet227!G7,Sheet228!G7,Sheet229!G7,Sheet230!G7,Sheet231!G7,Sheet232!G7,Sheet233!G7,Sheet234!G7,Sheet235!G7,Sheet236!G7,Sheet237!G7,Sheet238!G7,Sheet239!G7,Sheet240!G7,Sheet241!G7,Sheet242!G7,Sheet243!G7,Sheet244!G7,Sheet245!G7,Sheet246!G7,Sheet247!G7,Sheet248!G7,Sheet249!G7,Sheet250!G7) -> 0 | H7: =SUM(C7:G7) -> 251
B8: · 자가용 거절(대중교통 이용)하기 | C8: =SUM(sheet1!C8,Sheet2!C8,Sheet3!C8,Sheet4!C8,Sheet5!C8,Sheet6!C8,Sheet7!C8,Sheet8!C8,Sheet9!C8,Sheet10!C8,Sheet11!C8,Sheet12!C8,Sheet13!C8,Sheet14!C8,Sheet15!C8,Sheet16!C8,Sheet17!C8,Sheet18!C8,Sheet19!C8,Sheet20!C8,Sheet21!C8,Sheet22!C8,Sheet23!C8,Sheet24!C8,Sheet25!C8,Sheet26!C8,Sheet27!C8,Sheet28!C8,Sheet29!C8,Sheet30!C8,Sheet31!C8,Sheet32!C8,Sheet33!C8,Sheet34!C8,Sheet35!C8,Sheet36!C8,Sheet37!C8,Sheet38!C8,Sheet39!C8,Sheet40!C8,Sheet41!C8,Sheet42!C8,Sheet43!C8,Sheet44!C8,Sheet45!C8,Sheet46!C8,Sheet47!C8,Sheet48!C8,Sheet49!C8,Sheet50!C8,Sheet51!C8,Sheet52!C8,Sheet53!C8,Sheet54!C8,Sheet55!C8,Sheet56!C8,Sheet57!C8,Sheet58!C8,Sheet59!C8,Sheet60!C8,Sheet61!C8,Sheet62!C8,Sheet63!C8,Sheet64!C8,Sheet65!C8,Sheet66!C8,Sheet67!C8,Sheet68!C8,Sheet69!C8,Sheet70!C8,Sheet71!C8,Sheet72!C8,Sheet73!C8,Sheet74!C8,Sheet75!C8,Sheet76!C8,Sheet77!C8,Sheet78!C8,Sheet79!C8,Sheet80!C8,Sheet81!C8,Sheet82!C8,Sheet83!C8,Sheet84!C8,Sheet85!C8,Sheet86!C8,Sheet87!C8,Sheet88!C8,Sheet89!C8,Sheet90!C8,Sheet91!C8,Sheet92!C8,Sheet93!C8,Sheet94!C8,Sheet95!C8,Sheet96!C8,Sheet97!C8,Sheet98!C8,Sheet99!C8,Sheet100!C8,Sheet101!C8,Sheet102!C8,Sheet103!C8,Sheet104!C8,Sheet105!C8,Sheet106!C8,Sheet107!C8,Sheet108!C8,Sheet109!C8,Sheet110!C8,Sheet111!C8,Sheet112!C8,Sheet113!C8,Sheet114!C8,Sheet115!C8,Sheet116!C8,Sheet117!C8,Sheet118!C8,Sheet119!C8,Sheet120!C8,Sheet121!C8,Sheet122!C8,Sheet123!C8,Sheet124!C8,Sheet125!C8,Sheet126!C8,Sheet127!C8,Sheet128!C8,Sheet129!C8,Sheet130!C8,Sheet131!C8,Sheet132!C8,Sheet133!C8,Sheet134!C8,Sheet135!C8,Sheet136!C8,Sheet137!C8,Sheet138!C8,Sheet139!C8,Sheet140!C8,Sheet141!C8,Sheet142!C8,Sheet143!C8,Sheet144!C8,Sheet145!C8,Sheet146!C8,Sheet147!C8,Sheet148!C8,Sheet149!C8,Sheet150!C8,Sheet151!C8,Sheet152!C8,Sheet153!C8,Sheet154!C8,Sheet155!C8,Sheet156!C8,Sheet157!C8,Sheet158!C8,Sheet159!C8,Sheet160!C8,Sheet161!C8,Sheet162!C8,Sheet163!C8,Sheet164!C8,Sheet165!C8,Sheet166!C8,Sheet167!C8,Sheet168!C8,Sheet169!C8,Sheet170!C8,Sheet171!C8,Sheet172!C8,Sheet173!C8,Sheet174!C8,Sheet175!C8,Sheet176!C8,Sheet177!C8,Sheet178!C8,Sheet179!C8,Sheet180!C8,Sheet181!C8,Sheet182!C8,Sheet183!C8,Sheet184!C8,Sheet185!C8,Sheet186!C8,Sheet187!C8,Sheet188!C8,Sheet189!C8,Sheet190!C8,Sheet191!C8,Sheet192!C8,Sheet193!C8,Sheet194!C8,Sheet195!C8,Sheet196!C8,Sheet197!C8,Sheet198!C8,Sheet199!C8,Sheet200!C8,Sheet201!C8,Sheet202!C8,Sheet203!C8,Sheet204!C8,Sheet205!C8,Sheet206!C8,Sheet207!C8,Sheet208!C8,Sheet209!C8,Sheet210!C8,Sheet211!C8,Sheet212!C8,Sheet213!C8,Sheet214!C8,Sheet215!C8,Sheet216!C8,Sheet217!C8,Sheet218!C8,Sheet219!C8,Sheet220!C8,Sheet221!C8,Sheet222!C8,Sheet223!C8,Sheet224!C8,Sheet225!C8,Sheet226!C8,Sheet227!C8,Sheet228!C8,Sheet229!C8,Sheet230!C8,Sheet231!C8,Sheet232!C8,Sheet233!C8,Sheet234!C8,Sheet235!C8,Sheet236!C8,Sheet237!C8,Sheet238!C8,Sheet239!C8,Sheet240!C8,Sheet241!C8,Sheet242!C8,Sheet243!C8,Sheet244!C8,Sheet245!C8,Sheet246!C8,Sheet247!C8,Sheet248!C8,Sheet249!C8,Sheet250!C8) -> 118 | D8: =SUM(sheet1!D8,Sheet2!D8,Sheet3!D8,Sheet4!D8,Sheet5!D8,Sheet6!D8,Sheet7!D8,Sheet8!D8,Sheet9!D8,Sheet10!D8,Sheet11!D8,Sheet12!D8,Sheet13!D8,Sheet14!D8,Sheet15!D8,Sheet16!D8,Sheet17!D8,Sheet18!D8,Sheet19!D8,Sheet20!D8,Sheet21!D8,Sheet22!D8,Sheet23!D8,Sheet24!D8,Sheet25!D8,Sheet26!D8,Sheet27!D8,Sheet28!D8,Sheet29!D8,Sheet30!D8,Sheet31!D8,Sheet32!D8,Sheet33!D8,Sheet34!D8,Sheet35!D8,Sheet36!D8,Sheet37!D8,Sheet38!D8,Sheet39!D8,Sheet40!D8,Sheet41!D8,Sheet42!D8,Sheet43!D8,Sheet44!D8,Sheet45!D8,Sheet46!D8,Sheet47!D8,Sheet48!D8,Sheet49!D8,Sheet50!D8,Sheet51!D8,Sheet52!D8,Sheet53!D8,Sheet54!D8,Sheet55!D8,Sheet56!D8,Sheet57!D8,Sheet58!D8,Sheet59!D8,Sheet60!D8,Sheet61!D8,Sheet62!D8,Sheet63!D8,Sheet64!D8,Sheet65!D8,Sheet66!D8,Sheet67!D8,Sheet68!D8,Sheet69!D8,Sheet70!D8,Sheet71!D8,Sheet72!D8,Sheet73!D8,Sheet74!D8,Sheet75!D8,Sheet76!D8,Sheet77!D8,Sheet78!D8,Sheet79!D8,Sheet80!D8,Sheet81!D8,Sheet82!D8,Sheet83!D8,Sheet84!D8,Sheet85!D8,Sheet86!D8,Sheet87!D8,Sheet88!D8,Sheet89!D8,Sheet90!D8,Sheet91!D8,Sheet92!D8,Sheet93!D8,Sheet94!D8,Sheet95!D8,Sheet96!D8,Sheet97!D8,Sheet98!D8,Sheet99!D8,Sheet100!D8,Sheet101!D8,Sheet102!D8,Sheet103!D8,Sheet104!D8,Sheet105!D8,Sheet106!D8,Sheet107!D8,Sheet108!D8,Sheet109!D8,Sheet110!D8,Sheet111!D8,Sheet112!D8,Sheet113!D8,Sheet114!D8,Sheet115!D8,Sheet116!D8,Sheet117!D8,Sheet118!D8,Sheet119!D8,Sheet120!D8,Sheet121!D8,Sheet122!D8,Sheet123!D8,Sheet124!D8,Sheet125!D8,Sheet126!D8,Sheet127!D8,Sheet128!D8,Sheet129!D8,Sheet130!D8,Sheet131!D8,Sheet132!D8,Sheet133!D8,Sheet134!D8,Sheet135!D8,Sheet136!D8,Sheet137!D8,Sheet138!D8,Sheet139!D8,Sheet140!D8,Sheet141!D8,Sheet142!D8,Sheet143!D8,Sheet144!D8,Sheet145!D8,Sheet146!D8,Sheet147!D8,Sheet148!D8,Sheet149!D8,Sheet150!D8,Sheet151!D8,Sheet152!D8,Sheet153!D8,Sheet154!D8,Sheet155!D8,Sheet156!D8,Sheet157!D8,Sheet158!D8,Sheet159!D8,Sheet160!D8,Sheet161!D8,Sheet162!D8,Sheet163!D8,Sheet164!D8,Sheet165!D8,Sheet166!D8,Sheet167!D8,Sheet168!D8,Sheet169!D8,Sheet170!D8,Sheet171!D8,Sheet172!D8,Sheet173!D8,Sheet174!D8,Sheet175!D8,Sheet176!D8,Sheet177!D8,Sheet178!D8,Sheet179!D8,Sheet180!D8,Sheet181!D8,Sheet182!D8,Sheet183!D8,Sheet184!D8,Sheet185!D8,Sheet186!D8,Sheet187!D8,Sheet188!D8,Sheet189!D8,Sheet190!D8,Sheet191!D8,Sheet192!D8,Sheet193!D8,Sheet194!D8,Sheet195!D8,Sheet196!D8,Sheet197!D8,Sheet198!D8,Sheet199!D8,Sheet200!D8,Sheet201!D8,Sheet202!D8,Sheet203!D8,Sheet204!D8,Sheet205!D8,Sheet206!D8,Sheet207!D8,Sheet208!D8,Sheet209!D8,Sheet210!D8,Sheet211!D8,Sheet212!D8,Sheet213!D8,Sheet214!D8,Sheet215!D8,Sheet216!D8,Sheet217!D8,Sheet218!D8,Sheet219!D8,Sheet220!D8,Sheet221!D8,Sheet222!D8,Sheet223!D8,Sheet224!D8,Sheet225!D8,Sheet226!D8,Sheet227!D8,Sheet228!D8,Sheet229!D8,Sheet230!D8,Sheet231!D8,Sheet232!D8,Sheet233!D8,Sheet234!D8,Sheet235!D8,Sheet236!D8,Sheet237!D8,Sheet238!D8,Sheet239!D8,Sheet240!D8,Sheet241!D8,Sheet242!D8,Sheet243!D8,Sheet244!D8,Sheet245!D8,Sheet246!D8,Sheet247!D8,Sheet248!D8,Sheet249!D8,Sheet250!D8) -> 114 | E8: =SUM(sheet1!E8,Sheet2!E8,Sheet3!E8,Sheet4!E8,Sheet5!E8,Sheet6!E8,Sheet7!E8,Sheet8!E8,Sheet9!E8,Sheet10!E8,Sheet11!E8,Sheet12!E8,Sheet13!E8,Sheet14!E8,Sheet15!E8,Sheet16!E8,Sheet17!E8,Sheet18!E8,Sheet19!E8,Sheet20!E8,Sheet21!E8,Sheet22!E8,Sheet23!E8,Sheet24!E8,Sheet25!E8,Sheet26!E8,Sheet27!E8,Sheet28!E8,Sheet29!E8,Sheet30!E8,Sheet31!E8,Sheet32!E8,Sheet33!E8,Sheet34!E8,Sheet35!E8,Sheet36!E8,Sheet37!E8,Sheet38!E8,Sheet39!E8,Sheet40!E8,Sheet41!E8,Sheet42!E8,Sheet43!E8,Sheet44!E8,Sheet45!E8,Sheet46!E8,Sheet47!E8,Sheet48!E8,Sheet49!E8,Sheet50!E8,Sheet51!E8,Sheet52!E8,Sheet53!E8,Sheet54!E8,Sheet55!E8,Sheet56!E8,Sheet57!E8,Sheet58!E8,Sheet59!E8,Sheet60!E8,Sheet61!E8,Sheet62!E8,Sheet63!E8,Sheet64!E8,Sheet65!E8,Sheet66!E8,Sheet67!E8,Sheet68!E8,Sheet69!E8,Sheet70!E8,Sheet71!E8,Sheet72!E8,Sheet73!E8,Sheet74!E8,Sheet75!E8,Sheet76!E8,Sheet77!E8,Sheet78!E8,Sheet79!E8,Sheet80!E8,Sheet81!E8,Sheet82!E8,Sheet83!E8,Sheet84!E8,Sheet85!E8,Sheet86!E8,Sheet87!E8,Sheet88!E8,Sheet89!E8,Sheet90!E8,Sheet91!E8,Sheet92!E8,Sheet93!E8,Sheet94!E8,Sheet95!E8,Sheet96!E8,Sheet97!E8,Sheet98!E8,Sheet99!E8,Sheet100!E8,Sheet101!E8,Sheet102!E8,Sheet103!E8,Sheet104!E8,Sheet105!E8,Sheet106!E8,Sheet107!E8,Sheet108!E8,Sheet109!E8,Sheet110!E8,Sheet111!E8,Sheet112!E8,Sheet113!E8,Sheet114!E8,Sheet115!E8,Sheet116!E8,Sheet117!E8,Sheet118!E8,Sheet119!E8,Sheet120!E8,Sheet121!E8,Sheet122!E8,Sheet123!E8,Sheet124!E8,Sheet125!E8,Sheet126!E8,Sheet127!E8,Sheet128!E8,Sheet129!E8,Sheet130!E8,Sheet131!E8,Sheet132!E8,Sheet133!E8,Sheet134!E8,Sheet135!E8,Sheet136!E8,Sheet137!E8,Sheet138!E8,Sheet139!E8,Sheet140!E8,Sheet141!E8,Sheet142!E8,Sheet143!E8,Sheet144!E8,Sheet145!E8,Sheet146!E8,Sheet147!E8,Sheet148!E8,Sheet149!E8,Sheet150!E8,Sheet151!E8,Sheet152!E8,Sheet153!E8,Sheet154!E8,Sheet155!E8,Sheet156!E8,Sheet157!E8,Sheet158!E8,Sheet159!E8,Sheet160!E8,Sheet161!E8,Sheet162!E8,Sheet163!E8,Sheet164!E8,Sheet165!E8,Sheet166!E8,Sheet167!E8,Sheet168!E8,Sheet169!E8,Sheet170!E8,Sheet171!E8,Sheet172!E8,Sheet173!E8,Sheet174!E8,Sheet175!E8,Sheet176!E8,Sheet177!E8,Sheet178!E8,Sheet179!E8,Sheet180!E8,Sheet181!E8,Sheet182!E8,Sheet183!E8,Sheet184!E8,Sheet185!E8,Sheet186!E8,Sheet187!E8,Sheet188!E8,Sheet189!E8,Sheet190!E8,Sheet191!E8,Sheet192!E8,Sheet193!E8,Sheet194!E8,Sheet195!E8,Sheet196!E8,Sheet197!E8,Sheet198!E8,Sheet199!E8,Sheet200!E8,Sheet201!E8,Sheet202!E8,Sheet203!E8,Sheet204!E8,Sheet205!E8,Sheet206!E8,Sheet207!E8,Sheet208!E8,Sheet209!E8,Sheet210!E8,Sheet211!E8,Sheet212!E8,Sheet213!E8,Sheet214!E8,Sheet215!E8,Sheet216!E8,Sheet217!E8,Sheet218!E8,Sheet219!E8,Sheet220!E8,Sheet221!E8,Sheet222!E8,Sheet223!E8,Sheet224!E8,Sheet225!E8,Sheet226!E8,Sheet227!E8,Sheet228!E8,Sheet229!E8,Sheet230!E8,Sheet231!E8,Sheet232!E8,Sheet233!E8,Sheet234!E8,Sheet235!E8,Sheet236!E8,Sheet237!E8,Sheet238!E8,Sheet239!E8,Sheet240!E8,Sheet241!E8,Sheet242!E8,Sheet243!E8,Sheet244!E8,Sheet245!E8,Sheet246!E8,Sheet247!E8,Sheet248!E8,Sheet249!E8,Sheet250!E8) -> 103 | F8: =SUM(sheet1!F8,Sheet2!F8,Sheet3!F8,Sheet4!F8,Sheet5!F8,Sheet6!F8,Sheet7!F8,Sheet8!F8,Sheet9!F8,Sheet10!F8,Sheet11!F8,Sheet12!F8,Sheet13!F8,Sheet14!F8,Sheet15!F8,Sheet16!F8,Sheet17!F8,Sheet18!F8,Sheet19!F8,Sheet20!F8,Sheet21!F8,Sheet22!F8,Sheet23!F8,Sheet24!F8,Sheet25!F8,Sheet26!F8,Sheet27!F8,Sheet28!F8,Sheet29!F8,Sheet30!F8,Sheet31!F8,Sheet32!F8,Sheet33!F8,Sheet34!F8,Sheet35!F8,Sheet36!F8,Sheet37!F8,Sheet38!F8,Sheet39!F8,Sheet40!F8,Sheet41!F8,Sheet42!F8,Sheet43!F8,Sheet44!F8,Sheet45!F8,Sheet46!F8,Sheet47!F8,Sheet48!F8,Sheet49!F8,Sheet50!F8,Sheet51!F8,Sheet52!F8,Sheet53!F8,Sheet54!F8,Sheet55!F8,Sheet56!F8,Sheet57!F8,Sheet58!F8,Sheet59!F8,Sheet60!F8,Sheet61!F8,Sheet62!F8,Sheet63!F8,Sheet64!F8,Sheet65!F8,Sheet66!F8,Sheet67!F8,Sheet68!F8,Sheet69!F8,Sheet70!F8,Sheet71!F8,Sheet72!F8,Sheet73!F8,Sheet74!F8,Sheet75!F8,Sheet76!F8,Sheet77!F8,Sheet78!F8,Sheet79!F8,Sheet80!F8,Sheet81!F8,Sheet82!F8,Sheet83!F8,Sheet84!F8,Sheet85!F8,Sheet86!F8,Sheet87!F8,Sheet88!F8,Sheet89!F8,Sheet90!F8,Sheet91!F8,Sheet92!F8,Sheet93!F8,Sheet94!F8,Sheet95!F8,Sheet96!F8,Sheet97!F8,Sheet98!F8,Sheet99!F8,Sheet100!F8,Sheet101!F8,Sheet102!F8,Sheet103!F8,Sheet104!F8,Sheet105!F8,Sheet106!F8,Sheet107!F8,Sheet108!F8,Sheet109!F8,Sheet110!F8,Sheet111!F8,Sheet112!F8,Sheet113!F8,Sheet114!F8,Sheet115!F8,Sheet116!F8,Sheet117!F8,Sheet118!F8,Sheet119!F8,Sheet120!F8,Sheet121!F8,Sheet122!F8,Sheet123!F8,Sheet124!F8,Sheet125!F8,Sheet126!F8,Sheet127!F8,Sheet128!F8,Sheet129!F8,Sheet130!F8,Sheet131!F8,Sheet132!F8,Sheet133!F8,Sheet134!F8,Sheet135!F8,Sheet136!F8,Sheet137!F8,Sheet138!F8,Sheet139!F8,Sheet140!F8,Sheet141!F8,Sheet142!F8,Sheet143!F8,Sheet144!F8,Sheet145!F8,Sheet146!F8,Sheet147!F8,Sheet148!F8,Sheet149!F8,Sheet150!F8,Sheet151!F8,Sheet152!F8,Sheet153!F8,Sheet154!F8,Sheet155!F8,Sheet156!F8,Sheet157!F8,Sheet158!F8,Sheet159!F8,Sheet160!F8,Sheet161!F8,Sheet162!F8,Sheet163!F8,Sheet164!F8,Sheet165!F8,Sheet166!F8,Sheet167!F8,Sheet168!F8,Sheet169!F8,Sheet170!F8,Sheet171!F8,Sheet172!F8,Sheet173!F8,Sheet174!F8,Sheet175!F8,Sheet176!F8,Sheet177!F8,Sheet178!F8,Sheet179!F8,Sheet180!F8,Sheet181!F8,Sheet182!F8,Sheet183!F8,Sheet184!F8,Sheet185!F8,Sheet186!F8,Sheet187!F8,Sheet188!F8,Sheet189!F8,Sheet190!F8,Sheet191!F8,Sheet192!F8,Sheet193!F8,Sheet194!F8,Sheet195!F8,Sheet196!F8,Sheet197!F8,Sheet198!F8,Sheet199!F8,Sheet200!F8,Sheet201!F8,Sheet202!F8,Sheet203!F8,Sheet204!F8,Sheet205!F8,Sheet206!F8,Sheet207!F8,Sheet208!F8,Sheet209!F8,Sheet210!F8,Sheet211!F8,Sheet212!F8,Sheet213!F8,Sheet214!F8,Sheet215!F8,Sheet216!F8,Sheet217!F8,Sheet218!F8,Sheet219!F8,Sheet220!F8,Sheet221!F8,Sheet222!F8,Sheet223!F8,Sheet224!F8,Sheet225!F8,Sheet226!F8,Sheet227!F8,Sheet228!F8,Sheet229!F8,Sheet230!F8,Sheet231!F8,Sheet232!F8,Sheet233!F8,Sheet234!F8,Sheet235!F8,Sheet236!F8,Sheet237!F8,Sheet238!F8,Sheet239!F8,Sheet240!F8,Sheet241!F8,Sheet242!F8,Sheet243!F8,Sheet244!F8,Sheet245!F8,Sheet246!F8,Sheet247!F8,Sheet248!F8,Sheet249!F8,Sheet250!F8) -> 111 | G8: =SUM(sheet1!G8,Sheet2!G8,Sheet3!G8,Sheet4!G8,Sheet5!G8,Sheet6!G8,Sheet7!G8,Sheet8!G8,Sheet9!G8,Sheet10!G8,Sheet11!G8,Sheet12!G8,Sheet13!G8,Sheet14!G8,Sheet15!G8,Sheet16!G8,Sheet17!G8,Sheet18!G8,Sheet19!G8,Sheet20!G8,Sheet21!G8,Sheet22!G8,Sheet23!G8,Sheet24!G8,Sheet25!G8,Sheet26!G8,Sheet27!G8,Sheet28!G8,Sheet29!G8,Sheet30!G8,Sheet31!G8,Sheet32!G8,Sheet33!G8,Sheet34!G8,Sheet35!G8,Sheet36!G8,Sheet37!G8,Sheet38!G8,Sheet39!G8,Sheet40!G8,Sheet41!G8,Sheet42!G8,Sheet43!G8,Sheet44!G8,Sheet45!G8,Sheet46!G8,Sheet47!G8,Sheet48!G8,Sheet49!G8,Sheet50!G8,Sheet51!G8,Sheet52!G8,Sheet53!G8,Sheet54!G8,Sheet55!G8,Sheet56!G8,Sheet57!G8,Sheet58!G8,Sheet59!G8,Sheet60!G8,Sheet61!G8,Sheet62!G8,Sheet63!G8,Sheet64!G8,Sheet65!G8,Sheet66!G8,Sheet67!G8,Sheet68!G8,Sheet69!G8,Sheet70!G8,Sheet71!G8,Sheet72!G8,Sheet73!G8,Sheet74!G8,Sheet75!G8,Sheet76!G8,Sheet77!G8,Sheet78!G8,Sheet79!G8,Sheet80!G8,Sheet81!G8,Sheet82!G8,Sheet83!G8,Sheet84!G8,Sheet85!G8,Sheet86!G8,Sheet87!G8,Sheet88!G8,Sheet89!G8,Sheet90!G8,Sheet91!G8,Sheet92!G8,Sheet93!G8,Sheet94!G8,Sheet95!G8,Sheet96!G8,Sheet97!G8,Sheet98!G8,Sheet99!G8,Sheet100!G8,Sheet101!G8,Sheet102!G8,Sheet103!G8,Sheet104!G8,Sheet105!G8,Sheet106!G8,Sheet107!G8,Sheet108!G8,Sheet109!G8,Sheet110!G8,Sheet111!G8,Sheet112!G8,Sheet113!G8,Sheet114!G8,Sheet115!G8,Sheet116!G8,Sheet117!G8,Sheet118!G8,Sheet119!G8,Sheet120!G8,Sheet121!G8,Sheet122!G8,Sheet123!G8,Sheet124!G8,Sheet125!G8,Sheet126!G8,Sheet127!G8,Sheet128!G8,Sheet129!G8,Sheet130!G8,Sheet131!G8,Sheet132!G8,Sheet133!G8,Sheet134!G8,Sheet135!G8,Sheet136!G8,Sheet137!G8,Sheet138!G8,Sheet139!G8,Sheet140!G8,Sheet141!G8,Sheet142!G8,Sheet143!G8,Sheet144!G8,Sheet145!G8,Sheet146!G8,Sheet147!G8,Sheet148!G8,Sheet149!G8,Sheet150!G8,Sheet151!G8,Sheet152!G8,Sheet153!G8,Sheet154!G8,Sheet155!G8,Sheet156!G8,Sheet157!G8,Sheet158!G8,Sheet159!G8,Sheet160!G8,Sheet161!G8,Sheet162!G8,Sheet163!G8,Sheet164!G8,Sheet165!G8,Sheet166!G8,Sheet167!G8,Sheet168!G8,Sheet169!G8,Sheet170!G8,Sheet171!G8,Sheet172!G8,Sheet173!G8,Sheet174!G8,Sheet175!G8,Sheet176!G8,Sheet177!G8,Sheet178!G8,Sheet179!G8,Sheet180!G8,Sheet181!G8,Sheet182!G8,Sheet183!G8,Sheet184!G8,Sheet185!G8,Sheet186!G8,Sheet187!G8,Sheet188!G8,Sheet189!G8,Sheet190!G8,Sheet191!G8,Sheet192!G8,Sheet193!G8,Sheet194!G8,Sheet195!G8,Sheet196!G8,Sheet197!G8,Sheet198!G8,Sheet199!G8,Sheet200!G8,Sheet201!G8,Sheet202!G8,Sheet203!G8,Sheet204!G8,Sheet205!G8,Sheet206!G8,Sheet207!G8,Sheet208!G8,Sheet209!G8,Sheet210!G8,Sheet211!G8,Sheet212!G8,Sheet213!G8,Sheet214!G8,Sheet215!G8,Sheet216!G8,Sheet217!G8,Sheet218!G8,Sheet219!G8,Sheet220!G8,Sheet221!G8,Sheet222!G8,Sheet223!G8,Sheet224!G8,Sheet225!G8,Sheet226!G8,Sheet227!G8,Sheet228!G8,Sheet229!G8,Sheet230!G8,Sheet231!G8,Sheet232!G8,Sheet233!G8,Sheet234!G8,Sheet235!G8,Sheet236!G8,Sheet237!G8,Sheet238!G8,Sheet239!G8,Sheet240!G8,Sheet241!G8,Sheet242!G8,Sheet243!G8,Sheet244!G8,Sheet245!G8,Sheet246!G8,Sheet247!G8,Sheet248!G8,Sheet249!G8,Sheet250!G8) -> 0 | H8: =SUM(C8:G8) -> 446
B9: · 배달음식 주문 시 일회용 수저는 빼 달라고 요청하기 | C9: =SUM(sheet1!C9,Sheet2!C9,Sheet3!C9,Sheet4!C9,Sheet5!C9,Sheet6!C9,Sheet7!C9,Sheet8!C9,Sheet9!C9,Sheet10!C9,Sheet11!C9,Sheet12!C9,Sheet13!C9,Sheet14!C9,Sheet15!C9,Sheet16!C9,Sheet17!C9,Sheet18!C9,Sheet19!C9,Sheet20!C9,Sheet21!C9,Sheet22!C9,Sheet23!C9,Sheet24!C9,Sheet25!C9,Sheet26!C9,Sheet27!C9,Sheet28!C9,Sheet29!C9,Sheet30!C9,Sheet31!C9,Sheet32!C9,Sheet33!C9,Sheet34!C9,Sheet35!C9,Sheet36!C9,Sheet37!C9,Sheet38!C9,Sheet39!C9,Sheet40!C9,Sheet41!C9,Sheet42!C9,Sheet43!C9,Sheet44!C9,Sheet45!C9,Sheet46!C9,Sheet47!C9,Sheet48!C9,Sheet49!C9,Sheet50!C9,Sheet51!C9,Sheet52!C9,Sheet53!C9,Sheet54!C9,Sheet55!C9,Sheet56!C9,Sheet57!C9,Sheet58!C9,Sheet59!C9,Sheet60!C9,Sheet61!C9,Sheet62!C9,Sheet63!C9,Sheet64!C9,Sheet65!C9,Sheet66!C9,Sheet67!C9,Sheet68!C9,Sheet69!C9,Sheet70!C9,Sheet71!C9,Sheet72!C9,Sheet73!C9,Sheet74!C9,Sheet75!C9,Sheet76!C9,Sheet77!C9,Sheet78!C9,Sheet79!C9,Sheet80!C9,Sheet81!C9,Sheet82!C9,Sheet83!C9,Sheet84!C9,Sheet85!C9,Sheet86!C9,Sheet87!C9,Sheet88!C9,Sheet89!C9,Sheet90!C9,Sheet91!C9,Sheet92!C9,Sheet93!C9,Sheet94!C9,Sheet95!C9,Sheet96!C9,Sheet97!C9,Sheet98!C9,Sheet99!C9,Sheet100!C9,Sheet101!C9,Sheet102!C9,Sheet103!C9,Sheet104!C9,Sheet105!C9,Sheet106!C9,Sheet107!C9,Sheet108!C9,Sheet109!C9,Sheet110!C9,Sheet111!C9,Sheet112!C9,Sheet113!C9,Sheet114!C9,Sheet115!C9,Sheet116!C9,Sheet117!C9,Sheet118!C9,Sheet119!C9,Sheet120!C9,Sheet121!C9,Sheet122!C9,Sheet123!C9,Sheet124!C9,Sheet125!C9,Sheet126!C9,Sheet127!C9,Sheet128!C9,Sheet129!C9,Sheet130!C9,Sheet131!C9,Sheet132!C9,Sheet133!C9,Sheet134!C9,Sheet135!C9,Sheet136!C9,Sheet137!C9,Sheet138!C9,Sheet139!C9,Sheet140!C9,Sheet141!C9,Sheet142!C9,Sheet143!C9,Sheet144!C9,Sheet145!C9,Sheet146!C9,Sheet147!C9,Sheet148!C9,Sheet149!C9,Sheet150!C9,Sheet151!C9,Sheet152!C9,Sheet153!C9,Sheet154!C9,Sheet155!C9,Sheet156!C9,Sheet157!C9,Sheet158!C9,Sheet159!C9,Sheet160!C9,Sheet161!C9,Sheet162!C9,Sheet163!C9,Sheet164!C9,Sheet165!C9,Sheet166!C9,Sheet167!C9,Sheet168!C9,Sheet169!C9,Sheet170!C9,Sheet171!C9,Sheet172!C9,Sheet173!C9,Sheet174!C9,Sheet175!C9,Sheet176!C9,Sheet177!C9,Sheet178!C9,Sheet179!C9,Sheet180!C9,Sheet181!C9,Sheet182!C9,Sheet183!C9,Sheet184!C9,Sheet185!C9,Sheet186!C9,Sheet187!C9,Sheet188!C9,Sheet189!C9,Sheet190!C9,Sheet191!C9,Sheet192!C9,Sheet193!C9,Sheet194!C9,Sheet195!C9,Sheet196!C9,Sheet197!C9,Sheet198!C9,Sheet199!C9,Sheet200!C9,Sheet201!C9,Sheet202!C9,Sheet203!C9,Sheet204!C9,Sheet205!C9,Sheet206!C9,Sheet207!C9,Sheet208!C9,Sheet209!C9,Sheet210!C9,Sheet211!C9,Sheet212!C9,Sheet213!C9,Sheet214!C9,Sheet215!C9,Sheet216!C9,Sheet217!C9,Sheet218!C9,Sheet219!C9,Sheet220!C9,Sheet221!C9,Sheet222!C9,Sheet223!C9,Sheet224!C9,Sheet225!C9,Sheet226!C9,Sheet227!C9,Sheet228!C9,Sheet229!C9,Sheet230!C9,Sheet231!C9,Sheet232!C9,Sheet233!C9,Sheet234!C9,Sheet235!C9,Sheet236!C9,Sheet237!C9,Sheet238!C9,Sheet239!C9,Sheet240!C9,Sheet241!C9,Sheet242!C9,Sheet243!C9,Sheet244!C9,Sheet245!C9,Sheet246!C9,Sheet247!C9,Sheet248!C9,Sheet249!C9,Sheet250!C9) -> 6 | D9: =SUM(sheet1!D9,Sheet2!D9,Sheet3!D9,Sheet4!D9,Sheet5!D9,Sheet6!D9,Sheet7!D9,Sheet8!D9,Sheet9!D9,Sheet10!D9,Sheet11!D9,Sheet12!D9,Sheet13!D9,Sheet14!D9,Sheet15!D9,Sheet16!D9,Sheet17!D9,Sheet18!D9,Sheet19!D9,Sheet20!D9,Sheet21!D9,Sheet22!D9,Sheet23!D9,Sheet24!D9,Sheet25!D9,Sheet26!D9,Sheet27!D9,Sheet28!D9,Sheet29!D9,Sheet30!D9,Sheet31!D9,Sheet32!D9,Sheet33!D9,Sheet34!D9,Sheet35!D9,Sheet36!D9,Sheet37!D9,Sheet38!D9,Sheet39!D9,Sheet40!D9,Sheet41!D9,Sheet42!D9,Sheet43!D9,Sheet44!D9,Sheet45!D9,Sheet46!D9,Sheet47!D9,Sheet48!D9,Sheet49!D9,Sheet50!D9,Sheet51!D9,Sheet52!D9,Sheet53!D9,Sheet54!D9,Sheet55!D9,Sheet56!D9,Sheet57!D9,Sheet58!D9,Sheet59!D9,Sheet60!D9,Sheet61!D9,Sheet62!D9,Sheet63!D9,Sheet64!D9,Sheet65!D9,Sheet66!D9,Sheet67!D9,Sheet68!D9,Sheet69!D9,Sheet70!D9,Sheet71!D9,Sheet72!D9,Sheet73!D9,Sheet74!D9,Sheet75!D9,Sheet76!D9,Sheet77!D9,Sheet78!D9,Sheet79!D9,Sheet80!D9,Sheet81!D9,Sheet82!D9,Sheet83!D9,Sheet84!D9,Sheet85!D9,Sheet86!D9,Sheet87!D9,Sheet88!D9,Sheet89!D9,Sheet90!D9,Sheet91!D9,Sheet92!D9,Sheet93!D9,Sheet94!D9,Sheet95!D9,Sheet96!D9,Sheet97!D9,Sheet98!D9,Sheet99!D9,Sheet100!D9,Sheet101!D9,Sheet102!D9,Sheet103!D9,Sheet104!D9,Sheet105!D9,Sheet106!D9,Sheet107!D9,Sheet108!D9,Sheet109!D9,Sheet110!D9,Sheet111!D9,Sheet112!D9,Sheet113!D9,Sheet114!D9,Sheet115!D9,Sheet116!D9,Sheet117!D9,Sheet118!D9,Sheet119!D9,Sheet120!D9,Sheet121!D9,Sheet122!D9,Sheet123!D9,Sheet124!D9,Sheet125!D9,Sheet126!D9,Sheet127!D9,Sheet128!D9,Sheet129!D9,Sheet130!D9,Sheet131!D9,Sheet132!D9,Sheet133!D9,Sheet134!D9,Sheet135!D9,Sheet136!D9,Sheet137!D9,Sheet138!D9,Sheet139!D9,Sheet140!D9,Sheet141!D9,Sheet142!D9,Sheet143!D9,Sheet144!D9,Sheet145!D9,Sheet146!D9,Sheet147!D9,Sheet148!D9,Sheet149!D9,Sheet150!D9,Sheet151!D9,Sheet152!D9,Sheet153!D9,Sheet154!D9,Sheet155!D9,Sheet156!D9,Sheet157!D9,Sheet158!D9,Sheet159!D9,Sheet160!D9,Sheet161!D9,Sheet162!D9,Sheet163!D9,Sheet164!D9,Sheet165!D9,Sheet166!D9,Sheet167!D9,Sheet168!D9,Sheet169!D9,Sheet170!D9,Sheet171!D9,Sheet172!D9,Sheet173!D9,Sheet174!D9,Sheet175!D9,Sheet176!D9,Sheet177!D9,Sheet178!D9,Sheet179!D9,Sheet180!D9,Sheet181!D9,Sheet182!D9,Sheet183!D9,Sheet184!D9,Sheet185!D9,Sheet186!D9,Sheet187!D9,Sheet188!D9,Sheet189!D9,Sheet190!D9,Sheet191!D9,Sheet192!D9,Sheet193!D9,Sheet194!D9,Sheet195!D9,Sheet196!D9,Sheet197!D9,Sheet198!D9,Sheet199!D9,Sheet200!D9,Sheet201!D9,Sheet202!D9,Sheet203!D9,Sheet204!D9,Sheet205!D9,Sheet206!D9,Sheet207!D9,Sheet208!D9,Sheet209!D9,Sheet210!D9,Sheet211!D9,Sheet212!D9,Sheet213!D9,Sheet214!D9,Sheet215!D9,Sheet216!D9,Sheet217!D9,Sheet218!D9,Sheet219!D9,Sheet220!D9,Sheet221!D9,Sheet222!D9,Sheet223!D9,Sheet224!D9,Sheet225!D9,Sheet226!D9,Sheet227!D9,Sheet228!D9,Sheet229!D9,Sheet230!D9,Sheet231!D9,Sheet232!D9,Sheet233!D9,Sheet234!D9,Sheet235!D9,Sheet236!D9,Sheet237!D9,Sheet238!D9,Sheet239!D9,Sheet240!D9,Sheet241!D9,Sheet242!D9,Sheet243!D9,Sheet244!D9,Sheet245!D9,Sheet246!D9,Sheet247!D9,Sheet248!D9,Sheet249!D9,Sheet250!D9) -> 1 | E9: =SUM(sheet1!E9,Sheet2!E9,Sheet3!E9,Sheet4!E9,Sheet5!E9,Sheet6!E9,Sheet7!E9,Sheet8!E9,Sheet9!E9,Sheet10!E9,Sheet11!E9,Sheet12!E9,Sheet13!E9,Sheet14!E9,Sheet15!E9,Sheet16!E9,Sheet17!E9,Sheet18!E9,Sheet19!E9,Sheet20!E9,Sheet21!E9,Sheet22!E9,Sheet23!E9,Sheet24!E9,Sheet25!E9,Sheet26!E9,Sheet27!E9,Sheet28!E9,Sheet29!E9,Sheet30!E9,Sheet31!E9,Sheet32!E9,Sheet33!E9,Sheet34!E9,Sheet35!E9,Sheet36!E9,Sheet37!E9,Sheet38!E9,Sheet39!E9,Sheet40!E9,Sheet41!E9,Sheet42!E9,Sheet43!E9,Sheet44!E9,Sheet45!E9,Sheet46!E9,Sheet47!E9,Sheet48!E9,Sheet49!E9,Sheet50!E9,Sheet51!E9,Sheet52!E9,Sheet53!E9,Sheet54!E9,Sheet55!E9,Sheet56!E9,Sheet57!E9,Sheet58!E9,Sheet59!E9,Sheet60!E9,Sheet61!E9,Sheet62!E9,Sheet63!E9,Sheet64!E9,Sheet65!E9,Sheet66!E9,Sheet67!E9,Sheet68!E9,Sheet69!E9,Sheet70!E9,Sheet71!E9,Sheet72!E9,Sheet73!E9,Sheet74!E9,Sheet75!E9,Sheet76!E9,Sheet77!E9,Sheet78!E9,Sheet79!E9,Sheet80!E9,Sheet81!E9,Sheet82!E9,Sheet83!E9,Sheet84!E9,Sheet85!E9,Sheet86!E9,Sheet87!E9,Sheet88!E9,Sheet89!E9,Sheet90!E9,Sheet91!E9,Sheet92!E9,Sheet93!E9,Sheet94!E9,Sheet95!E9,Sheet96!E9,Sheet97!E9,Sheet98!E9,Sheet99!E9,Sheet100!E9,Sheet101!E9,Sheet102!E9,Sheet103!E9,Sheet104!E9,Sheet105!E9,Sheet106!E9,Sheet107!E9,Sheet108!E9,Sheet109!E9,Sheet110!E9,Sheet111!E9,Sheet112!E9,Sheet113!E9,Sheet114!E9,Sheet115!E9,Sheet116!E9,Sheet117!E9,Sheet118!E9,Sheet119!E9,Sheet120!E9,Sheet121!E9,Sheet122!E9,Sheet123!E9,Sheet124!E9,Sheet125!E9,Sheet126!E9,Sheet127!E9,Sheet128!E9,Sheet129!E9,Sheet130!E9,Sheet131!E9,Sheet132!E9,Sheet133!E9,Sheet134!E9,Sheet135!E9,Sheet136!E9,Sheet137!E9,Sheet138!E9,Sheet139!E9,Sheet140!E9,Sheet141!E9,Sheet142!E9,Sheet143!E9,Sheet144!E9,Sheet145!E9,Sheet146!E9,Sheet147!E9,Sheet148!E9,Sheet149!E9,Sheet150!E9,Sheet151!E9,Sheet152!E9,Sheet153!E9,Sheet154!E9,Sheet155!E9,Sheet156!E9,Sheet157!E9,Sheet158!E9,Sheet159!E9,Sheet160!E9,Sheet161!E9,Sheet162!E9,Sheet163!E9,Sheet164!E9,Sheet165!E9,Sheet166!E9,Sheet167!E9,Sheet168!E9,Sheet169!E9,Sheet170!E9,Sheet171!E9,Sheet172!E9,Sheet173!E9,Sheet174!E9,Sheet175!E9,Sheet176!E9,Sheet177!E9,Sheet178!E9,Sheet179!E9,Sheet180!E9,Sheet181!E9,Sheet182!E9,Sheet183!E9,Sheet184!E9,Sheet185!E9,Sheet186!E9,Sheet187!E9,Sheet188!E9,Sheet189!E9,Sheet190!E9,Sheet191!E9,Sheet192!E9,Sheet193!E9,Sheet194!E9,Sheet195!E9,Sheet196!E9,Sheet197!E9,Sheet198!E9,Sheet199!E9,Sheet200!E9,Sheet201!E9,Sheet202!E9,Sheet203!E9,Sheet204!E9,Sheet205!E9,Sheet206!E9,Sheet207!E9,Sheet208!E9,Sheet209!E9,Sheet210!E9,Sheet211!E9,Sheet212!E9,Sheet213!E9,Sheet214!E9,Sheet215!E9,Sheet216!E9,Sheet217!E9,Sheet218!E9,Sheet219!E9,Sheet220!E9,Sheet221!E9,Sheet222!E9,Sheet223!E9,Sheet224!E9,Sheet225!E9,Sheet226!E9,Sheet227!E9,Sheet228!E9,Sheet229!E9,Sheet230!E9,Sheet231!E9,Sheet232!E9,Sheet233!E9,Sheet234!E9,Sheet235!E9,Sheet236!E9,Sheet237!E9,Sheet238!E9,Sheet239!E9,Sheet240!E9,Sheet241!E9,Sheet242!E9,Sheet243!E9,Sheet244!E9,Sheet245!E9,Sheet246!E9,Sheet247!E9,Sheet248!E9,Sheet249!E9,Sheet250!E9) -> 1 | F9: =SUM(sheet1!F9,Sheet2!F9,Sheet3!F9,Sheet4!F9,Sheet5!F9,Sheet6!F9,Sheet7!F9,Sheet8!F9,Sheet9!F9,Sheet10!F9,Sheet11!F9,Sheet12!F9,Sheet13!F9,Sheet14!F9,Sheet15!F9,Sheet16!F9,Sheet17!F9,Sheet18!F9,Sheet19!F9,Sheet20!F9,Sheet21!F9,Sheet22!F9,Sheet23!F9,Sheet24!F9,Sheet25!F9,Sheet26!F9,Sheet27!F9,Sheet28!F9,Sheet29!F9,Sheet30!F9,Sheet31!F9,Sheet32!F9,Sheet33!F9,Sheet34!F9,Sheet35!F9,Sheet36!F9,Sheet37!F9,Sheet38!F9,Sheet39!F9,Sheet40!F9,Sheet41!F9,Sheet42!F9,Sheet43!F9,Sheet44!F9,Sheet45!F9,Sheet46!F9,Sheet47!F9,Sheet48!F9,Sheet49!F9,Sheet50!F9,Sheet51!F9,Sheet52!F9,Sheet53!F9,Sheet54!F9,Sheet55!F9,Sheet56!F9,Sheet57!F9,Sheet58!F9,Sheet59!F9,Sheet60!F9,Sheet61!F9,Sheet62!F9,Sheet63!F9,Sheet64!F9,Sheet65!F9,Sheet66!F9,Sheet67!F9,Sheet68!F9,Sheet69!F9,Sheet70!F9,Sheet71!F9,Sheet72!F9,Sheet73!F9,Sheet74!F9,Sheet75!F9,Sheet76!F9,Sheet77!F9,Sheet78!F9,Sheet79!F9,Sheet80!F9,Sheet81!F9,Sheet82!F9,Sheet83!F9,Sheet84!F9,Sheet85!F9,Sheet86!F9,Sheet87!F9,Sheet88!F9,Sheet89!F9,Sheet90!F9,Sheet91!F9,Sheet92!F9,Sheet93!F9,Sheet94!F9,Sheet95!F9,Sheet96!F9,Sheet97!F9,Sheet98!F9,Sheet99!F9,Sheet100!F9,Sheet101!F9,Sheet102!F9,Sheet103!F9,Sheet104!F9,Sheet105!F9,Sheet106!F9,Sheet107!F9,Sheet108!F9,Sheet109!F9,Sheet110!F9,Sheet111!F9,Sheet112!F9,Sheet113!F9,Sheet114!F9,Sheet115!F9,Sheet116!F9,Sheet117!F9,Sheet118!F9,Sheet119!F9,Sheet120!F9,Sheet121!F9,Sheet122!F9,Sheet123!F9,Sheet124!F9,Sheet125!F9,Sheet126!F9,Sheet127!F9,Sheet128!F9,Sheet129!F9,Sheet130!F9,Sheet131!F9,Sheet132!F9,Sheet133!F9,Sheet134!F9,Sheet135!F9,Sheet136!F9,Sheet137!F9,Sheet138!F9,Sheet139!F9,Sheet140!F9,Sheet141!F9,Sheet142!F9,Sheet143!F9,Sheet144!F9,Sheet145!F9,Sheet146!F9,Sheet147!F9,Sheet148!F9,Sheet149!F9,Sheet150!F9,Sheet151!F9,Sheet152!F9,Sheet153!F9,Sheet154!F9,Sheet155!F9,Sheet156!F9,Sheet157!F9,Sheet158!F9,Sheet159!F9,Sheet160!F9,Sheet161!F9,Sheet162!F9,Sheet163!F9,Sheet164!F9,Sheet165!F9,Sheet166!F9,Sheet167!F9,Sheet168!F9,Sheet169!F9,Sheet170!F9,Sheet171!F9,Sheet172!F9,Sheet173!F9,Sheet174!F9,Sheet175!F9,Sheet176!F9,Sheet177!F9,Sheet178!F9,Sheet179!F9,Sheet180!F9,Sheet181!F9,Sheet182!F9,Sheet183!F9,Sheet184!F9,Sheet185!F9,Sheet186!F9,Sheet187!F9,Sheet188!F9,Sheet189!F9,Sheet190!F9,Sheet191!F9,Sheet192!F9,Sheet193!F9,Sheet194!F9,Sheet195!F9,Sheet196!F9,Sheet197!F9,Sheet198!F9,Sheet199!F9,Sheet200!F9,Sheet201!F9,Sheet202!F9,Sheet203!F9,Sheet204!F9,Sheet205!F9,Sheet206!F9,Sheet207!F9,Sheet208!F9,Sheet209!F9,Sheet210!F9,Sheet211!F9,Sheet212!F9,Sheet213!F9,Sheet214!F9,Sheet215!F9,Sheet216!F9,Sheet217!F9,Sheet218!F9,Sheet219!F9,Sheet220!F9,Sheet221!F9,Sheet222!F9,Sheet223!F9,Sheet224!F9,Sheet225!F9,Sheet226!F9,Sheet227!F9,Sheet228!F9,Sheet229!F9,Sheet230!F9,Sheet231!F9,Sheet232!F9,Sheet233!F9,Sheet234!F9,Sheet235!F9,Sheet236!F9,Sheet237!F9,Sheet238!F9,Sheet239!F9,Sheet240!F9,Sheet241!F9,Sheet242!F9,Sheet243!F9,Sheet244!F9,Sheet245!F9,Sheet246!F9,Sheet247!F9,Sheet248!F9,Sheet249!F9,Sheet250!F9) -> 1 | G9: =SUM(sheet1!G9,Sheet2!G9,Sheet3!G9,Sheet4!G9,Sheet5!G9,Sheet6!G9,Sheet7!G9,Sheet8!G9,Sheet9!G9,Sheet10!G9,Sheet11!G9,Sheet12!G9,Sheet13!G9,Sheet14!G9,Sheet15!G9,Sheet16!G9,Sheet17!G9,Sheet18!G9,Sheet19!G9,Sheet20!G9,Sheet21!G9,Sheet22!G9,Sheet23!G9,Sheet24!G9,Sheet25!G9,Sheet26!G9,Sheet27!G9,Sheet28!G9,Sheet29!G9,Sheet30!G9,Sheet31!G9,Sheet32!G9,Sheet33!G9,Sheet34!G9,Sheet35!G9,Sheet36!G9,Sheet37!G9,Sheet38!G9,Sheet39!G9,Sheet40!G9,Sheet41!G9,Sheet42!G9,Sheet43!G9,Sheet44!G9,Sheet45!G9,Sheet46!G9,Sheet47!G9,Sheet48!G9,Sheet49!G9,Sheet50!G9,Sheet51!G9,Sheet52!G9,Sheet53!G9,Sheet54!G9,Sheet55!G9,Sheet56!G9,Sheet57!G9,Sheet58!G9,Sheet59!G9,Sheet60!G9,Sheet61!G9,Sheet62!G9,Sheet63!G9,Sheet64!G9,Sheet65!G9,Sheet66!G9,Sheet67!G9,Sheet68!G9,Sheet69!G9,Sheet70!G9,Sheet71!G9,Sheet72!G9,Sheet73!G9,Sheet74!G9,Sheet75!G9,Sheet76!G9,Sheet77!G9,Sheet78!G9,Sheet79!G9,Sheet80!G9,Sheet81!G9,Sheet82!G9,Sheet83!G9,Sheet84!G9,Sheet85!G9,Sheet86!G9,Sheet87!G9,Sheet88!G9,Sheet89!G9,Sheet90!G9,Sheet91!G9,Sheet92!G9,Sheet93!G9,Sheet94!G9,Sheet95!G9,Sheet96!G9,Sheet97!G9,Sheet98!G9,Sheet99!G9,Sheet100!G9,Sheet101!G9,Sheet102!G9,Sheet103!G9,Sheet104!G9,Sheet105!G9,Sheet106!G9,Sheet107!G9,Sheet108!G9,Sheet109!G9,Sheet110!G9,Sheet111!G9,Sheet112!G9,Sheet113!G9,Sheet114!G9,Sheet115!G9,Sheet116!G9,Sheet117!G9,Sheet118!G9,Sheet119!G9,Sheet120!G9,Sheet121!G9,Sheet122!G9,Sheet123!G9,Sheet124!G9,Sheet125!G9,Sheet126!G9,Sheet127!G9,Sheet128!G9,Sheet129!G9,Sheet130!G9,Sheet131!G9,Sheet132!G9,Sheet133!G9,Sheet134!G9,Sheet135!G9,Sheet136!G9,Sheet137!G9,Sheet138!G9,Sheet139!G9,Sheet140!G9,Sheet141!G9,Sheet142!G9,Sheet143!G9,Sheet144!G9,Sheet145!G9,Sheet146!G9,Sheet147!G9,Sheet148!G9,Sheet149!G9,Sheet150!G9,Sheet151!G9,Sheet152!G9,Sheet153!G9,Sheet154!G9,Sheet155!G9,Sheet156!G9,Sheet157!G9,Sheet158!G9,Sheet159!G9,Sheet160!G9,Sheet161!G9,Sheet162!G9,Sheet163!G9,Sheet164!G9,Sheet165!G9,Sheet166!G9,Sheet167!G9,Sheet168!G9,Sheet169!G9,Sheet170!G9,Sheet171!G9,Sheet172!G9,Sheet173!G9,Sheet174!G9,Sheet175!G9,Sheet176!G9,Sheet177!G9,Sheet178!G9,Sheet179!G9,Sheet180!G9,Sheet181!G9,Sheet182!G9,Sheet183!G9,Sheet184!G9,Sheet185!G9,Sheet186!G9,Sheet187!G9,Sheet188!G9,Sheet189!G9,Sheet190!G9,Sheet191!G9,Sheet192!G9,Sheet193!G9,Sheet194!G9,Sheet195!G9,Sheet196!G9,Sheet197!G9,Sheet198!G9,Sheet199!G9,Sheet200!G9,Sheet201!G9,Sheet202!G9,Sheet203!G9,Sheet204!G9,Sheet205!G9,Sheet206!G9,Sheet207!G9,Sheet208!G9,Sheet209!G9,Sheet210!G9,Sheet211!G9,Sheet212!G9,Sheet213!G9,Sheet214!G9,Sheet215!G9,Sheet216!G9,Sheet217!G9,Sheet218!G9,Sheet219!G9,Sheet220!G9,Sheet221!G9,Sheet222!G9,Sheet223!G9,Sheet224!G9,Sheet225!G9,Sheet226!G9,Sheet227!G9,Sheet228!G9,Sheet229!G9,Sheet230!G9,Sheet231!G9,Sheet232!G9,Sheet233!G9,Sheet234!G9,Sheet235!G9,Sheet236!G9,Sheet237!G9,Sheet238!G9,Sheet239!G9,Sheet240!G9,Sheet241!G9,Sheet242!G9,Sheet243!G9,Sheet244!G9,Sheet245!G9,Sheet246!G9,Sheet247!G9,Sheet248!G9,Sheet249!G9,Sheet250!G9) -> 0 | H9: =SUM(C9:G9) -> 9
B10: · 종이컵 거절(텀블러 휴대)하기 | C10: =SUM(sheet1!C10,Sheet2!C10,Sheet3!C10,Sheet4!C10,Sheet5!C10,Sheet6!C10,Sheet7!C10,Sheet8!C10,Sheet9!C10,Sheet10!C10,Sheet11!C10,Sheet12!C10,Sheet13!C10,Sheet14!C10,Sheet15!C10,Sheet16!C10,Sheet17!C10,Sheet18!C10,Sheet19!C10,Sheet20!C10,Sheet21!C10,Sheet22!C10,Sheet23!C10,Sheet24!C10,Sheet25!C10,Sheet26!C10,Sheet27!C10,Sheet28!C10,Sheet29!C10,Sheet30!C10,Sheet31!C10,Sheet32!C10,Sheet33!C10,Sheet34!C10,Sheet35!C10,Sheet36!C10,Sheet37!C10,Sheet38!C10,Sheet39!C10,Sheet40!C10,Sheet41!C10,Sheet42!C10,Sheet43!C10,Sheet44!C10,Sheet45!C10,Sheet46!C10,Sheet47!C10,Sheet48!C10,Sheet49!C10,Sheet50!C10,Sheet51!C10,Sheet52!C10,Sheet53!C10,Sheet54!C10,Sheet55!C10,Sheet56!C10,Sheet57!C10,Sheet58!C10,Sheet59!C10,Sheet60!C10,Sheet61!C10,Sheet62!C10,Sheet63!C10,Sheet64!C10,Sheet65!C10,Sheet66!C10,Sheet67!C10,Sheet68!C10,Sheet69!C10,Sheet70!C10,Sheet71!C10,Sheet72!C10,Sheet73!C10,Sheet74!C10,Sheet75!C10,Sheet76!C10,Sheet77!C10,Sheet78!C10,Sheet79!C10,Sheet80!C10,Sheet81!C10,Sheet82!C10,Sheet83!C10,Sheet84!C10,Sheet85!C10,Sheet86!C10,Sheet87!C10,Sheet88!C10,Sheet89!C10,Sheet90!C10,Sheet91!C10,Sheet92!C10,Sheet93!C10,Sheet94!C10,Sheet95!C10,Sheet96!C10,Sheet97!C10,Sheet98!C10,Sheet99!C10,Sheet100!C10,Sheet101!C10,Sheet102!C10,Sheet103!C10,Sheet104!C10,Sheet105!C10,Sheet106!C10,Sheet107!C10,Sheet108!C10,Sheet109!C10,Sheet110!C10,Sheet111!C10,Sheet112!C10,Sheet113!C10,Sheet114!C10,Sheet115!C10,Sheet116!C10,Sheet117!C10,Sheet118!C10,Sheet119!C10,Sheet120!C10,Sheet121!C10,Sheet122!C10,Sheet123!C10,Sheet124!C10,Sheet125!C10,Sheet126!C10,Sheet127!C10,Sheet128!C10,Sheet129!C10,Sheet130!C10,Sheet131!C10,Sheet132!C10,Sheet133!C10,Sheet134!C10,Sheet135!C10,Sheet136!C10,Sheet137!C10,Sheet138!C10,Sheet139!C10,Sheet140!C10,Sheet141!C10,Sheet142!C10,Sheet143!C10,Sheet144!C10,Sheet145!C10,Sheet146!C10,Sheet147!C10,Sheet148!C10,Sheet149!C10,Sheet150!C10,Sheet151!C10,Sheet152!C10,Sheet153!C10,Sheet154!C10,Sheet155!C10,Sheet156!C10,Sheet157!C10,Sheet158!C10,Sheet159!C10,Sheet160!C10,Sheet161!C10,Sheet162!C10,Sheet163!C10,Sheet164!C10,Sheet165!C10,Sheet166!C10,Sheet167!C10,Sheet168!C10,Sheet169!C10,Sheet170!C10,Sheet171!C10,Sheet172!C10,Sheet173!C10,Sheet174!C10,Sheet175!C10,Sheet176!C10,Sheet177!C10,Sheet178!C10,Sheet179!C10,Sheet180!C10,Sheet181!C10,Sheet182!C10,Sheet183!C10,Sheet184!C10,Sheet185!C10,Sheet186!C10,Sheet187!C10,Sheet188!C10,Sheet189!C10,Sheet190!C10,Sheet191!C10,Sheet192!C10,Sheet193!C10,Sheet194!C10,Sheet195!C10,Sheet196!C10,Sheet197!C10,Sheet198!C10,Sheet199!C10,Sheet200!C10,Sheet201!C10,Sheet202!C10,Sheet203!C10,Sheet204!C10,Sheet205!C10,Sheet206!C10,Sheet207!C10,Sheet208!C10,Sheet209!C10,Sheet210!C10,Sheet211!C10,Sheet212!C10,Sheet213!C10,Sheet214!C10,Sheet215!C10,Sheet216!C10,Sheet217!C10,Sheet218!C10,Sheet219!C10,Sheet220!C10,Sheet221!C10,Sheet222!C10,Sheet223!C10,Sheet224!C10,Sheet225!C10,Sheet226!C10,Sheet227!C10,Sheet228!C10,Sheet229!C10,Sheet230!C10,Sheet231!C10,Sheet232!C10,Sheet233!C10,Sheet234!C10,Sheet235!C10,Sheet236!C10,Sheet237!C10,Sheet238!C10,Sheet239!C10,Sheet240!C10,Sheet241!C10,Sheet242!C10,Sheet243!C10,Sheet244!C10,Sheet245!C10,Sheet246!C10,Sheet247!C10,Sheet248!C10,Sheet249!C10,Sheet250!C10) -> 99 | D10: =SUM(sheet1!D10,Sheet2!D10,Sheet3!D10,Sheet4!D10,Sheet5!D10,Sheet6!D10,Sheet7!D10,Sheet8!D10,Sheet9!D10,Sheet10!D10,Sheet11!D10,Sheet12!D10,Sheet13!D10,Sheet14!D10,Sheet15!D10,Sheet16!D10,Sheet17!D10,Sheet18!D10,Sheet19!D10,Sheet20!D10,Sheet21!D10,Sheet22!D10,Sheet23!D10,Sheet24!D10,Sheet25!D10,Sheet26!D10,Sheet27!D10,Sheet28!D10,Sheet29!D10,Sheet30!D10,Sheet31!D10,Sheet32!D10,Sheet33!D10,Sheet34!D10,Sheet35!D10,Sheet36!D10,Sheet37!D10,Sheet38!D10,Sheet39!D10,Sheet40!D10,Sheet41!D10,Sheet42!D10,Sheet43!D10,Sheet44!D10,Sheet45!D10,Sheet46!D10,Sheet47!D10,Sheet48!D10,Sheet49!D10,Sheet50!D10,Sheet51!D10,Sheet52!D10,Sheet53!D10,Sheet54!D10,Sheet55!D10,Sheet56!D10,Sheet57!D10,Sheet58!D10,Sheet59!D10,Sheet60!D10,Sheet61!D10,Sheet62!D10,Sheet63!D10,Sheet64!D10,Sheet65!D10,Sheet66!D10,Sheet67!D10,Sheet68!D10,Sheet69!D10,Sheet70!D10,Sheet71!D10,Sheet72!D10,Sheet73!D10,Sheet74!D10,Sheet75!D10,Sheet76!D10,Sheet77!D10,Sheet78!D10,Sheet79!D10,Sheet80!D10,Sheet81!D10,Sheet82!D10,Sheet83!D10,Sheet84!D10,Sheet85!D10,Sheet86!D10,Sheet87!D10,Sheet88!D10,Sheet89!D10,Sheet90!D10,Sheet91!D10,Sheet92!D10,Sheet93!D10,Sheet94!D10,Sheet95!D10,Sheet96!D10,Sheet97!D10,Sheet98!D10,Sheet99!D10,Sheet100!D10,Sheet101!D10,Sheet102!D10,Sheet103!D10,Sheet104!D10,Sheet105!D10,Sheet106!D10,Sheet107!D10,Sheet108!D10,Sheet109!D10,Sheet110!D10,Sheet111!D10,Sheet112!D10,Sheet113!D10,Sheet114!D10,Sheet115!D10,Sheet116!D10,Sheet117!D10,Sheet118!D10,Sheet119!D10,Sheet120!D10,Sheet121!D10,Sheet122!D10,Sheet123!D10,Sheet124!D10,Sheet125!D10,Sheet126!D10,Sheet127!D10,Sheet128!D10,Sheet129!D10,Sheet130!D10,Sheet131!D10,Sheet132!D10,Sheet133!D10,Sheet134!D10,Sheet135!D10,Sheet136!D10,Sheet137!D10,Sheet138!D10,Sheet139!D10,Sheet140!D10,Sheet141!D10,Sheet142!D10,Sheet143!D10,Sheet144!D10,Sheet145!D10,Sheet146!D10,Sheet147!D10,Sheet148!D10,Sheet149!D10,Sheet150!D10,Sheet151!D10,Sheet152!D10,Sheet153!D10,Sheet154!D10,Sheet155!D10,Sheet156!D10,Sheet157!D10,Sheet158!D10,Sheet159!D10,Sheet160!D10,Sheet161!D10,Sheet162!D10,Sheet163!D10,Sheet164!D10,Sheet165!D10,Sheet166!D10,Sheet167!D10,Sheet168!D10,Sheet169!D10,Sheet170!D10,Sheet171!D10,Sheet172!D10,Sheet173!D10,Sheet174!D10,Sheet175!D10,Sheet176!D10,Sheet177!D10,Sheet178!D10,Sheet179!D10,Sheet180!D10,Sheet181!D10,Sheet182!D10,Sheet183!D10,Sheet184!D10,Sheet185!D10,Sheet186!D10,Sheet187!D10,Sheet188!D10,Sheet189!D10,Sheet190!D10,Sheet191!D10,Sheet192!D10,Sheet193!D10,Sheet194!D10,Sheet195!D10,Sheet196!D10,Sheet197!D10,Sheet198!D10,Sheet199!D10,Sheet200!D10,Sheet201!D10,Sheet202!D10,Sheet203!D10,Sheet204!D10,Sheet205!D10,Sheet206!D10,Sheet207!D10,Sheet208!D10,Sheet209!D10,Sheet210!D10,Sheet211!D10,Sheet212!D10,Sheet213!D10,Sheet214!D10,Sheet215!D10,Sheet216!D10,Sheet217!D10,Sheet218!D10,Sheet219!D10,Sheet220!D10,Sheet221!D10,Sheet222!D10,Sheet223!D10,Sheet224!D10,Sheet225!D10,Sheet226!D10,Sheet227!D10,Sheet228!D10,Sheet229!D10,Sheet230!D10,Sheet231!D10,Sheet232!D10,Sheet233!D10,Sheet234!D10,Sheet235!D10,Sheet236!D10,Sheet237!D10,Sheet238!D10,Sheet239!D10,Sheet240!D10,Sheet241!D10,Sheet242!D10,Sheet243!D10,Sheet244!D10,Sheet245!D10,Sheet246!D10,Sheet247!D10,Sheet248!D10,Sheet249!D10,Sheet250!D10) -> 84 | E10: =SUM(sheet1!E10,Sheet2!E10,Sheet3!E10,Sheet4!E10,Sheet5!E10,Sheet6!E10,Sheet7!E10,Sheet8!E10,Sheet9!E10,Sheet10!E10,Sheet11!E10,Sheet12!E10,Sheet13!E10,Sheet14!E10,Sheet15!E10,Sheet16!E10,Sheet17!E10,Sheet18!E10,Sheet19!E10,Sheet20!E10,Sheet21!E10,Sheet22!E10,Sheet23!E10,Sheet24!E10,Sheet25!E10,Sheet26!E10,Sheet27!E10,Sheet28!E10,Sheet29!E10,Sheet30!E10,Sheet31!E10,Sheet32!E10,Sheet33!E10,Sheet34!E10,Sheet35!E10,Sheet36!E10,Sheet37!E10,Sheet38!E10,Sheet39!E10,Sheet40!E10,Sheet41!E10,Sheet42!E10,Sheet43!E10,Sheet44!E10,Sheet45!E10,Sheet46!E10,Sheet47!E10,Sheet48!E10,Sheet49!E10,Sheet50!E10,Sheet51!E10,Sheet52!E10,Sheet53!E10,Sheet54!E10,Sheet55!E10,Sheet56!E10,Sheet57!E10,Sheet58!E10,Sheet59!E10,Sheet60!E10,Sheet61!E10,Sheet62!E10,Sheet63!E10,Sheet64!E10,Sheet65!E10,Sheet66!E10,Sheet67!E10,Sheet68!E10,Sheet69!E10,Sheet70!E10,Sheet71!E10,Sheet72!E10,Sheet73!E10,Sheet74!E10,Sheet75!E10,Sheet76!E10,Sheet77!E10,Sheet78!E10,Sheet79!E10,Sheet80!E10,Sheet81!E10,Sheet82!E10,Sheet83!E10,Sheet84!E10,Sheet85!E10,Sheet86!E10,Sheet87!E10,Sheet88!E10,Sheet89!E10,Sheet90!E10,Sheet91!E10,Sheet92!E10,Sheet93!E10,Sheet94!E10,Sheet95!E10,Sheet96!E10,Sheet97!E10,Sheet98!E10,Sheet99!E10,Sheet100!E10,Sheet101!E10,Sheet102!E10,Sheet103!E10,Sheet104!E10,Sheet105!E10,Sheet106!E10,Sheet107!E10,Sheet108!E10,Sheet109!E10,Sheet110!E10,Sheet111!E10,Sheet112!E10,Sheet113!E10,Sheet114!E10,Sheet115!E10,Sheet116!E10,Sheet117!E10,Sheet118!E10,Sheet119!E10,Sheet120!E10,Sheet121!E10,Sheet122!E10,Sheet123!E10,Sheet124!E10,Sheet125!E10,Sheet126!E10,Sheet127!E10,Sheet128!E10,Sheet129!E10,Sheet130!E10,Sheet131!E10,Sheet132!E10,Sheet133!E10,Sheet134!E10,Sheet135!E10,Sheet136!E10,Sheet137!E10,Sheet138!E10,Sheet139!E10,Sheet140!E10,Sheet141!E10,Sheet142!E10,Sheet143!E10,Sheet144!E10,Sheet145!E10,Sheet146!E10,Sheet147!E10,Sheet148!E10,Sheet149!E10,Sheet150!E10,Sheet151!E10,Sheet152!E10,Sheet153!E10,Sheet154!E10,Sheet155!E10,Sheet156!E10,Sheet157!E10,Sheet158!E10,Sheet159!E10,Sheet160!E10,Sheet161!E10,Sheet162!E10,Sheet163!E10,Sheet164!E10,Sheet165!E10,Sheet166!E10,Sheet167!E10,Sheet168!E10,Sheet169!E10,Sheet170!E10,Sheet171!E10,Sheet172!E10,Sheet173!E10,Sheet174!E10,Sheet175!E10,Sheet176!E10,Sheet177!E10,Sheet178!E10,Sheet179!E10,Sheet180!E10,Sheet181!E10,Sheet182!E10,Sheet183!E10,Sheet184!E10,Sheet185!E10,Sheet186!E10,Sheet187!E10,Sheet188!E10,Sheet189!E10,Sheet190!E10,Sheet191!E10,Sheet192!E10,Sheet193!E10,Sheet194!E10,Sheet195!E10,Sheet196!E10,Sheet197!E10,Sheet198!E10,Sheet199!E10,Sheet200!E10,Sheet201!E10,Sheet202!E10,Sheet203!E10,Sheet204!E10,Sheet205!E10,Sheet206!E10,Sheet207!E10,Sheet208!E10,Sheet209!E10,Sheet210!E10,Sheet211!E10,Sheet212!E10,Sheet213!E10,Sheet214!E10,Sheet215!E10,Sheet216!E10,Sheet217!E10,Sheet218!E10,Sheet219!E10,Sheet220!E10,Sheet221!E10,Sheet222!E10,Sheet223!E10,Sheet224!E10,Sheet225!E10,Sheet226!E10,Sheet227!E10,Sheet228!E10,Sheet229!E10,Sheet230!E10,Sheet231!E10,Sheet232!E10,Sheet233!E10,Sheet234!E10,Sheet235!E10,Sheet236!E10,Sheet237!E10,Sheet238!E10,Sheet239!E10,Sheet240!E10,Sheet241!E10,Sheet242!E10,Sheet243!E10,Sheet244!E10,Sheet245!E10,Sheet246!E10,Sheet247!E10,Sheet248!E10,Sheet249!E10,Sheet250!E10) -> 89 | F10: =SUM(sheet1!F10,Sheet2!F10,Sheet3!F10,Sheet4!F10,Sheet5!F10,Sheet6!F10,Sheet7!F10,Sheet8!F10,Sheet9!F10,Sheet10!F10,Sheet11!F10,Sheet12!F10,Sheet13!F10,Sheet14!F10,Sheet15!F10,Sheet16!F10,Sheet17!F10,Sheet18!F10,Sheet19!F10,Sheet20!F10,Sheet21!F10,Sheet22!F10,Sheet23!F10,Sheet24!F10,Sheet25!F10,Sheet26!F10,Sheet27!F10,Sheet28!F10,Sheet29!F10,Sheet30!F10,Sheet31!F10,Sheet32!F10,Sheet33!F10,Sheet34!F10,Sheet35!F10,Sheet36!F10,Sheet37!F10,Sheet38!F10,Sheet39!F10,Sheet40!F10,Sheet41!F10,Sheet42!F10,Sheet43!F10,Sheet44!F10,Sheet45!F10,Sheet46!F10,Sheet47!F10,Sheet48!F10,Sheet49!F10,Sheet50!F10,Sheet51!F10,Sheet52!F10,Sheet53!F10,Sheet54!F10,Sheet55!F10,Sheet56!F10,Sheet57!F10,Sheet58!F10,Sheet59!F10,Sheet60!F10,Sheet61!F10,Sheet62!F10,Sheet63!F10,Sheet64!F10,Sheet65!F10,Sheet66!F10,Sheet67!F10,Sheet68!F10,Sheet69!F10,Sheet70!F10,Sheet71!F10,Sheet72!F10,Sheet73!F10,Sheet74!F10,Sheet75!F10,Sheet76!F10,Sheet77!F10,Sheet78!F10,Sheet79!F10,Sheet80!F10,Sheet81!F10,Sheet82!F10,Sheet83!F10,Sheet84!F10,Sheet85!F10,Sheet86!F10,Sheet87!F10,Sheet88!F10,Sheet89!F10,Sheet90!F10,Sheet91!F10,Sheet92!F10,Sheet93!F10,Sheet94!F10,Sheet95!F10,Sheet96!F10,Sheet97!F10,Sheet98!F10,Sheet99!F10,Sheet100!F10,Sheet101!F10,Sheet102!F10,Sheet103!F10,Sheet104!F10,Sheet105!F10,Sheet106!F10,Sheet107!F10,Sheet108!F10,Sheet109!F10,Sheet110!F10,Sheet111!F10,Sheet112!F10,Sheet113!F10,Sheet114!F10,Sheet115!F10,Sheet116!F10,Sheet117!F10,Sheet118!F10,Sheet119!F10,Sheet120!F10,Sheet121!F10,Sheet122!F10,Sheet123!F10,Sheet124!F10,Sheet125!F10,Sheet126!F10,Sheet127!F10,Sheet128!F10,Sheet129!F10,Sheet130!F10,Sheet131!F10,Sheet132!F10,Sheet133!F10,Sheet134!F10,Sheet135!F10,Sheet136!F10,Sheet137!F10,Sheet138!F10,Sheet139!F10,Sheet140!F10,Sheet141!F10,Sheet142!F10,Sheet143!F10,Sheet144!F10,Sheet145!F10,Sheet146!F10,Sheet147!F10,Sheet148!F10,Sheet149!F10,Sheet150!F10,Sheet151!F10,Sheet152!F10,Sheet153!F10,Sheet154!F10,Sheet155!F10,Sheet156!F10,Sheet157!F10,Sheet158!F10,Sheet159!F10,Sheet160!F10,Sheet161!F10,Sheet162!F10,Sheet163!F10,Sheet164!F10,Sheet165!F10,Sheet166!F10,Sheet167!F10,Sheet168!F10,Sheet169!F10,Sheet170!F10,Sheet171!F10,Sheet172!F10,Sheet173!F10,Sheet174!F10,Sheet175!F10,Sheet176!F10,Sheet177!F10,Sheet178!F10,Sheet179!F10,Sheet180!F10,Sheet181!F10,Sheet182!F10,Sheet183!F10,Sheet184!F10,Sheet185!F10,Sheet186!F10,Sheet187!F10,Sheet188!F10,Sheet189!F10,Sheet190!F10,Sheet191!F10,Sheet192!F10,Sheet193!F10,Sheet194!F10,Sheet195!F10,Sheet196!F10,Sheet197!F10,Sheet198!F10,Sheet199!F10,Sheet200!F10,Sheet201!F10,Sheet202!F10,Sheet203!F10,Sheet204!F10,Sheet205!F10,Sheet206!F10,Sheet207!F10,Sheet208!F10,Sheet209!F10,Sheet210!F10,Sheet211!F10,Sheet212!F10,Sheet213!F10,Sheet214!F10,Sheet215!F10,Sheet216!F10,Sheet217!F10,Sheet218!F10,Sheet219!F10,Sheet220!F10,Sheet221!F10,Sheet222!F10,Sheet223!F10,Sheet224!F10,Sheet225!F10,Sheet226!F10,Sheet227!F10,Sheet228!F10,Sheet229!F10,Sheet230!F10,Sheet231!F10,Sheet232!F10,Sheet233!F10,Sheet234!F10,Sheet235!F10,Sheet236!F10,Sheet237!F10,Sheet238!F10,Sheet239!F10,Sheet240!F10,Sheet241!F10,Sheet242!F10,Sheet243!F10,Sheet244!F10,Sheet245!F10,Sheet246!F10,Sheet247!F10,Sheet248!F10,Sheet249!F10,Sheet250!F10) -> 90 | G10: =SUM(sheet1!G10,Sheet2!G10,Sheet3!G10,Sheet4!G10,Sheet5!G10,Sheet6!G10,Sheet7!G10,Sheet8!G10,Sheet9!G10,Sheet10!G10,Sheet11!G10,Sheet12!G10,Sheet13!G10,Sheet14!G10,Sheet15!G10,Sheet16!G10,Sheet17!G10,Sheet18!G10,Sheet19!G10,Sheet20!G10,Sheet21!G10,Sheet22!G10,Sheet23!G10,Sheet24!G10,Sheet25!G10,Sheet26!G10,Sheet27!G10,Sheet28!G10,Sheet29!G10,Sheet30!G10,Sheet31!G10,Sheet32!G10,Sheet33!G10,Sheet34!G10,Sheet35!G10,Sheet36!G10,Sheet37!G10,Sheet38!G10,Sheet39!G10,Sheet40!G10,Sheet41!G10,Sheet42!G10,Sheet43!G10,Sheet44!G10,Sheet45!G10,Sheet46!G10,Sheet47!G10,Sheet48!G10,Sheet49!G10,Sheet50!G10,Sheet51!G10,Sheet52!G10,Sheet53!G10,Sheet54!G10,Sheet55!G10,Sheet56!G10,Sheet57!G10,Sheet58!G10,Sheet59!G10,Sheet60!G10,Sheet61!G10,Sheet62!G10,Sheet63!G10,Sheet64!G10,Sheet65!G10,Sheet66!G10,Sheet67!G10,Sheet68!G10,Sheet69!G10,Sheet70!G10,Sheet71!G10,Sheet72!G10,Sheet73!G10,Sheet74!G10,Sheet75!G10,Sheet76!G10,Sheet77!G10,Sheet78!G10,Sheet79!G10,Sheet80!G10,Sheet81!G10,Sheet82!G10,Sheet83!G10,Sheet84!G10,Sheet85!G10,Sheet86!G10,Sheet87!G10,Sheet88!G10,Sheet89!G10,Sheet90!G10,Sheet91!G10,Sheet92!G10,Sheet93!G10,Sheet94!G10,Sheet95!G10,Sheet96!G10,Sheet97!G10,Sheet98!G10,Sheet99!G10,Sheet100!G10,Sheet101!G10,Sheet102!G10,Sheet103!G10,Sheet104!G10,Sheet105!G10,Sheet106!G10,Sheet107!G10,Sheet108!G10,Sheet109!G10,Sheet110!G10,Sheet111!G10,Sheet112!G10,Sheet113!G10,Sheet114!G10,Sheet115!G10,Sheet116!G10,Sheet117!G10,Sheet118!G10,Sheet119!G10,Sheet120!G10,Sheet121!G10,Sheet122!G10,Sheet123!G10,Sheet124!G10,Sheet125!G10,Sheet126!G10,Sheet127!G10,Sheet128!G10,Sheet129!G10,Sheet130!G10,Sheet131!G10,Sheet132!G10,Sheet133!G10,Sheet134!G10,Sheet135!G10,Sheet136!G10,Sheet137!G10,Sheet138!G10,Sheet139!G10,Sheet140!G10,Sheet141!G10,Sheet142!G10,Sheet143!G10,Sheet144!G10,Sheet145!G10,Sheet146!G10,Sheet147!G10,Sheet148!G10,Sheet149!G10,Sheet150!G10,Sheet151!G10,Sheet152!G10,Sheet153!G10,Sheet154!G10,Sheet155!G10,Sheet156!G10,Sheet157!G10,Sheet158!G10,Sheet159!G10,Sheet160!G10,Sheet161!G10,Sheet162!G10,Sheet163!G10,Sheet164!G10,Sheet165!G10,Sheet166!G10,Sheet167!G10,Sheet168!G10,Sheet169!G10,Sheet170!G10,Sheet171!G10,Sheet172!G10,Sheet173!G10,Sheet174!G10,Sheet175!G10,Sheet176!G10,Sheet177!G10,Sheet178!G10,Sheet179!G10,Sheet180!G10,Sheet181!G10,Sheet182!G10,Sheet183!G10,Sheet184!G10,Sheet185!G10,Sheet186!G10,Sheet187!G10,Sheet188!G10,Sheet189!G10,Sheet190!G10,Sheet191!G10,Sheet192!G10,Sheet193!G10,Sheet194!G10,Sheet195!G10,Sheet196!G10,Sheet197!G10,Sheet198!G10,Sheet199!G10,Sheet200!G10,Sheet201!G10,Sheet202!G10,Sheet203!G10,Sheet204!G10,Sheet205!G10,Sheet206!G10,Sheet207!G10,Sheet208!G10,Sheet209!G10,Sheet210!G10,Sheet211!G10,Sheet212!G10,Sheet213!G10,Sheet214!G10,Sheet215!G10,Sheet216!G10,Sheet217!G10,Sheet218!G10,Sheet219!G10,Sheet220!G10,Sheet221!G10,Sheet222!G10,Sheet223!G10,Sheet224!G10,Sheet225!G10,Sheet226!G10,Sheet227!G10,Sheet228!G10,Sheet229!G10,Sheet230!G10,Sheet231!G10,Sheet232!G10,Sheet233!G10,Sheet234!G10,Sheet235!G10,Sheet236!G10,Sheet237!G10,Sheet238!G10,Sheet239!G10,Sheet240!G10,Sheet241!G10,Sheet242!G10,Sheet243!G10,Sheet244!G10,Sheet245!G10,Sheet246!G10,Sheet247!G10,Sheet248!G10,Sheet249!G10,Sheet250!G10) -> 0 | H10: =SUM(C10:G10) -> 362
B11: · 비닐·랩 거절(다회용기 사용)하기 | C11: =SUM(sheet1!C11,Sheet2!C11,Sheet3!C11,Sheet4!C11,Sheet5!C11,Sheet6!C11,Sheet7!C11,Sheet8!C11,Sheet9!C11,Sheet10!C11,Sheet11!C11,Sheet12!C11,Sheet13!C11,Sheet14!C11,Sheet15!C11,Sheet16!C11,Sheet17!C11,Sheet18!C11,Sheet19!C11,Sheet20!C11,Sheet21!C11,Sheet22!C11,Sheet23!C11,Sheet24!C11,Sheet25!C11,Sheet26!C11,Sheet27!C11,Sheet28!C11,Sheet29!C11,Sheet30!C11,Sheet31!C11,Sheet32!C11,Sheet33!C11,Sheet34!C11,Sheet35!C11,Sheet36!C11,Sheet37!C11,Sheet38!C11,Sheet39!C11,Sheet40!C11,Sheet41!C11,Sheet42!C11,Sheet43!C11,Sheet44!C11,Sheet45!C11,Sheet46!C11,Sheet47!C11,Sheet48!C11,Sheet49!C11,Sheet50!C11,Sheet51!C11,Sheet52!C11,Sheet53!C11,Sheet54!C11,Sheet55!C11,Sheet56!C11,Sheet57!C11,Sheet58!C11,Sheet59!C11,Sheet60!C11,Sheet61!C11,Sheet62!C11,Sheet63!C11,Sheet64!C11,Sheet65!C11,Sheet66!C11,Sheet67!C11,Sheet68!C11,Sheet69!C11,Sheet70!C11,Sheet71!C11,Sheet72!C11,Sheet73!C11,Sheet74!C11,Sheet75!C11,Sheet76!C11,Sheet77!C11,Sheet78!C11,Sheet79!C11,Sheet80!C11,Sheet81!C11,Sheet82!C11,Sheet83!C11,Sheet84!C11,Sheet85!C11,Sheet86!C11,Sheet87!C11,Sheet88!C11,Sheet89!C11,Sheet90!C11,Sheet91!C11,Sheet92!C11,Sheet93!C11,Sheet94!C11,Sheet95!C11,Sheet96!C11,Sheet97!C11,Sheet98!C11,Sheet99!C11,Sheet100!C11,Sheet101!C11,Sheet102!C11,Sheet103!C11,Sheet104!C11,Sheet105!C11,Sheet106!C11,Sheet107!C11,Sheet108!C11,Sheet109!C11,Sheet110!C11,Sheet111!C11,Sheet112!C11,Sheet113!C11,Sheet114!C11,Sheet115!C11,Sheet116!C11,Sheet117!C11,Sheet118!C11,Sheet119!C11,Sheet120!C11,Sheet121!C11,Sheet122!C11,Sheet123!C11,Sheet124!C11,Sheet125!C11,Sheet126!C11,Sheet127!C11,Sheet128!C11,Sheet129!C11,Sheet130!C11,Sheet131!C11,Sheet132!C11,Sheet133!C11,Sheet134!C11,Sheet135!C11,Sheet136!C11,Sheet137!C11,Sheet138!C11,Sheet139!C11,Sheet140!C11,Sheet141!C11,Sheet142!C11,Sheet143!C11,Sheet144!C11,Sheet145!C11,Sheet146!C11,Sheet147!C11,Sheet148!C11,Sheet149!C11,Sheet150!C11,Sheet151!C11,Sheet152!C11,Sheet153!C11,Sheet154!C11,Sheet155!C11,Sheet156!C11,Sheet157!C11,Sheet158!C11,Sheet159!C11,Sheet160!C11,Sheet161!C11,Sheet162!C11,Sheet163!C11,Sheet164!C11,Sheet165!C11,Sheet166!C11,Sheet167!C11,Sheet168!C11,Sheet169!C11,Sheet170!C11,Sheet171!C11,Sheet172!C11,Sheet173!C11,Sheet174!C11,Sheet175!C11,Sheet176!C11,Sheet177!C11,Sheet178!C11,Sheet179!C11,Sheet180!C11,Sheet181!C11,Sheet182!C11,Sheet183!C11,Sheet184!C11,Sheet185!C11,Sheet186!C11,Sheet187!C11,Sheet188!C11,Sheet189!C11,Sheet190!C11,Sheet191!C11,Sheet192!C11,Sheet193!C11,Sheet194!C11,Sheet195!C11,Sheet196!C11,Sheet197!C11,Sheet198!C11,Sheet199!C11,Sheet200!C11,Sheet201!C11,Sheet202!C11,Sheet203!C11,Sheet204!C11,Sheet205!C11,Sheet206!C11,Sheet207!C11,Sheet208!C11,Sheet209!C11,Sheet210!C11,Sheet211!C11,Sheet212!C11,Sheet213!C11,Sheet214!C11,Sheet215!C11,Sheet216!C11,Sheet217!C11,Sheet218!C11,Sheet219!C11,Sheet220!C11,Sheet221!C11,Sheet222!C11,Sheet223!C11,Sheet224!C11,Sheet225!C11,Sheet226!C11,Sheet227!C11,Sheet228!C11,Sheet229!C11,Sheet230!C11,Sheet231!C11,Sheet232!C11,Sheet233!C11,Sheet234!C11,Sheet235!C11,Sheet236!C11,Sheet237!C11,Sheet238!C11,Sheet239!C11,Sheet240!C11,Sheet241!C11,Sheet242!C11,Sheet243!C11,Sheet244!C11,Sheet245!C11,Sheet246!C11,Sheet247!C11,Sheet248!C11,Sheet249!C11,Sheet250!C11) -> 32 | D11: =SUM(sheet1!D11,Sheet2!D11,Sheet3!D11,Sheet4!D11,Sheet5!D11,Sheet6!D11,Sheet7!D11,Sheet8!D11,Sheet9!D11,Sheet10!D11,Sheet11!D11,Sheet12!D11,Sheet13!D11,Sheet14!D11,Sheet15!D11,Sheet16!D11,Sheet17!D11,Sheet18!D11,Sheet19!D11,Sheet20!D11,Sheet21!D11,Sheet22!D11,Sheet23!D11,Sheet24!D11,Sheet25!D11,Sheet26!D11,Sheet27!D11,Sheet28!D11,Sheet29!D11,Sheet30!D11,Sheet31!D11,Sheet32!D11,Sheet33!D11,Sheet34!D11,Sheet35!D11,Sheet36!D11,Sheet37!D11,Sheet38!D11,Sheet39!D11,Sheet40!D11,Sheet41!D11,Sheet42!D11,Sheet43!D11,Sheet44!D11,Sheet45!D11,Sheet46!D11,Sheet47!D11,Sheet48!D11,Sheet49!D11,Sheet50!D11,Sheet51!D11,Sheet52!D11,Sheet53!D11,Sheet54!D11,Sheet55!D11,Sheet56!D11,Sheet57!D11,Sheet58!D11,Sheet59!D11,Sheet60!D11,Sheet61!D11,Sheet62!D11,Sheet63!D11,Sheet64!D11,Sheet65!D11,Sheet66!D11,Sheet67!D11,Sheet68!D11,Sheet69!D11,Sheet70!D11,Sheet71!D11,Sheet72!D11,Sheet73!D11,Sheet74!D11,Sheet75!D11,Sheet76!D11,Sheet77!D11,Sheet78!D11,Sheet79!D11,Sheet80!D11,Sheet81!D11,Sheet82!D11,Sheet83!D11,Sheet84!D11,Sheet85!D11,Sheet86!D11,Sheet87!D11,Sheet88!D11,Sheet89!D11,Sheet90!D11,Sheet91!D11,Sheet92!D11,Sheet93!D11,Sheet94!D11,Sheet95!D11,Sheet96!D11,Sheet97!D11,Sheet98!D11,Sheet99!D11,Sheet100!D11,Sheet101!D11,Sheet102!D11,Sheet103!D11,Sheet104!D11,Sheet105!D11,Sheet106!D11,Sheet107!D11,Sheet108!D11,Sheet109!D11,Sheet110!D11,Sheet111!D11,Sheet112!D11,Sheet113!D11,Sheet114!D11,Sheet115!D11,Sheet116!D11,Sheet117!D11,Sheet118!D11,Sheet119!D11,Sheet120!D11,Sheet121!D11,Sheet122!D11,Sheet123!D11,Sheet124!D11,Sheet125!D11,Sheet126!D11,Sheet127!D11,Sheet128!D11,Sheet129!D11,Sheet130!D11,Sheet131!D11,Sheet132!D11,Sheet133!D11,Sheet134!D11,Sheet135!D11,Sheet136!D11,Sheet137!D11,Sheet138!D11,Sheet139!D11,Sheet140!D11,Sheet141!D11,Sheet142!D11,Sheet143!D11,Sheet144!D11,Sheet145!D11,Sheet146!D11,Sheet147!D11,Sheet148!D11,Sheet149!D11,Sheet150!D11,Sheet151!D11,Sheet152!D11,Sheet153!D11,Sheet154!D11,Sheet155!D11,Sheet156!D11,Sheet157!D11,Sheet158!D11,Sheet159!D11,Sheet160!D11,Sheet161!D11,Sheet162!D11,Sheet163!D11,Sheet164!D11,Sheet165!D11,Sheet166!D11,Sheet167!D11,Sheet168!D11,Sheet169!D11,Sheet170!D11,Sheet171!D11,Sheet172!D11,Sheet173!D11,Sheet174!D11,Sheet175!D11,Sheet176!D11,Sheet177!D11,Sheet178!D11,Sheet179!D11,Sheet180!D11,Sheet181!D11,Sheet182!D11,Sheet183!D11,Sheet184!D11,Sheet185!D11,Sheet186!D11,Sheet187!D11,Sheet188!D11,Sheet189!D11,Sheet190!D11,Sheet191!D11,Sheet192!D11,Sheet193!D11,Sheet194!D11,Sheet195!D11,Sheet196!D11,Sheet197!D11,Sheet198!D11,Sheet199!D11,Sheet200!D11,Sheet201!D11,Sheet202!D11,Sheet203!D11,Sheet204!D11,Sheet205!D11,Sheet206!D11,Sheet207!D11,Sheet208!D11,Sheet209!D11,Sheet210!D11,Sheet211!D11,Sheet212!D11,Sheet213!D11,Sheet214!D11,Sheet215!D11,Sheet216!D11,Sheet217!D11,Sheet218!D11,Sheet219!D11,Sheet220!D11,Sheet221!D11,Sheet222!D11,Sheet223!D11,Sheet224!D11,Sheet225!D11,Sheet226!D11,Sheet227!D11,Sheet228!D11,Sheet229!D11,Sheet230!D11,Sheet231!D11,Sheet232!D11,Sheet233!D11,Sheet234!D11,Sheet235!D11,Sheet236!D11,Sheet237!D11,Sheet238!D11,Sheet239!D11,Sheet240!D11,Sheet241!D11,Sheet242!D11,Sheet243!D11,Sheet244!D11,Sheet245!D11,Sheet246!D11,Sheet247!D11,Sheet248!D11,Sheet249!D11,Sheet250!D11) -> 26 | E11: =SUM(sheet1!E11,Sheet2!E11,Sheet3!E11,Sheet4!E11,Sheet5!E11,Sheet6!E11,Sheet7!E11,Sheet8!E11,Sheet9!E11,Sheet10!E11,Sheet11!E11,Sheet12!E11,Sheet13!E11,Sheet14!E11,Sheet15!E11,Sheet16!E11,Sheet17!E11,Sheet18!E11,Sheet19!E11,Sheet20!E11,Sheet21!E11,Sheet22!E11,Sheet23!E11,Sheet24!E11,Sheet25!E11,Sheet26!E11,Sheet27!E11,Sheet28!E11,Sheet29!E11,Sheet30!E11,Sheet31!E11,Sheet32!E11,Sheet33!E11,Sheet34!E11,Sheet35!E11,Sheet36!E11,Sheet37!E11,Sheet38!E11,Sheet39!E11,Sheet40!E11,Sheet41!E11,Sheet42!E11,Sheet43!E11,Sheet44!E11,Sheet45!E11,Sheet46!E11,Sheet47!E11,Sheet48!E11,Sheet49!E11,Sheet50!E11,Sheet51!E11,Sheet52!E11,Sheet53!E11,Sheet54!E11,Sheet55!E11,Sheet56!E11,Sheet57!E11,Sheet58!E11,Sheet59!E11,Sheet60!E11,Sheet61!E11,Sheet62!E11,Sheet63!E11,Sheet64!E11,Sheet65!E11,Sheet66!E11,Sheet67!E11,Sheet68!E11,Sheet69!E11,Sheet70!E11,Sheet71!E11,Sheet72!E11,Sheet73!E11,Sheet74!E11,Sheet75!E11,Sheet76!E11,Sheet77!E11,Sheet78!E11,Sheet79!E11,Sheet80!E11,Sheet81!E11,Sheet82!E11,Sheet83!E11,Sheet84!E11,Sheet85!E11,Sheet86!E11,Sheet87!E11,Sheet88!E11,Sheet89!E11,Sheet90!E11,Sheet91!E11,Sheet92!E11,Sheet93!E11,Sheet94!E11,Sheet95!E11,Sheet96!E11,Sheet97!E11,Sheet98!E11,Sheet99!E11,Sheet100!E11,Sheet101!E11,Sheet102!E11,Sheet103!E11,Sheet104!E11,Sheet105!E11,Sheet106!E11,Sheet107!E11,Sheet108!E11,Sheet109!E11,Sheet110!E11,Sheet111!E11,Sheet112!E11,Sheet113!E11,Sheet114!E11,Sheet115!E11,Sheet116!E11,Sheet117!E11,Sheet118!E11,Sheet119!E11,Sheet120!E11,Sheet121!E11,Sheet122!E11,Sheet123!E11,Sheet124!E11,Sheet125!E11,Sheet126!E11,Sheet127!E11,Sheet128!E11,Sheet129!E11,Sheet130!E11,Sheet131!E11,Sheet132!E11,Sheet133!E11,Sheet134!E11,Sheet135!E11,Sheet136!E11,Sheet137!E11,Sheet138!E11,Sheet139!E11,Sheet140!E11,Sheet141!E11,Sheet142!E11,Sheet143!E11,Sheet144!E11,Sheet145!E11,Sheet146!E11,Sheet147!E11,Sheet148!E11,Sheet149!E11,Sheet150!E11,Sheet151!E11,Sheet152!E11,Sheet153!E11,Sheet154!E11,Sheet155!E11,Sheet156!E11,Sheet157!E11,Sheet158!E11,Sheet159!E11,Sheet160!E11,Sheet161!E11,Sheet162!E11,Sheet163!E11,Sheet164!E11,Sheet165!E11,Sheet166!E11,Sheet167!E11,Sheet168!E11,Sheet169!E11,Sheet170!E11,Sheet171!E11,Sheet172!E11,Sheet173!E11,Sheet174!E11,Sheet175!E11,Sheet176!E11,Sheet177!E11,Sheet178!E11,Sheet179!E11,Sheet180!E11,Sheet181!E11,Sheet182!E11,Sheet183!E11,Sheet184!E11,Sheet185!E11,Sheet186!E11,Sheet187!E11,Sheet188!E11,Sheet189!E11,Sheet190!E11,Sheet191!E11,Sheet192!E11,Sheet193!E11,Sheet194!E11,Sheet195!E11,Sheet196!E11,Sheet197!E11,Sheet198!E11,Sheet199!E11,Sheet200!E11,Sheet201!E11,Sheet202!E11,Sheet203!E11,Sheet204!E11,Sheet205!E11,Sheet206!E11,Sheet207!E11,Sheet208!E11,Sheet209!E11,Sheet210!E11,Sheet211!E11,Sheet212!E11,Sheet213!E11,Sheet214!E11,Sheet215!E11,Sheet216!E11,Sheet217!E11,Sheet218!E11,Sheet219!E11,Sheet220!E11,Sheet221!E11,Sheet222!E11,Sheet223!E11,Sheet224!E11,Sheet225!E11,Sheet226!E11,Sheet227!E11,Sheet228!E11,Sheet229!E11,Sheet230!E11,Sheet231!E11,Sheet232!E11,Sheet233!E11,Sheet234!E11,Sheet235!E11,Sheet236!E11,Sheet237!E11,Sheet238!E11,Sheet239!E11,Sheet240!E11,Sheet241!E11,Sheet242!E11,Sheet243!E11,Sheet244!E11,Sheet245!E11,Sheet246!E11,Sheet247!E11,Sheet248!E11,Sheet249!E11,Sheet250!E11) -> 29 | F11: =SUM(sheet1!F11,Sheet2!F11,Sheet3!F11,Sheet4!F11,Sheet5!F11,Sheet6!F11,Sheet7!F11,Sheet8!F11,Sheet9!F11,Sheet10!F11,Sheet11!F11,Sheet12!F11,Sheet13!F11,Sheet14!F11,Sheet15!F11,Sheet16!F11,Sheet17!F11,Sheet18!F11,Sheet19!F11,Sheet20!F11,Sheet21!F11,Sheet22!F11,Sheet23!F11,Sheet24!F11,Sheet25!F11,Sheet26!F11,Sheet27!F11,Sheet28!F11,Sheet29!F11,Sheet30!F11,Sheet31!F11,Sheet32!F11,Sheet33!F11,Sheet34!F11,Sheet35!F11,Sheet36!F11,Sheet37!F11,Sheet38!F11,Sheet39!F11,Sheet40!F11,Sheet41!F11,Sheet42!F11,Sheet43!F11,Sheet44!F11,Sheet45!F11,Sheet46!F11,Sheet47!F11,Sheet48!F11,Sheet49!F11,Sheet50!F11,Sheet51!F11,Sheet52!F11,Sheet53!F11,Sheet54!F11,Sheet55!F11,Sheet56!F11,Sheet57!F11,Sheet58!F11,Sheet59!F11,Sheet60!F11,Sheet61!F11,Sheet62!F11,Sheet63!F11,Sheet64!F11,Sheet65!F11,Sheet66!F11,Sheet67!F11,Sheet68!F11,Sheet69!F11,Sheet70!F11,Sheet71!F11,Sheet72!F11,Sheet73!F11,Sheet74!F11,Sheet75!F11,Sheet76!F11,Sheet77!F11,Sheet78!F11,Sheet79!F11,Sheet80!F11,Sheet81!F11,Sheet82!F11,Sheet83!F11,Sheet84!F11,Sheet85!F11,Sheet86!F11,Sheet87!F11,Sheet88!F11,Sheet89!F11,Sheet90!F11,Sheet91!F11,Sheet92!F11,Sheet93!F11,Sheet94!F11,Sheet95!F11,Sheet96!F11,Sheet97!F11,Sheet98!F11,Sheet99!F11,Sheet100!F11,Sheet101!F11,Sheet102!F11,Sheet103!F11,Sheet104!F11,Sheet105!F11,Sheet106!F11,Sheet107!F11,Sheet108!F11,Sheet109!F11,Sheet110!F11,Sheet111!F11,Sheet112!F11,Sheet113!F11,Sheet114!F11,Sheet115!F11,Sheet116!F11,Sheet117!F11,Sheet118!F11,Sheet119!F11,Sheet120!F11,Sheet121!F11,Sheet122!F11,Sheet123!F11,Sheet124!F11,Sheet125!F11,Sheet126!F11,Sheet127!F11,Sheet128!F11,Sheet129!F11,Sheet130!F11,Sheet131!F11,Sheet132!F11,Sheet133!F11,Sheet134!F11,Sheet135!F11,Sheet136!F11,Sheet137!F11,Sheet138!F11,Sheet139!F11,Sheet140!F11,Sheet141!F11,Sheet142!F11,Sheet143!F11,Sheet144!F11,Sheet145!F11,Sheet146!F11,Sheet147!F11,Sheet148!F11,Sheet149!F11,Sheet150!F11,Sheet151!F11,Sheet152!F11,Sheet153!F11,Sheet154!F11,Sheet155!F11,Sheet156!F11,Sheet157!F11,Sheet158!F11,Sheet159!F11,Sheet160!F11,Sheet161!F11,Sheet162!F11,Sheet163!F11,Sheet164!F11,Sheet165!F11,Sheet166!F11,Sheet167!F11,Sheet168!F11,Sheet169!F11,Sheet170!F11,Sheet171!F11,Sheet172!F11,Sheet173!F11,Sheet174!F11,Sheet175!F11,Sheet176!F11,Sheet177!F11,Sheet178!F11,Sheet179!F11,Sheet180!F11,Sheet181!F11,Sheet182!F11,Sheet183!F11,Sheet184!F11,Sheet185!F11,Sheet186!F11,Sheet187!F11,Sheet188!F11,Sheet189!F11,Sheet190!F11,Sheet191!F11,Sheet192!F11,Sheet193!F11,Sheet194!F11,Sheet195!F11,Sheet196!F11,Sheet197!F11,Sheet198!F11,Sheet199!F11,Sheet200!F11,Sheet201!F11,Sheet202!F11,Sheet203!F11,Sheet204!F11,Sheet205!F11,Sheet206!F11,Sheet207!F11,Sheet208!F11,Sheet209!F11,Sheet210!F11,Sheet211!F11,Sheet212!F11,Sheet213!F11,Sheet214!F11,Sheet215!F11,Sheet216!F11,Sheet217!F11,Sheet218!F11,Sheet219!F11,Sheet220!F11,Sheet221!F11,Sheet222!F11,Sheet223!F11,Sheet224!F11,Sheet225!F11,Sheet226!F11,Sheet227!F11,Sheet228!F11,Sheet229!F11,Sheet230!F11,Sheet231!F11,Sheet232!F11,Sheet233!F11,Sheet234!F11,Sheet235!F11,Sheet236!F11,Sheet237!F11,Sheet238!F11,Sheet239!F11,Sheet240!F11,Sheet241!F11,Sheet242!F11,Sheet243!F11,Sheet244!F11,Sheet245!F11,Sheet246!F11,Sheet247!F11,Sheet248!F11,Sheet249!F11,Sheet250!F11) -> 25 | G11: =SUM(sheet1!G11,Sheet2!G11,Sheet3!G11,Sheet4!G11,Sheet5!G11,Sheet6!G11,Sheet7!G11,Sheet8!G11,Sheet9!G11,Sheet10!G11,Sheet11!G11,Sheet12!G11,Sheet13!G11,Sheet14!G11,Sheet15!G11,Sheet16!G11,Sheet17!G11,Sheet18!G11,Sheet19!G11,Sheet20!G11,Sheet21!G11,Sheet22!G11,Sheet23!G11,Sheet24!G11,Sheet25!G11,Sheet26!G11,Sheet27!G11,Sheet28!G11,Sheet29!G11,Sheet30!G11,Sheet31!G11,Sheet32!G11,Sheet33!G11,Sheet34!G11,Sheet35!G11,Sheet36!G11,Sheet37!G11,Sheet38!G11,Sheet39!G11,Sheet40!G11,Sheet41!G11,Sheet42!G11,Sheet43!G11,Sheet44!G11,Sheet45!G11,Sheet46!G11,Sheet47!G11,Sheet48!G11,Sheet49!G11,Sheet50!G11,Sheet51!G11,Sheet52!G11,Sheet53!G11,Sheet54!G11,Sheet55!G11,Sheet56!G11,Sheet57!G11,Sheet58!G11,Sheet59!G11,Sheet60!G11,Sheet61!G11,Sheet62!G11,Sheet63!G11,Sheet64!G11,Sheet65!G11,Sheet66!G11,Sheet67!G11,Sheet68!G11,Sheet69!G11,Sheet70!G11,Sheet71!G11,Sheet72!G11,Sheet73!G11,Sheet74!G11,Sheet75!G11,Sheet76!G11,Sheet77!G11,Sheet78!G11,Sheet79!G11,Sheet80!G11,Sheet81!G11,Sheet82!G11,Sheet83!G11,Sheet84!G11,Sheet85!G11,Sheet86!G11,Sheet87!G11,Sheet88!G11,Sheet89!G11,Sheet90!G11,Sheet91!G11,Sheet92!G11,Sheet93!G11,Sheet94!G11,Sheet95!G11,Sheet96!G11,Sheet97!G11,Sheet98!G11,Sheet99!G11,Sheet100!G11,Sheet101!G11,Sheet102!G11,Sheet103!G11,Sheet104!G11,Sheet105!G11,Sheet106!G11,Sheet107!G11,Sheet108!G11,Sheet109!G11,Sheet110!G11,Sheet111!G11,Sheet112!G11,Sheet113!G11,Sheet114!G11,Sheet115!G11,Sheet116!G11,Sheet117!G11,Sheet118!G11,Sheet119!G11,Sheet120!G11,Sheet121!G11,Sheet122!G11,Sheet123!G11,Sheet124!G11,Sheet125!G11,Sheet126!G11,Sheet127!G11,Sheet128!G11,Sheet129!G11,Sheet130!G11,Sheet131!G11,Sheet132!G11,Sheet133!G11,Sheet134!G11,Sheet135!G11,Sheet136!G11,Sheet137!G11,Sheet138!G11,Sheet139!G11,Sheet140!G11,Sheet141!G11,Sheet142!G11,Sheet143!G11,Sheet144!G11,Sheet145!G11,Sheet146!G11,Sheet147!G11,Sheet148!G11,Sheet149!G11,Sheet150!G11,Sheet151!G11,Sheet152!G11,Sheet153!G11,Sheet154!G11,Sheet155!G11,Sheet156!G11,Sheet157!G11,Sheet158!G11,Sheet159!G11,Sheet160!G11,Sheet161!G11,Sheet162!G11,Sheet163!G11,Sheet164!G11,Sheet165!G11,Sheet166!G11,Sheet167!G11,Sheet168!G11,Sheet169!G11,Sheet170!G11,Sheet171!G11,Sheet172!G11,Sheet173!G11,Sheet174!G11,Sheet175!G11,Sheet176!G11,Sheet177!G11,Sheet178!G11,Sheet179!G11,Sheet180!G11,Sheet181!G11,Sheet182!G11,Sheet183!G11,Sheet184!G11,Sheet185!G11,Sheet186!G11,Sheet187!G11,Sheet188!G11,Sheet189!G11,Sheet190!G11,Sheet191!G11,Sheet192!G11,Sheet193!G11,Sheet194!G11,Sheet195!G11,Sheet196!G11,Sheet197!G11,Sheet198!G11,Sheet199!G11,Sheet200!G11,Sheet201!G11,Sheet202!G11,Sheet203!G11,Sheet204!G11,Sheet205!G11,Sheet206!G11,Sheet207!G11,Sheet208!G11,Sheet209!G11,Sheet210!G11,Sheet211!G11,Sheet212!G11,Sheet213!G11,Sheet214!G11,Sheet215!G11,Sheet216!G11,Sheet217!G11,Sheet218!G11,Sheet219!G11,Sheet220!G11,Sheet221!G11,Sheet222!G11,Sheet223!G11,Sheet224!G11,Sheet225!G11,Sheet226!G11,Sheet227!G11,Sheet228!G11,Sheet229!G11,Sheet230!G11,Sheet231!G11,Sheet232!G11,Sheet233!G11,Sheet234!G11,Sheet235!G11,Sheet236!G11,Sheet237!G11,Sheet238!G11,Sheet239!G11,Sheet240!G11,Sheet241!G11,Sheet242!G11,Sheet243!G11,Sheet244!G11,Sheet245!G11,Sheet246!G11,Sheet247!G11,Sheet248!G11,Sheet249!G11,Sheet250!G11) -> 0 | H11: =SUM(C11:G11) -> 112
B12: · 엘리베이터 거절(계단 이용)하기 | C12: =SUM(sheet1!C12,Sheet2!C12,Sheet3!C12,Sheet4!C12,Sheet5!C12,Sheet6!C12,Sheet7!C12,Sheet8!C12,Sheet9!C12,Sheet10!C12,Sheet11!C12,Sheet12!C12,Sheet13!C12,Sheet14!C12,Sheet15!C12,Sheet16!C12,Sheet17!C12,Sheet18!C12,Sheet19!C12,Sheet20!C12,Sheet21!C12,Sheet22!C12,Sheet23!C12,Sheet24!C12,Sheet25!C12,Sheet26!C12,Sheet27!C12,Sheet28!C12,Sheet29!C12,Sheet30!C12,Sheet31!C12,Sheet32!C12,Sheet33!C12,Sheet34!C12,Sheet35!C12,Sheet36!C12,Sheet37!C12,Sheet38!C12,Sheet39!C12,Sheet40!C12,Sheet41!C12,Sheet42!C12,Sheet43!C12,Sheet44!C12,Sheet45!C12,Sheet46!C12,Sheet47!C12,Sheet48!C12,Sheet49!C12,Sheet50!C12,Sheet51!C12,Sheet52!C12,Sheet53!C12,Sheet54!C12,Sheet55!C12,Sheet56!C12,Sheet57!C12,Sheet58!C12,Sheet59!C12,Sheet60!C12,Sheet61!C12,Sheet62!C12,Sheet63!C12,Sheet64!C12,Sheet65!C12,Sheet66!C12,Sheet67!C12,Sheet68!C12,Sheet69!C12,Sheet70!C12,Sheet71!C12,Sheet72!C12,Sheet73!C12,Sheet74!C12,Sheet75!C12,Sheet76!C12,Sheet77!C12,Sheet78!C12,Sheet79!C12,Sheet80!C12,Sheet81!C12,Sheet82!C12,Sheet83!C12,Sheet84!C12,Sheet85!C12,Sheet86!C12,Sheet87!C12,Sheet88!C12,Sheet89!C12,Sheet90!C12,Sheet91!C12,Sheet92!C12,Sheet93!C12,Sheet94!C12,Sheet95!C12,Sheet96!C12,Sheet97!C12,Sheet98!C12,Sheet99!C12,Sheet100!C12,Sheet101!C12,Sheet102!C12,Sheet103!C12,Sheet104!C12,Sheet105!C12,Sheet106!C12,Sheet107!C12,Sheet108!C12,Sheet109!C12,Sheet110!C12,Sheet111!C12,Sheet112!C12,Sheet113!C12,Sheet114!C12,Sheet115!C12,Sheet116!C12,Sheet117!C12,Sheet118!C12,Sheet119!C12,Sheet120!C12,Sheet121!C12,Sheet122!C12,Sheet123!C12,Sheet124!C12,Sheet125!C12,Sheet126!C12,Sheet127!C12,Sheet128!C12,Sheet129!C12,Sheet130!C12,Sheet131!C12,Sheet132!C12,Sheet133!C12,Sheet134!C12,Sheet135!C12,Sheet136!C12,Sheet137!C12,Sheet138!C12,Sheet139!C12,Sheet140!C12,Sheet141!C12,Sheet142!C12,Sheet143!C12,Sheet144!C12,Sheet145!C12,Sheet146!C12,Sheet147!C12,Sheet148!C12,Sheet149!C12,Sheet150!C12,Sheet151!C12,Sheet152!C12,Sheet153!C12,Sheet154!C12,Sheet155!C12,Sheet156!C12,Sheet157!C12,Sheet158!C12,Sheet159!C12,Sheet160!C12,Sheet161!C12,Sheet162!C12,Sheet163!C12,Sheet164!C12,Sheet165!C12,Sheet166!C12,Sheet167!C12,Sheet168!C12,Sheet169!C12,Sheet170!C12,Sheet171!C12,Sheet172!C12,Sheet173!C12,Sheet174!C12,Sheet175!C12,Sheet176!C12,Sheet177!C12,Sheet178!C12,Sheet179!C12,Sheet180!C12,Sheet181!C12,Sheet182!C12,Sheet183!C12,Sheet184!C12,Sheet185!C12,Sheet186!C12,Sheet187!C12,Sheet188!C12,Sheet189!C12,Sheet190!C12,Sheet191!C12,Sheet192!C12,Sheet193!C12,Sheet194!C12,Sheet195!C12,Sheet196!C12,Sheet197!C12,Sheet198!C12,Sheet199!C12,Sheet200!C12,Sheet201!C12,Sheet202!C12,Sheet203!C12,Sheet204!C12,Sheet205!C12,Sheet206!C12,Sheet207!C12,Sheet208!C12,Sheet209!C12,Sheet210!C12,Sheet211!C12,Sheet212!C12,Sheet213!C12,Sheet214!C12,Sheet215!C12,Sheet216!C12,Sheet217!C12,Sheet218!C12,Sheet219!C12,Sheet220!C12,Sheet221!C12,Sheet222!C12,Sheet223!C12,Sheet224!C12,Sheet225!C12,Sheet226!C12,Sheet227!C12,Sheet228!C12,Sheet229!C12,Sheet230!C12,Sheet231!C12,Sheet232!C12,Sheet233!C12,Sheet234!C12,Sheet235!C12,Sheet236!C12,Sheet237!C12,Sheet238!C12,Sheet239!C12,Sheet240!C12,Sheet241!C12,Sheet242!C12,Sheet243!C12,Sheet244!C12,Sheet245!C12,Sheet246!C12,Sheet247!C12,Sheet248!C12,Sheet249!C12,Sheet250!C12) -> 89 | D12: =SUM(sheet1!D12,Sheet2!D12,Sheet3!D12,Sheet4!D12,Sheet5!D12,Sheet6!D12,Sheet7!D12,Sheet8!D12,Sheet9!D12,Sheet10!D12,Sheet11!D12,Sheet12!D12,Sheet13!D12,Sheet14!D12,Sheet15!D12,Sheet16!D12,Sheet17!D12,Sheet18!D12,Sheet19!D12,Sheet20!D12,Sheet21!D12,Sheet22!D12,Sheet23!D12,Sheet24!D12,Sheet25!D12,Sheet26!D12,Sheet27!D12,Sheet28!D12,Sheet29!D12,Sheet30!D12,Sheet31!D12,Sheet32!D12,Sheet33!D12,Sheet34!D12,Sheet35!D12,Sheet36!D12,Sheet37!D12,Sheet38!D12,Sheet39!D12,Sheet40!D12,Sheet41!D12,Sheet42!D12,Sheet43!D12,Sheet44!D12,Sheet45!D12,Sheet46!D12,Sheet47!D12,Sheet48!D12,Sheet49!D12,Sheet50!D12,Sheet51!D12,Sheet52!D12,Sheet53!D12,Sheet54!D12,Sheet55!D12,Sheet56!D12,Sheet57!D12,Sheet58!D12,Sheet59!D12,Sheet60!D12,Sheet61!D12,Sheet62!D12,Sheet63!D12,Sheet64!D12,Sheet65!D12,Sheet66!D12,Sheet67!D12,Sheet68!D12,Sheet69!D12,Sheet70!D12,Sheet71!D12,Sheet72!D12,Sheet73!D12,Sheet74!D12,Sheet75!D12,Sheet76!D12,Sheet77!D12,Sheet78!D12,Sheet79!D12,Sheet80!D12,Sheet81!D12,Sheet82!D12,Sheet83!D12,Sheet84!D12,Sheet85!D12,Sheet86!D12,Sheet87!D12,Sheet88!D12,Sheet89!D12,Sheet90!D12,Sheet91!D12,Sheet92!D12,Sheet93!D12,Sheet94!D12,Sheet95!D12,Sheet96!D12,Sheet97!D12,Sheet98!D12,Sheet99!D12,Sheet100!D12,Sheet101!D12,Sheet102!D12,Sheet103!D12,Sheet104!D12,Sheet105!D12,Sheet106!D12,Sheet107!D12,Sheet108!D12,Sheet109!D12,Sheet110!D12,Sheet111!D12,Sheet112!D12,Sheet113!D12,Sheet114!D12,Sheet115!D12,Sheet116!D12,Sheet117!D12,Sheet118!D12,Sheet119!D12,Sheet120!D12,Sheet121!D12,Sheet122!D12,Sheet123!D12,Sheet124!D12,Sheet125!D12,Sheet126!D12,Sheet127!D12,Sheet128!D12,Sheet129!D12,Sheet130!D12,Sheet131!D12,Sheet132!D12,Sheet133!D12,Sheet134!D12,Sheet135!D12,Sheet136!D12,Sheet137!D12,Sheet138!D12,Sheet139!D12,Sheet140!D12,Sheet141!D12,Sheet142!D12,Sheet143!D12,Sheet144!D12,Sheet145!D12,Sheet146!D12,Sheet147!D12,Sheet148!D12,Sheet149!D12,Sheet150!D12,Sheet151!D12,Sheet152!D12,Sheet153!D12,Sheet154!D12,Sheet155!D12,Sheet156!D12,Sheet157!D12,Sheet158!D12,Sheet159!D12,Sheet160!D12,Sheet161!D12,Sheet162!D12,Sheet163!D12,Sheet164!D12,Sheet165!D12,Sheet166!D12,Sheet167!D12,Sheet168!D12,Sheet169!D12,Sheet170!D12,Sheet171!D12,Sheet172!D12,Sheet173!D12,Sheet174!D12,Sheet175!D12,Sheet176!D12,Sheet177!D12,Sheet178!D12,Sheet179!D12,Sheet180!D12,Sheet181!D12,Sheet182!D12,Sheet183!D12,Sheet184!D12,Sheet185!D12,Sheet186!D12,Sheet187!D12,Sheet188!D12,Sheet189!D12,Sheet190!D12,Sheet191!D12,Sheet192!D12,Sheet193!D12,Sheet194!D12,Sheet195!D12,Sheet196!D12,Sheet197!D12,Sheet198!D12,Sheet199!D12,Sheet200!D12,Sheet201!D12,Sheet202!D12,Sheet203!D12,Sheet204!D12,Sheet205!D12,Sheet206!D12,Sheet207!D12,Sheet208!D12,Sheet209!D12,Sheet210!D12,Sheet211!D12,Sheet212!D12,Sheet213!D12,Sheet214!D12,Sheet215!D12,Sheet216!D12,Sheet217!D12,Sheet218!D12,Sheet219!D12,Sheet220!D12,Sheet221!D12,Sheet222!D12,Sheet223!D12,Sheet224!D12,Sheet225!D12,Sheet226!D12,Sheet227!D12,Sheet228!D12,Sheet229!D12,Sheet230!D12,Sheet231!D12,Sheet232!D12,Sheet233!D12,Sheet234!D12,Sheet235!D12,Sheet236!D12,Sheet237!D12,Sheet238!D12,Sheet239!D12,Sheet240!D12,Sheet241!D12,Sheet242!D12,Sheet243!D12,Sheet244!D12,Sheet245!D12,Sheet246!D12,Sheet247!D12,Sheet248!D12,Sheet249!D12,Sheet250!D12) -> 83 | E12: =SUM(sheet1!E12,Sheet2!E12,Sheet3!E12,Sheet4!E12,Sheet5!E12,Sheet6!E12,Sheet7!E12,Sheet8!E12,Sheet9!E12,Sheet10!E12,Sheet11!E12,Sheet12!E12,Sheet13!E12,Sheet14!E12,Sheet15!E12,Sheet16!E12,Sheet17!E12,Sheet18!E12,Sheet19!E12,Sheet20!E12,Sheet21!E12,Sheet22!E12,Sheet23!E12,Sheet24!E12,Sheet25!E12,Sheet26!E12,Sheet27!E12,Sheet28!E12,Sheet29!E12,Sheet30!E12,Sheet31!E12,Sheet32!E12,Sheet33!E12,Sheet34!E12,Sheet35!E12,Sheet36!E12,Sheet37!E12,Sheet38!E12,Sheet39!E12,Sheet40!E12,Sheet41!E12,Sheet42!E12,Sheet43!E12,Sheet44!E12,Sheet45!E12,Sheet46!E12,Sheet47!E12,Sheet48!E12,Sheet49!E12,Sheet50!E12,Sheet51!E12,Sheet52!E12,Sheet53!E12,Sheet54!E12,Sheet55!E12,Sheet56!E12,Sheet57!E12,Sheet58!E12,Sheet59!E12,Sheet60!E12,Sheet61!E12,Sheet62!E12,Sheet63!E12,Sheet64!E12,Sheet65!E12,Sheet66!E12,Sheet67!E12,Sheet68!E12,Sheet69!E12,Sheet70!E12,Sheet71!E12,Sheet72!E12,Sheet73!E12,Sheet74!E12,Sheet75!E12,Sheet76!E12,Sheet77!E12,Sheet78!E12,Sheet79!E12,Sheet80!E12,Sheet81!E12,Sheet82!E12,Sheet83!E12,Sheet84!E12,Sheet85!E12,Sheet86!E12,Sheet87!E12,Sheet88!E12,Sheet89!E12,Sheet90!E12,Sheet91!E12,Sheet92!E12,Sheet93!E12,Sheet94!E12,Sheet95!E12,Sheet96!E12,Sheet97!E12,Sheet98!E12,Sheet99!E12,Sheet100!E12,Sheet101!E12,Sheet102!E12,Sheet103!E12,Sheet104!E12,Sheet105!E12,Sheet106!E12,Sheet107!E12,Sheet108!E12,Sheet109!E12,Sheet110!E12,Sheet111!E12,Sheet112!E12,Sheet113!E12,Sheet114!E12,Sheet115!E12,Sheet116!E12,Sheet117!E12,Sheet118!E12,Sheet119!E12,Sheet120!E12,Sheet121!E12,Sheet122!E12,Sheet123!E12,Sheet124!E12,Sheet125!E12,Sheet126!E12,Sheet127!E12,Sheet128!E12,Sheet129!E12,Sheet130!E12,Sheet131!E12,Sheet132!E12,Sheet133!E12,Sheet134!E12,Sheet135!E12,Sheet136!E12,Sheet137!E12,Sheet138!E12,Sheet139!E12,Sheet140!E12,Sheet141!E12,Sheet142!E12,Sheet143!E12,Sheet144!E12,Sheet145!E12,Sheet146!E12,Sheet147!E12,Sheet148!E12,Sheet149!E12,Sheet150!E12,Sheet151!E12,Sheet152!E12,Sheet153!E12,Sheet154!E12,Sheet155!E12,Sheet156!E12,Sheet157!E12,Sheet158!E12,Sheet159!E12,Sheet160!E12,Sheet161!E12,Sheet162!E12,Sheet163!E12,Sheet164!E12,Sheet165!E12,Sheet166!E12,Sheet167!E12,Sheet168!E12,Sheet169!E12,Sheet170!E12,Sheet171!E12,Sheet172!E12,Sheet173!E12,Sheet174!E12,Sheet175!E12,Sheet176!E12,Sheet177!E12,Sheet178!E12,Sheet179!E12,Sheet180!E12,Sheet181!E12,Sheet182!E12,Sheet183!E12,Sheet184!E12,Sheet185!E12,Sheet186!E12,Sheet187!E12,Sheet188!E12,Sheet189!E12,Sheet190!E12,Sheet191!E12,Sheet192!E12,Sheet193!E12,Sheet194!E12,Sheet195!E12,Sheet196!E12,Sheet197!E12,Sheet198!E12,Sheet199!E12,Sheet200!E12,Sheet201!E12,Sheet202!E12,Sheet203!E12,Sheet204!E12,Sheet205!E12,Sheet206!E12,Sheet207!E12,Sheet208!E12,Sheet209!E12,Sheet210!E12,Sheet211!E12,Sheet212!E12,Sheet213!E12,Sheet214!E12,Sheet215!E12,Sheet216!E12,Sheet217!E12,Sheet218!E12,Sheet219!E12,Sheet220!E12,Sheet221!E12,Sheet222!E12,Sheet223!E12,Sheet224!E12,Sheet225!E12,Sheet226!E12,Sheet227!E12,Sheet228!E12,Sheet229!E12,Sheet230!E12,Sheet231!E12,Sheet232!E12,Sheet233!E12,Sheet234!E12,Sheet235!E12,Sheet236!E12,Sheet237!E12,Sheet238!E12,Sheet239!E12,Sheet240!E12,Sheet241!E12,Sheet242!E12,Sheet243!E12,Sheet244!E12,Sheet245!E12,Sheet246!E12,Sheet247!E12,Sheet248!E12,Sheet249!E12,Sheet250!E12) -> 92 | F12: =SUM(sheet1!F12,Sheet2!F12,Sheet3!F12,Sheet4!F12,Sheet5!F12,Sheet6!F12,Sheet7!F12,Sheet8!F12,Sheet9!F12,Sheet10!F12,Sheet11!F12,Sheet12!F12,Sheet13!F12,Sheet14!F12,Sheet15!F12,Sheet16!F12,Sheet17!F12,Sheet18!F12,Sheet19!F12,Sheet20!F12,Sheet21!F12,Sheet22!F12,Sheet23!F12,Sheet24!F12,Sheet25!F12,Sheet26!F12,Sheet27!F12,Sheet28!F12,Sheet29!F12,Sheet30!F12,Sheet31!F12,Sheet32!F12,Sheet33!F12,Sheet34!F12,Sheet35!F12,Sheet36!F12,Sheet37!F12,Sheet38!F12,Sheet39!F12,Sheet40!F12,Sheet41!F12,Sheet42!F12,Sheet43!F12,Sheet44!F12,Sheet45!F12,Sheet46!F12,Sheet47!F12,Sheet48!F12,Sheet49!F12,Sheet50!F12,Sheet51!F12,Sheet52!F12,Sheet53!F12,Sheet54!F12,Sheet55!F12,Sheet56!F12,Sheet57!F12,Sheet58!F12,Sheet59!F12,Sheet60!F12,Sheet61!F12,Sheet62!F12,Sheet63!F12,Sheet64!F12,Sheet65!F12,Sheet66!F12,Sheet67!F12,Sheet68!F12,Sheet69!F12,Sheet70!F12,Sheet71!F12,Sheet72!F12,Sheet73!F12,Sheet74!F12,Sheet75!F12,Sheet76!F12,Sheet77!F12,Sheet78!F12,Sheet79!F12,Sheet80!F12,Sheet81!F12,Sheet82!F12,Sheet83!F12,Sheet84!F12,Sheet85!F12,Sheet86!F12,Sheet87!F12,Sheet88!F12,Sheet89!F12,Sheet90!F12,Sheet91!F12,Sheet92!F12,Sheet93!F12,Sheet94!F12,Sheet95!F12,Sheet96!F12,Sheet97!F12,Sheet98!F12,Sheet99!F12,Sheet100!F12,Sheet101!F12,Sheet102!F12,Sheet103!F12,Sheet104!F12,Sheet105!F12,Sheet106!F12,Sheet107!F12,Sheet108!F12,Sheet109!F12,Sheet110!F12,Sheet111!F12,Sheet112!F12,Sheet113!F12,Sheet114!F12,Sheet115!F12,Sheet116!F12,Sheet117!F12,Sheet118!F12,Sheet119!F12,Sheet120!F12,Sheet121!F12,Sheet122!F12,Sheet123!F12,Sheet124!F12,Sheet125!F12,Sheet126!F12,Sheet127!F12,Sheet128!F12,Sheet129!F12,Sheet130!F12,Sheet131!F12,Sheet132!F12,Sheet133!F12,Sheet134!F12,Sheet135!F12,Sheet136!F12,Sheet137!F12,Sheet138!F12,Sheet139!F12,Sheet140!F12,Sheet141!F12,Sheet142!F12,Sheet143!F12,Sheet144!F12,Sheet145!F12,Sheet146!F12,Sheet147!F12,Sheet148!F12,Sheet149!F12,Sheet150!F12,Sheet151!F12,Sheet152!F12,Sheet153!F12,Sheet154!F12,Sheet155!F12,Sheet156!F12,Sheet157!F12,Sheet158!F12,Sheet159!F12,Sheet160!F12,Sheet161!F12,Sheet162!F12,Sheet163!F12,Sheet164!F12,Sheet165!F12,Sheet166!F12,Sheet167!F12,Sheet168!F12,Sheet169!F12,Sheet170!F12,Sheet171!F12,Sheet172!F12,Sheet173!F12,Sheet174!F12,Sheet175!F12,Sheet176!F12,Sheet177!F12,Sheet178!F12,Sheet179!F12,Sheet180!F12,Sheet181!F12,Sheet182!F12,Sheet183!F12,Sheet184!F12,Sheet185!F12,Sheet186!F12,Sheet187!F12,Sheet188!F12,Sheet189!F12,Sheet190!F12,Sheet191!F12,Sheet192!F12,Sheet193!F12,Sheet194!F12,Sheet195!F12,Sheet196!F12,Sheet197!F12,Sheet198!F12,Sheet199!F12,Sheet200!F12,Sheet201!F12,Sheet202!F12,Sheet203!F12,Sheet204!F12,Sheet205!F12,Sheet206!F12,Sheet207!F12,Sheet208!F12,Sheet209!F12,Sheet210!F12,Sheet211!F12,Sheet212!F12,Sheet213!F12,Sheet214!F12,Sheet215!F12,Sheet216!F12,Sheet217!F12,Sheet218!F12,Sheet219!F12,Sheet220!F12,Sheet221!F12,Sheet222!F12,Sheet223!F12,Sheet224!F12,Sheet225!F12,Sheet226!F12,Sheet227!F12,Sheet228!F12,Sheet229!F12,Sheet230!F12,Sheet231!F12,Sheet232!F12,Sheet233!F12,Sheet234!F12,Sheet235!F12,Sheet236!F12,Sheet237!F12,Sheet238!F12,Sheet239!F12,Sheet240!F12,Sheet241!F12,Sheet242!F12,Sheet243!F12,Sheet244!F12,Sheet245!F12,Sheet246!F12,Sheet247!F12,Sheet248!F12,Sheet249!F12,Sheet250!F12) -> 87 | G12: =SUM(sheet1!G12,Sheet2!G12,Sheet3!G12,Sheet4!G12,Sheet5!G12,Sheet6!G12,Sheet7!G12,Sheet8!G12,Sheet9!G12,Sheet10!G12,Sheet11!G12,Sheet12!G12,Sheet13!G12,Sheet14!G12,Sheet15!G12,Sheet16!G12,Sheet17!G12,Sheet18!G12,Sheet19!G12,Sheet20!G12,Sheet21!G12,Sheet22!G12,Sheet23!G12,Sheet24!G12,Sheet25!G12,Sheet26!G12,Sheet27!G12,Sheet28!G12,Sheet29!G12,Sheet30!G12,Sheet31!G12,Sheet32!G12,Sheet33!G12,Sheet34!G12,Sheet35!G12,Sheet36!G12,Sheet37!G12,Sheet38!G12,Sheet39!G12,Sheet40!G12,Sheet41!G12,Sheet42!G12,Sheet43!G12,Sheet44!G12,Sheet45!G12,Sheet46!G12,Sheet47!G12,Sheet48!G12,Sheet49!G12,Sheet50!G12,Sheet51!G12,Sheet52!G12,Sheet53!G12,Sheet54!G12,Sheet55!G12,Sheet56!G12,Sheet57!G12,Sheet58!G12,Sheet59!G12,Sheet60!G12,Sheet61!G12,Sheet62!G12,Sheet63!G12,Sheet64!G12,Sheet65!G12,Sheet66!G12,Sheet67!G12,Sheet68!G12,Sheet69!G12,Sheet70!G12,Sheet71!G12,Sheet72!G12,Sheet73!G12,Sheet74!G12,Sheet75!G12,Sheet76!G12,Sheet77!G12,Sheet78!G12,Sheet79!G12,Sheet80!G12,Sheet81!G12,Sheet82!G12,Sheet83!G12,Sheet84!G12,Sheet85!G12,Sheet86!G12,Sheet87!G12,Sheet88!G12,Sheet89!G12,Sheet90!G12,Sheet91!G12,Sheet92!G12,Sheet93!G12,Sheet94!G12,Sheet95!G12,Sheet96!G12,Sheet97!G12,Sheet98!G12,Sheet99!G12,Sheet100!G12,Sheet101!G12,Sheet102!G12,Sheet103!G12,Sheet104!G12,Sheet105!G12,Sheet106!G12,Sheet107!G12,Sheet108!G12,Sheet109!G12,Sheet110!G12,Sheet111!G12,Sheet112!G12,Sheet113!G12,Sheet114!G12,Sheet115!G12,Sheet116!G12,Sheet117!G12,Sheet118!G12,Sheet119!G12,Sheet120!G12,Sheet121!G12,Sheet122!G12,Sheet123!G12,Sheet124!G12,Sheet125!G12,Sheet126!G12,Sheet127!G12,Sheet128!G12,Sheet129!G12,Sheet130!G12,Sheet131!G12,Sheet132!G12,Sheet133!G12,Sheet134!G12,Sheet135!G12,Sheet136!G12,Sheet137!G12,Sheet138!G12,Sheet139!G12,Sheet140!G12,Sheet141!G12,Sheet142!G12,Sheet143!G12,Sheet144!G12,Sheet145!G12,Sheet146!G12,Sheet147!G12,Sheet148!G12,Sheet149!G12,Sheet150!G12,Sheet151!G12,Sheet152!G12,Sheet153!G12,Sheet154!G12,Sheet155!G12,Sheet156!G12,Sheet157!G12,Sheet158!G12,Sheet159!G12,Sheet160!G12,Sheet161!G12,Sheet162!G12,Sheet163!G12,Sheet164!G12,Sheet165!G12,Sheet166!G12,Sheet167!G12,Sheet168!G12,Sheet169!G12,Sheet170!G12,Sheet171!G12,Sheet172!G12,Sheet173!G12,Sheet174!G12,Sheet175!G12,Sheet176!G12,Sheet177!G12,Sheet178!G12,Sheet179!G12,Sheet180!G12,Sheet181!G12,Sheet182!G12,Sheet183!G12,Sheet184!G12,Sheet185!G12,Sheet186!G12,Sheet187!G12,Sheet188!G12,Sheet189!G12,Sheet190!G12,Sheet191!G12,Sheet192!G12,Sheet193!G12,Sheet194!G12,Sheet195!G12,Sheet196!G12,Sheet197!G12,Sheet198!G12,Sheet199!G12,Sheet200!G12,Sheet201!G12,Sheet202!G12,Sheet203!G12,Sheet204!G12,Sheet205!G12,Sheet206!G12,Sheet207!G12,Sheet208!G12,Sheet209!G12,Sheet210!G12,Sheet211!G12,Sheet212!G12,Sheet213!G12,Sheet214!G12,Sheet215!G12,Sheet216!G12,Sheet217!G12,Sheet218!G12,Sheet219!G12,Sheet220!G12,Sheet221!G12,Sheet222!G12,Sheet223!G12,Sheet224!G12,Sheet225!G12,Sheet226!G12,Sheet227!G12,Sheet228!G12,Sheet229!G12,Sheet230!G12,Sheet231!G12,Sheet232!G12,Sheet233!G12,Sheet234!G12,Sheet235!G12,Sheet236!G12,Sheet237!G12,Sheet238!G12,Sheet239!G12,Sheet240!G12,Sheet241!G12,Sheet242!G12,Sheet243!G12,Sheet244!G12,Sheet245!G12,Sheet246!G12,Sheet247!G12,Sheet248!G12,Sheet249!G12,Sheet250!G12) -> 0 | H12: =SUM(C12:G12) -> 351
A13: 아껴쓰기 | B13: · 물티슈 덜 쓰기 | C13: =SUM(sheet1!C13,Sheet2!C13,Sheet3!C13,Sheet4!C13,Sheet5!C13,Sheet6!C13,Sheet7!C13,Sheet8!C13,Sheet9!C13,Sheet10!C13,Sheet11!C13,Sheet12!C13,Sheet13!C13,Sheet14!C13,Sheet15!C13,Sheet16!C13,Sheet17!C13,Sheet18!C13,Sheet19!C13,Sheet20!C13,Sheet21!C13,Sheet22!C13,Sheet23!C13,Sheet24!C13,Sheet25!C13,Sheet26!C13,Sheet27!C13,Sheet28!C13,Sheet29!C13,Sheet30!C13,Sheet31!C13,Sheet32!C13,Sheet33!C13,Sheet34!C13,Sheet35!C13,Sheet36!C13,Sheet37!C13,Sheet38!C13,Sheet39!C13,Sheet40!C13,Sheet41!C13,Sheet42!C13,Sheet43!C13,Sheet44!C13,Sheet45!C13,Sheet46!C13,Sheet47!C13,Sheet48!C13,Sheet49!C13,Sheet50!C13,Sheet51!C13,Sheet52!C13,Sheet53!C13,Sheet54!C13,Sheet55!C13,Sheet56!C13,Sheet57!C13,Sheet58!C13,Sheet59!C13,Sheet60!C13,Sheet61!C13,Sheet62!C13,Sheet63!C13,Sheet64!C13,Sheet65!C13,Sheet66!C13,Sheet67!C13,Sheet68!C13,Sheet69!C13,Sheet70!C13,Sheet71!C13,Sheet72!C13,Sheet73!C13,Sheet74!C13,Sheet75!C13,Sheet76!C13,Sheet77!C13,Sheet78!C13,Sheet79!C13,Sheet80!C13,Sheet81!C13,Sheet82!C13,Sheet83!C13,Sheet84!C13,Sheet85!C13,Sheet86!C13,Sheet87!C13,Sheet88!C13,Sheet89!C13,Sheet90!C13,Sheet91!C13,Sheet92!C13,Sheet93!C13,Sheet94!C13,Sheet95!C13,Sheet96!C13,Sheet97!C13,Sheet98!C13,Sheet99!C13,Sheet100!C13,Sheet101!C13,Sheet102!C13,Sheet103!C13,Sheet104!C13,Sheet105!C13,Sheet106!C13,Sheet107!C13,Sheet108!C13,Sheet109!C13,Sheet110!C13,Sheet111!C13,Sheet112!C13,Sheet113!C13,Sheet114!C13,Sheet115!C13,Sheet116!C13,Sheet117!C13,Sheet118!C13,Sheet119!C13,Sheet120!C13,Sheet121!C13,Sheet122!C13,Sheet123!C13,Sheet124!C13,Sheet125!C13,Sheet126!C13,Sheet127!C13,Sheet128!C13,Sheet129!C13,Sheet130!C13,Sheet131!C13,Sheet132!C13,Sheet133!C13,Sheet134!C13,Sheet135!C13,Sheet136!C13,Sheet137!C13,Sheet138!C13,Sheet139!C13,Sheet140!C13,Sheet141!C13,Sheet142!C13,Sheet143!C13,Sheet144!C13,Sheet145!C13,Sheet146!C13,Sheet147!C13,Sheet148!C13,Sheet149!C13,Sheet150!C13,Sheet151!C13,Sheet152!C13,Sheet153!C13,Sheet154!C13,Sheet155!C13,Sheet156!C13,Sheet157!C13,Sheet158!C13,Sheet159!C13,Sheet160!C13,Sheet161!C13,Sheet162!C13,Sheet163!C13,Sheet164!C13,Sheet165!C13,Sheet166!C13,Sheet167!C13,Sheet168!C13,Sheet169!C13,Sheet170!C13,Sheet171!C13,Sheet172!C13,Sheet173!C13,Sheet174!C13,Sheet175!C13,Sheet176!C13,Sheet177!C13,Sheet178!C13,Sheet179!C13,Sheet180!C13,Sheet181!C13,Sheet182!C13,Sheet183!C13,Sheet184!C13,Sheet185!C13,Sheet186!C13,Sheet187!C13,Sheet188!C13,Sheet189!C13,Sheet190!C13,Sheet191!C13,Sheet192!C13,Sheet193!C13,Sheet194!C13,Sheet195!C13,Sheet196!C13,Sheet197!C13,Sheet198!C13,Sheet199!C13,Sheet200!C13,Sheet201!C13,Sheet202!C13,Sheet203!C13,Sheet204!C13,Sheet205!C13,Sheet206!C13,Sheet207!C13,Sheet208!C13,Sheet209!C13,Sheet210!C13,Sheet211!C13,Sheet212!C13,Sheet213!C13,Sheet214!C13,Sheet215!C13,Sheet216!C13,Sheet217!C13,Sheet218!C13,Sheet219!C13,Sheet220!C13,Sheet221!C13,Sheet222!C13,Sheet223!C13,Sheet224!C13,Sheet225!C13,Sheet226!C13,Sheet227!C13,Sheet228!C13,Sheet229!C13,Sheet230!C13,Sheet231!C13,Sheet232!C13,Sheet233!C13,Sheet234!C13,Sheet235!C13,Sheet236!C13,Sheet237!C13,Sheet238!C13,Sheet239!C13,Sheet240!C13,Sheet241!C13,Sheet242!C13,Sheet243!C13,Sheet244!C13,Sheet245!C13,Sheet246!C13,Sheet247!C13,Sheet248!C13,Sheet249!C13,Sheet250!C13) -> 143 | D13: =SUM(sheet1!D13,Sheet2!D13,Sheet3!D13,Sheet4!D13,Sheet5!D13,Sheet6!D13,Sheet7!D13,Sheet8!D13,Sheet9!D13,Sheet10!D13,Sheet11!D13,Sheet12!D13,Sheet13!D13,Sheet14!D13,Sheet15!D13,Sheet16!D13,Sheet17!D13,Sheet18!D13,Sheet19!D13,Sheet20!D13,Sheet21!D13,Sheet22!D13,Sheet23!D13,Sheet24!D13,Sheet25!D13,Sheet26!D13,Sheet27!D13,Sheet28!D13,Sheet29!D13,Sheet30!D13,Sheet31!D13,Sheet32!D13,Sheet33!D13,Sheet34!D13,Sheet35!D13,Sheet36!D13,Sheet37!D13,Sheet38!D13,Sheet39!D13,Sheet40!D13,Sheet41!D13,Sheet42!D13,Sheet43!D13,Sheet44!D13,Sheet45!D13,Sheet46!D13,Sheet47!D13,Sheet48!D13,Sheet49!D13,Sheet50!D13,Sheet51!D13,Sheet52!D13,Sheet53!D13,Sheet54!D13,Sheet55!D13,Sheet56!D13,Sheet57!D13,Sheet58!D13,Sheet59!D13,Sheet60!D13,Sheet61!D13,Sheet62!D13,Sheet63!D13,Sheet64!D13,Sheet65!D13,Sheet66!D13,Sheet67!D13,Sheet68!D13,Sheet69!D13,Sheet70!D13,Sheet71!D13,Sheet72!D13,Sheet73!D13,Sheet74!D13,Sheet75!D13,Sheet76!D13,Sheet77!D13,Sheet78!D13,Sheet79!D13,Sheet80!D13,Sheet81!D13,Sheet82!D13,Sheet83!D13,Sheet84!D13,Sheet85!D13,Sheet86!D13,Sheet87!D13,Sheet88!D13,Sheet89!D13,Sheet90!D13,Sheet91!D13,Sheet92!D13,Sheet93!D13,Sheet94!D13,Sheet95!D13,Sheet96!D13,Sheet97!D13,Sheet98!D13,Sheet99!D13,Sheet100!D13,Sheet101!D13,Sheet102!D13,Sheet103!D13,Sheet104!D13,Sheet105!D13,Sheet106!D13,Sheet107!D13,Sheet108!D13,Sheet109!D13,Sheet110!D13,Sheet111!D13,Sheet112!D13,Sheet113!D13,Sheet114!D13,Sheet115!D13,Sheet116!D13,Sheet117!D13,Sheet118!D13,Sheet119!D13,Sheet120!D13,Sheet121!D13,Sheet122!D13,Sheet123!D13,Sheet124!D13,Sheet125!D13,Sheet126!D13,Sheet127!D13,Sheet128!D13,Sheet129!D13,Sheet130!D13,Sheet131!D13,Sheet132!D13,Sheet133!D13,Sheet134!D13,Sheet135!D13,Sheet136!D13,Sheet137!D13,Sheet138!D13,Sheet139!D13,Sheet140!D13,Sheet141!D13,Sheet142!D13,Sheet143!D13,Sheet144!D13,Sheet145!D13,Sheet146!D13,Sheet147!D13,Sheet148!D13,Sheet149!D13,Sheet150!D13,Sheet151!D13,Sheet152!D13,Sheet153!D13,Sheet154!D13,Sheet155!D13,Sheet156!D13,Sheet157!D13,Sheet158!D13,Sheet159!D13,Sheet160!D13,Sheet161!D13,Sheet162!D13,Sheet163!D13,Sheet164!D13,Sheet165!D13,Sheet166!D13,Sheet167!D13,Sheet168!D13,Sheet169!D13,Sheet170!D13,Sheet171!D13,Sheet172!D13,Sheet173!D13,Sheet174!D13,Sheet175!D13,Sheet176!D13,Sheet177!D13,Sheet178!D13,Sheet179!D13,Sheet180!D13,Sheet181!D13,Sheet182!D13,Sheet183!D13,Sheet184!D13,Sheet185!D13,Sheet186!D13,Sheet187!D13,Sheet188!D13,Sheet189!D13,Sheet190!D13,Sheet191!D13,Sheet192!D13,Sheet193!D13,Sheet194!D13,Sheet195!D13,Sheet196!D13,Sheet197!D13,Sheet198!D13,Sheet199!D13,Sheet200!D13,Sheet201!D13,Sheet202!D13,Sheet203!D13,Sheet204!D13,Sheet205!D13,Sheet206!D13,Sheet207!D13,Sheet208!D13,Sheet209!D13,Sheet210!D13,Sheet211!D13,Sheet212!D13,Sheet213!D13,Sheet214!D13,Sheet215!D13,Sheet216!D13,Sheet217!D13,Sheet218!D13,Sheet219!D13,Sheet220!D13,Sheet221!D13,Sheet222!D13,Sheet223!D13,Sheet224!D13,Sheet225!D13,Sheet226!D13,Sheet227!D13,Sheet228!D13,Sheet229!D13,Sheet230!D13,Sheet231!D13,Sheet232!D13,Sheet233!D13,Sheet234!D13,Sheet235!D13,Sheet236!D13,Sheet237!D13,Sheet238!D13,Sheet239!D13,Sheet240!D13,Sheet241!D13,Sheet242!D13,Sheet243!D13,Sheet244!D13,Sheet245!D13,Sheet246!D13,Sheet247!D13,Sheet248!D13,Sheet249!D13,Sheet250!D13) -> 129 | E13: =SUM(sheet1!E13,Sheet2!E13,Sheet3!E13,Sheet4!E13,Sheet5!E13,Sheet6!E13,Sheet7!E13,Sheet8!E13,Sheet9!E13,Sheet10!E13,Sheet11!E13,Sheet12!E13,Sheet13!E13,Sheet14!E13,Sheet15!E13,Sheet16!E13,Sheet17!E13,Sheet18!E13,Sheet19!E13,Sheet20!E13,Sheet21!E13,Sheet22!E13,Sheet23!E13,Sheet24!E13,Sheet25!E13,Sheet26!E13,Sheet27!E13,Sheet28!E13,Sheet29!E13,Sheet30!E13,Sheet31!E13,Sheet32!E13,Sheet33!E13,Sheet34!E13,Sheet35!E13,Sheet36!E13,Sheet37!E13,Sheet38!E13,Sheet39!E13,Sheet40!E13,Sheet41!E13,Sheet42!E13,Sheet43!E13,Sheet44!E13,Sheet45!E13,Sheet46!E13,Sheet47!E13,Sheet48!E13,Sheet49!E13,Sheet50!E13,Sheet51!E13,Sheet52!E13,Sheet53!E13,Sheet54!E13,Sheet55!E13,Sheet56!E13,Sheet57!E13,Sheet58!E13,Sheet59!E13,Sheet60!E13,Sheet61!E13,Sheet62!E13,Sheet63!E13,Sheet64!E13,Sheet65!E13,Sheet66!E13,Sheet67!E13,Sheet68!E13,Sheet69!E13,Sheet70!E13,Sheet71!E13,Sheet72!E13,Sheet73!E13,Sheet74!E13,Sheet75!E13,Sheet76!E13,Sheet77!E13,Sheet78!E13,Sheet79!E13,Sheet80!E13,Sheet81!E13,Sheet82!E13,Sheet83!E13,Sheet84!E13,Sheet85!E13,Sheet86!E13,Sheet87!E13,Sheet88!E13,Sheet89!E13,Sheet90!E13,Sheet91!E13,Sheet92!E13,Sheet93!E13,Sheet94!E13,Sheet95!E13,Sheet96!E13,Sheet97!E13,Sheet98!E13,Sheet99!E13,Sheet100!E13,Sheet101!E13,Sheet102!E13,Sheet103!E13,Sheet104!E13,Sheet105!E13,Sheet106!E13,Sheet107!E13,Sheet108!E13,Sheet109!E13,Sheet110!E13,Sheet111!E13,Sheet112!E13,Sheet113!E13,Sheet114!E13,Sheet115!E13,Sheet116!E13,Sheet117!E13,Sheet118!E13,Sheet119!E13,Sheet120!E13,Sheet121!E13,Sheet122!E13,Sheet123!E13,Sheet124!E13,Sheet125!E13,Sheet126!E13,Sheet127!E13,Sheet128!E13,Sheet129!E13,Sheet130!E13,Sheet131!E13,Sheet132!E13,Sheet133!E13,Sheet134!E13,Sheet135!E13,Sheet136!E13,Sheet137!E13,Sheet138!E13,Sheet139!E13,Sheet140!E13,Sheet141!E13,Sheet142!E13,Sheet143!E13,Sheet144!E13,Sheet145!E13,Sheet146!E13,Sheet147!E13,Sheet148!E13,Sheet149!E13,Sheet150!E13,Sheet151!E13,Sheet152!E13,Sheet153!E13,Sheet154!E13,Sheet155!E13,Sheet156!E13,Sheet157!E13,Sheet158!E13,Sheet159!E13,Sheet160!E13,Sheet161!E13,Sheet162!E13,Sheet163!E13,Sheet164!E13,Sheet165!E13,Sheet166!E13,Sheet167!E13,Sheet168!E13,Sheet169!E13,Sheet170!E13,Sheet171!E13,Sheet172!E13,Sheet173!E13,Sheet174!E13,Sheet175!E13,Sheet176!E13,Sheet177!E13,Sheet178!E13,Sheet179!E13,Sheet180!E13,Sheet181!E13,Sheet182!E13,Sheet183!E13,Sheet184!E13,Sheet185!E13,Sheet186!E13,Sheet187!E13,Sheet188!E13,Sheet189!E13,Sheet190!E13,Sheet191!E13,Sheet192!E13,Sheet193!E13,Sheet194!E13,Sheet195!E13,Sheet196!E13,Sheet197!E13,Sheet198!E13,Sheet199!E13,Sheet200!E13,Sheet201!E13,Sheet202!E13,Sheet203!E13,Sheet204!E13,Sheet205!E13,Sheet206!E13,Sheet207!E13,Sheet208!E13,Sheet209!E13,Sheet210!E13,Sheet211!E13,Sheet212!E13,Sheet213!E13,Sheet214!E13,Sheet215!E13,Sheet216!E13,Sheet217!E13,Sheet218!E13,Sheet219!E13,Sheet220!E13,Sheet221!E13,Sheet222!E13,Sheet223!E13,Sheet224!E13,Sheet225!E13,Sheet226!E13,Sheet227!E13,Sheet228!E13,Sheet229!E13,Sheet230!E13,Sheet231!E13,Sheet232!E13,Sheet233!E13,Sheet234!E13,Sheet235!E13,Sheet236!E13,Sheet237!E13,Sheet238!E13,Sheet239!E13,Sheet240!E13,Sheet241!E13,Sheet242!E13,Sheet243!E13,Sheet244!E13,Sheet245!E13,Sheet246!E13,Sheet247!E13,Sheet248!E13,Sheet249!E13,Sheet250!E13) -> 144 | F13: =SUM(sheet1!F13,Sheet2!F13,Sheet3!F13,Sheet4!F13,Sheet5!F13,Sheet6!F13,Sheet7!F13,Sheet8!F13,Sheet9!F13,Sheet10!F13,Sheet11!F13,Sheet12!F13,Sheet13!F13,Sheet14!F13,Sheet15!F13,Sheet16!F13,Sheet17!F13,Sheet18!F13,Sheet19!F13,Sheet20!F13,Sheet21!F13,Sheet22!F13,Sheet23!F13,Sheet24!F13,Sheet25!F13,Sheet26!F13,Sheet27!F13,Sheet28!F13,Sheet29!F13,Sheet30!F13,Sheet31!F13,Sheet32!F13,Sheet33!F13,Sheet34!F13,Sheet35!F13,Sheet36!F13,Sheet37!F13,Sheet38!F13,Sheet39!F13,Sheet40!F13,Sheet41!F13,Sheet42!F13,Sheet43!F13,Sheet44!F13,Sheet45!F13,Sheet46!F13,Sheet47!F13,Sheet48!F13,Sheet49!F13,Sheet50!F13,Sheet51!F13,Sheet52!F13,Sheet53!F13,Sheet54!F13,Sheet55!F13,Sheet56!F13,Sheet57!F13,Sheet58!F13,Sheet59!F13,Sheet60!F13,Sheet61!F13,Sheet62!F13,Sheet63!F13,Sheet64!F13,Sheet65!F13,Sheet66!F13,Sheet67!F13,Sheet68!F13,Sheet69!F13,Sheet70!F13,Sheet71!F13,Sheet72!F13,Sheet73!F13,Sheet74!F13,Sheet75!F13,Sheet76!F13,Sheet77!F13,Sheet78!F13,Sheet79!F13,Sheet80!F13,Sheet81!F13,Sheet82!F13,Sheet83!F13,Sheet84!F13,Sheet85!F13,Sheet86!F13,Sheet87!F13,Sheet88!F13,Sheet89!F13,Sheet90!F13,Sheet91!F13,Sheet92!F13,Sheet93!F13,Sheet94!F13,Sheet95!F13,Sheet96!F13,Sheet97!F13,Sheet98!F13,Sheet99!F13,Sheet100!F13,Sheet101!F13,Sheet102!F13,Sheet103!F13,Sheet104!F13,Sheet105!F13,Sheet106!F13,Sheet107!F13,Sheet108!F13,Sheet109!F13,Sheet110!F13,Sheet111!F13,Sheet112!F13,Sheet113!F13,Sheet114!F13,Sheet115!F13,Sheet116!F13,Sheet117!F13,Sheet118!F13,Sheet119!F13,Sheet120!F13,Sheet121!F13,Sheet122!F13,Sheet123!F13,Sheet124!F13,Sheet125!F13,Sheet126!F13,Sheet127!F13,Sheet128!F13,Sheet129!F13,Sheet130!F13,Sheet131!F13,Sheet132!F13,Sheet133!F13,Sheet134!F13,Sheet135!F13,Sheet136!F13,Sheet137!F13,Sheet138!F13,Sheet139!F13,Sheet140!F13,Sheet141!F13,Sheet142!F13,Sheet143!F13,Sheet144!F13,Sheet145!F13,Sheet146!F13,Sheet147!F13,Sheet148!F13,Sheet149!F13,Sheet150!F13,Sheet151!F13,Sheet152!F13,Sheet153!F13,Sheet154!F13,Sheet155!F13,Sheet156!F13,Sheet157!F13,Sheet158!F13,Sheet159!F13,Sheet160!F13,Sheet161!F13,Sheet162!F13,Sheet163!F13,Sheet164!F13,Sheet165!F13,Sheet166!F13,Sheet167!F13,Sheet168!F13,Sheet169!F13,Sheet170!F13,Sheet171!F13,Sheet172!F13,Sheet173!F13,Sheet174!F13,Sheet175!F13,Sheet176!F13,Sheet177!F13,Sheet178!F13,Sheet179!F13,Sheet180!F13,Sheet181!F13,Sheet182!F13,Sheet183!F13,Sheet184!F13,Sheet185!F13,Sheet186!F13,Sheet187!F13,Sheet188!F13,Sheet189!F13,Sheet190!F13,Sheet191!F13,Sheet192!F13,Sheet193!F13,Sheet194!F13,Sheet195!F13,Sheet196!F13,Sheet197!F13,Sheet198!F13,Sheet199!F13,Sheet200!F13,Sheet201!F13,Sheet202!F13,Sheet203!F13,Sheet204!F13,Sheet205!F13,Sheet206!F13,Sheet207!F13,Sheet208!F13,Sheet209!F13,Sheet210!F13,Sheet211!F13,Sheet212!F13,Sheet213!F13,Sheet214!F13,Sheet215!F13,Sheet216!F13,Sheet217!F13,Sheet218!F13,Sheet219!F13,Sheet220!F13,Sheet221!F13,Sheet222!F13,Sheet223!F13,Sheet224!F13,Sheet225!F13,Sheet226!F13,Sheet227!F13,Sheet228!F13,Sheet229!F13,Sheet230!F13,Sheet231!F13,Sheet232!F13,Sheet233!F13,Sheet234!F13,Sheet235!F13,Sheet236!F13,Sheet237!F13,Sheet238!F13,Sheet239!F13,Sheet240!F13,Sheet241!F13,Sheet242!F13,Sheet243!F13,Sheet244!F13,Sheet245!F13,Sheet246!F13,Sheet247!F13,Sheet248!F13,Sheet249!F13,Sheet250!F13) -> 136 | G13: =SUM(sheet1!G13,Sheet2!G13,Sheet3!G13,Sheet4!G13,Sheet5!G13,Sheet6!G13,Sheet7!G13,Sheet8!G13,Sheet9!G13,Sheet10!G13,Sheet11!G13,Sheet12!G13,Sheet13!G13,Sheet14!G13,Sheet15!G13,Sheet16!G13,Sheet17!G13,Sheet18!G13,Sheet19!G13,Sheet20!G13,Sheet21!G13,Sheet22!G13,Sheet23!G13,Sheet24!G13,Sheet25!G13,Sheet26!G13,Sheet27!G13,Sheet28!G13,Sheet29!G13,Sheet30!G13,Sheet31!G13,Sheet32!G13,Sheet33!G13,Sheet34!G13,Sheet35!G13,Sheet36!G13,Sheet37!G13,Sheet38!G13,Sheet39!G13,Sheet40!G13,Sheet41!G13,Sheet42!G13,Sheet43!G13,Sheet44!G13,Sheet45!G13,Sheet46!G13,Sheet47!G13,Sheet48!G13,Sheet49!G13,Sheet50!G13,Sheet51!G13,Sheet52!G13,Sheet53!G13,Sheet54!G13,Sheet55!G13,Sheet56!G13,Sheet57!G13,Sheet58!G13,Sheet59!G13,Sheet60!G13,Sheet61!G13,Sheet62!G13,Sheet63!G13,Sheet64!G13,Sheet65!G13,Sheet66!G13,Sheet67!G13,Sheet68!G13,Sheet69!G13,Sheet70!G13,Sheet71!G13,Sheet72!G13,Sheet73!G13,Sheet74!G13,Sheet75!G13,Sheet76!G13,Sheet77!G13,Sheet78!G13,Sheet79!G13,Sheet80!G13,Sheet81!G13,Sheet82!G13,Sheet83!G13,Sheet84!G13,Sheet85!G13,Sheet86!G13,Sheet87!G13,Sheet88!G13,Sheet89!G13,Sheet90!G13,Sheet91!G13,Sheet92!G13,Sheet93!G13,Sheet94!G13,Sheet95!G13,Sheet96!G13,Sheet97!G13,Sheet98!G13,Sheet99!G13,Sheet100!G13,Sheet101!G13,Sheet102!G13,Sheet103!G13,Sheet104!G13,Sheet105!G13,Sheet106!G13,Sheet107!G13,Sheet108!G13,Sheet109!G13,Sheet110!G13,Sheet111!G13,Sheet112!G13,Sheet113!G13,Sheet114!G13,Sheet115!G13,Sheet116!G13,Sheet117!G13,Sheet118!G13,Sheet119!G13,Sheet120!G13,Sheet121!G13,Sheet122!G13,Sheet123!G13,Sheet124!G13,Sheet125!G13,Sheet126!G13,Sheet127!G13,Sheet128!G13,Sheet129!G13,Sheet130!G13,Sheet131!G13,Sheet132!G13,Sheet133!G13,Sheet134!G13,Sheet135!G13,Sheet136!G13,Sheet137!G13,Sheet138!G13,Sheet139!G13,Sheet140!G13,Sheet141!G13,Sheet142!G13,Sheet143!G13,Sheet144!G13,Sheet145!G13,Sheet146!G13,Sheet147!G13,Sheet148!G13,Sheet149!G13,Sheet150!G13,Sheet151!G13,Sheet152!G13,Sheet153!G13,Sheet154!G13,Sheet155!G13,Sheet156!G13,Sheet157!G13,Sheet158!G13,Sheet159!G13,Sheet160!G13,Sheet161!G13,Sheet162!G13,Sheet163!G13,Sheet164!G13,Sheet165!G13,Sheet166!G13,Sheet167!G13,Sheet168!G13,Sheet169!G13,Sheet170!G13,Sheet171!G13,Sheet172!G13,Sheet173!G13,Sheet174!G13,Sheet175!G13,Sheet176!G13,Sheet177!G13,Sheet178!G13,Sheet179!G13,Sheet180!G13,Sheet181!G13,Sheet182!G13,Sheet183!G13,Sheet184!G13,Sheet185!G13,Sheet186!G13,Sheet187!G13,Sheet188!G13,Sheet189!G13,Sheet190!G13,Sheet191!G13,Sheet192!G13,Sheet193!G13,Sheet194!G13,Sheet195!G13,Sheet196!G13,Sheet197!G13,Sheet198!G13,Sheet199!G13,Sheet200!G13,Sheet201!G13,Sheet202!G13,Sheet203!G13,Sheet204!G13,Sheet205!G13,Sheet206!G13,Sheet207!G13,Sheet208!G13,Sheet209!G13,Sheet210!G13,Sheet211!G13,Sheet212!G13,Sheet213!G13,Sheet214!G13,Sheet215!G13,Sheet216!G13,Sheet217!G13,Sheet218!G13,Sheet219!G13,Sheet220!G13,Sheet221!G13,Sheet222!G13,Sheet223!G13,Sheet224!G13,Sheet225!G13,Sheet226!G13,Sheet227!G13,Sheet228!G13,Sheet229!G13,Sheet230!G13,Sheet231!G13,Sheet232!G13,Sheet233!G13,Sheet234!G13,Sheet235!G13,Sheet236!G13,Sheet237!G13,Sheet238!G13,Sheet239!G13,Sheet240!G13,Sheet241!G13,Sheet242!G13,Sheet243!G13,Sheet244!G13,Sheet245!G13,Sheet246!G13,Sheet247!G13,Sheet248!G13,Sheet249!G13,Sheet250!G13) -> 0 | H13: =SUM(C13:G13) -> 552
B14: · 물컵에 물 받아서 양치질 하기 | C14: =SUM(sheet1!C14,Sheet2!C14,Sheet3!C14,Sheet4!C14,Sheet5!C14,Sheet6!C14,Sheet7!C14,Sheet8!C14,Sheet9!C14,Sheet10!C14,Sheet11!C14,Sheet12!C14,Sheet13!C14,Sheet14!C14,Sheet15!C14,Sheet16!C14,Sheet17!C14,Sheet18!C14,Sheet19!C14,Sheet20!C14,Sheet21!C14,Sheet22!C14,Sheet23!C14,Sheet24!C14,Sheet25!C14,Sheet26!C14,Sheet27!C14,Sheet28!C14,Sheet29!C14,Sheet30!C14,Sheet31!C14,Sheet32!C14,Sheet33!C14,Sheet34!C14,Sheet35!C14,Sheet36!C14,Sheet37!C14,Sheet38!C14,Sheet39!C14,Sheet40!C14,Sheet41!C14,Sheet42!C14,Sheet43!C14,Sheet44!C14,Sheet45!C14,Sheet46!C14,Sheet47!C14,Sheet48!C14,Sheet49!C14,Sheet50!C14,Sheet51!C14,Sheet52!C14,Sheet53!C14,Sheet54!C14,Sheet55!C14,Sheet56!C14,Sheet57!C14,Sheet58!C14,Sheet59!C14,Sheet60!C14,Sheet61!C14,Sheet62!C14,Sheet63!C14,Sheet64!C14,Sheet65!C14,Sheet66!C14,Sheet67!C14,Sheet68!C14,Sheet69!C14,Sheet70!C14,Sheet71!C14,Sheet72!C14,Sheet73!C14,Sheet74!C14,Sheet75!C14,Sheet76!C14,Sheet77!C14,Sheet78!C14,Sheet79!C14,Sheet80!C14,Sheet81!C14,Sheet82!C14,Sheet83!C14,Sheet84!C14,Sheet85!C14,Sheet86!C14,Sheet87!C14,Sheet88!C14,Sheet89!C14,Sheet90!C14,Sheet91!C14,Sheet92!C14,Sheet93!C14,Sheet94!C14,Sheet95!C14,Sheet96!C14,Sheet97!C14,Sheet98!C14,Sheet99!C14,Sheet100!C14,Sheet101!C14,Sheet102!C14,Sheet103!C14,Sheet104!C14,Sheet105!C14,Sheet106!C14,Sheet107!C14,Sheet108!C14,Sheet109!C14,Sheet110!C14,Sheet111!C14,Sheet112!C14,Sheet113!C14,Sheet114!C14,Sheet115!C14,Sheet116!C14,Sheet117!C14,Sheet118!C14,Sheet119!C14,Sheet120!C14,Sheet121!C14,Sheet122!C14,Sheet123!C14,Sheet124!C14,Sheet125!C14,Sheet126!C14,Sheet127!C14,Sheet128!C14,Sheet129!C14,Sheet130!C14,Sheet131!C14,Sheet132!C14,Sheet133!C14,Sheet134!C14,Sheet135!C14,Sheet136!C14,Sheet137!C14,Sheet138!C14,Sheet139!C14,Sheet140!C14,Sheet141!C14,Sheet142!C14,Sheet143!C14,Sheet144!C14,Sheet145!C14,Sheet146!C14,Sheet147!C14,Sheet148!C14,Sheet149!C14,Sheet150!C14,Sheet151!C14,Sheet152!C14,Sheet153!C14,Sheet154!C14,Sheet155!C14,Sheet156!C14,Sheet157!C14,Sheet158!C14,Sheet159!C14,Sheet160!C14,Sheet161!C14,Sheet162!C14,Sheet163!C14,Sheet164!C14,Sheet165!C14,Sheet166!C14,Sheet167!C14,Sheet168!C14,Sheet169!C14,Sheet170!C14,Sheet171!C14,Sheet172!C14,Sheet173!C14,Sheet174!C14,Sheet175!C14,Sheet176!C14,Sheet177!C14,Sheet178!C14,Sheet179!C14,Sheet180!C14,Sheet181!C14,Sheet182!C14,Sheet183!C14,Sheet184!C14,Sheet185!C14,Sheet186!C14,Sheet187!C14,Sheet188!C14,Sheet189!C14,Sheet190!C14,Sheet191!C14,Sheet192!C14,Sheet193!C14,Sheet194!C14,Sheet195!C14,Sheet196!C14,Sheet197!C14,Sheet198!C14,Sheet199!C14,Sheet200!C14,Sheet201!C14,Sheet202!C14,Sheet203!C14,Sheet204!C14,Sheet205!C14,Sheet206!C14,Sheet207!C14,Sheet208!C14,Sheet209!C14,Sheet210!C14,Sheet211!C14,Sheet212!C14,Sheet213!C14,Sheet214!C14,Sheet215!C14,Sheet216!C14,Sheet217!C14,Sheet218!C14,Sheet219!C14,Sheet220!C14,Sheet221!C14,Sheet222!C14,Sheet223!C14,Sheet224!C14,Sheet225!C14,Sheet226!C14,Sheet227!C14,Sheet228!C14,Sheet229!C14,Sheet230!C14,Sheet231!C14,Sheet232!C14,Sheet233!C14,Sheet234!C14,Sheet235!C14,Sheet236!C14,Sheet237!C14,Sheet238!C14,Sheet239!C14,Sheet240!C14,Sheet241!C14,Sheet242!C14,Sheet243!C14,Sheet244!C14,Sheet245!C14,Sheet246!C14,Sheet247!C14,Sheet248!C14,Sheet249!C14,Sheet250!C14) -> 301 | D14: =SUM(sheet1!D14,Sheet2!D14,Sheet3!D14,Sheet4!D14,Sheet5!D14,Sheet6!D14,Sheet7!D14,Sheet8!D14,Sheet9!D14,Sheet10!D14,Sheet11!D14,Sheet12!D14,Sheet13!D14,Sheet14!D14,Sheet15!D14,Sheet16!D14,Sheet17!D14,Sheet18!D14,Sheet19!D14,Sheet20!D14,Sheet21!D14,Sheet22!D14,Sheet23!D14,Sheet24!D14,Sheet25!D14,Sheet26!D14,Sheet27!D14,Sheet28!D14,Sheet29!D14,Sheet30!D14,Sheet31!D14,Sheet32!D14,Sheet33!D14,Sheet34!D14,Sheet35!D14,Sheet36!D14,Sheet37!D14,Sheet38!D14,Sheet39!D14,Sheet40!D14,Sheet41!D14,Sheet42!D14,Sheet43!D14,Sheet44!D14,Sheet45!D14,Sheet46!D14,Sheet47!D14,Sheet48!D14,Sheet49!D14,Sheet50!D14,Sheet51!D14,Sheet52!D14,Sheet53!D14,Sheet54!D14,Sheet55!D14,Sheet56!D14,Sheet57!D14,Sheet58!D14,Sheet59!D14,Sheet60!D14,Sheet61!D14,Sheet62!D14,Sheet63!D14,Sheet64!D14,Sheet65!D14,Sheet66!D14,Sheet67!D14,Sheet68!D14,Sheet69!D14,Sheet70!D14,Sheet71!D14,Sheet72!D14,Sheet73!D14,Sheet74!D14,Sheet75!D14,Sheet76!D14,Sheet77!D14,Sheet78!D14,Sheet79!D14,Sheet80!D14,Sheet81!D14,Sheet82!D14,Sheet83!D14,Sheet84!D14,Sheet85!D14,Sheet86!D14,Sheet87!D14,Sheet88!D14,Sheet89!D14,Sheet90!D14,Sheet91!D14,Sheet92!D14,Sheet93!D14,Sheet94!D14,Sheet95!D14,Sheet96!D14,Sheet97!D14,Sheet98!D14,Sheet99!D14,Sheet100!D14,Sheet101!D14,Sheet102!D14,Sheet103!D14,Sheet104!D14,Sheet105!D14,Sheet106!D14,Sheet107!D14,Sheet108!D14,Sheet109!D14,Sheet110!D14,Sheet111!D14,Sheet112!D14,Sheet113!D14,Sheet114!D14,Sheet115!D14,Sheet116!D14,Sheet117!D14,Sheet118!D14,Sheet119!D14,Sheet120!D14,Sheet121!D14,Sheet122!D14,Sheet123!D14,Sheet124!D14,Sheet125!D14,Sheet126!D14,Sheet127!D14,Sheet128!D14,Sheet129!D14,Sheet130!D14,Sheet131!D14,Sheet132!D14,Sheet133!D14,Sheet134!D14,Sheet135!D14,Sheet136!D14,Sheet137!D14,Sheet138!D14,Sheet139!D14,Sheet140!D14,Sheet141!D14,Sheet142!D14,Sheet143!D14,Sheet144!D14,Sheet145!D14,Sheet146!D14,Sheet147!D14,Sheet148!D14,Sheet149!D14,Sheet150!D14,Sheet151!D14,Sheet152!D14,Sheet153!D14,Sheet154!D14,Sheet155!D14,Sheet156!D14,Sheet157!D14,Sheet158!D14,Sheet159!D14,Sheet160!D14,Sheet161!D14,Sheet162!D14,Sheet163!D14,Sheet164!D14,Sheet165!D14,Sheet166!D14,Sheet167!D14,Sheet168!D14,Sheet169!D14,Sheet170!D14,Sheet171!D14,Sheet172!D14,Sheet173!D14,Sheet174!D14,Sheet175!D14,Sheet176!D14,Sheet177!D14,Sheet178!D14,Sheet179!D14,Sheet180!D14,Sheet181!D14,Sheet182!D14,Sheet183!D14,Sheet184!D14,Sheet185!D14,Sheet186!D14,Sheet187!D14,Sheet188!D14,Sheet189!D14,Sheet190!D14,Sheet191!D14,Sheet192!D14,Sheet193!D14,Sheet194!D14,Sheet195!D14,Sheet196!D14,Sheet197!D14,Sheet198!D14,Sheet199!D14,Sheet200!D14,Sheet201!D14,Sheet202!D14,Sheet203!D14,Sheet204!D14,Sheet205!D14,Sheet206!D14,Sheet207!D14,Sheet208!D14,Sheet209!D14,Sheet210!D14,Sheet211!D14,Sheet212!D14,Sheet213!D14,Sheet214!D14,Sheet215!D14,Sheet216!D14,Sheet217!D14,Sheet218!D14,Sheet219!D14,Sheet220!D14,Sheet221!D14,Sheet222!D14,Sheet223!D14,Sheet224!D14,Sheet225!D14,Sheet226!D14,Sheet227!D14,Sheet228!D14,Sheet229!D14,Sheet230!D14,Sheet231!D14,Sheet232!D14,Sheet233!D14,Sheet234!D14,Sheet235!D14,Sheet236!D14,Sheet237!D14,Sheet238!D14,Sheet239!D14,Sheet240!D14,Sheet241!D14,Sheet242!D14,Sheet243!D14,Sheet244!D14,Sheet245!D14,Sheet246!D14,Sheet247!D14,Sheet248!D14,Sheet249!D14,Sheet250!D14) -> 301 | E14: =SUM(sheet1!E14,Sheet2!E14,Sheet3!E14,Sheet4!E14,Sheet5!E14,Sheet6!E14,Sheet7!E14,Sheet8!E14,Sheet9!E14,Sheet10!E14,Sheet11!E14,Sheet12!E14,Sheet13!E14,Sheet14!E14,Sheet15!E14,Sheet16!E14,Sheet17!E14,Sheet18!E14,Sheet19!E14,Sheet20!E14,Sheet21!E14,Sheet22!E14,Sheet23!E14,Sheet24!E14,Sheet25!E14,Sheet26!E14,Sheet27!E14,Sheet28!E14,Sheet29!E14,Sheet30!E14,Sheet31!E14,Sheet32!E14,Sheet33!E14,Sheet34!E14,Sheet35!E14,Sheet36!E14,Sheet37!E14,Sheet38!E14,Sheet39!E14,Sheet40!E14,Sheet41!E14,Sheet42!E14,Sheet43!E14,Sheet44!E14,Sheet45!E14,Sheet46!E14,Sheet47!E14,Sheet48!E14,Sheet49!E14,Sheet50!E14,Sheet51!E14,Sheet52!E14,Sheet53!E14,Sheet54!E14,Sheet55!E14,Sheet56!E14,Sheet57!E14,Sheet58!E14,Sheet59!E14,Sheet60!E14,Sheet61!E14,Sheet62!E14,Sheet63!E14,Sheet64!E14,Sheet65!E14,Sheet66!E14,Sheet67!E14,Sheet68!E14,Sheet69!E14,Sheet70!E14,Sheet71!E14,Sheet72!E14,Sheet73!E14,Sheet74!E14,Sheet75!E14,Sheet76!E14,Sheet77!E14,Sheet78!E14,Sheet79!E14,Sheet80!E14,Sheet81!E14,Sheet82!E14,Sheet83!E14,Sheet84!E14,Sheet85!E14,Sheet86!E14,Sheet87!E14,Sheet88!E14,Sheet89!E14,Sheet90!E14,Sheet91!E14,Sheet92!E14,Sheet93!E14,Sheet94!E14,Sheet95!E14,Sheet96!E14,Sheet97!E14,Sheet98!E14,Sheet99!E14,Sheet100!E14,Sheet101!E14,Sheet102!E14,Sheet103!E14,Sheet104!E14,Sheet105!E14,Sheet106!E14,Sheet107!E14,Sheet108!E14,Sheet109!E14,Sheet110!E14,Sheet111!E14,Sheet112!E14,Sheet113!E14,Sheet114!E14,Sheet115!E14,Sheet116!E14,Sheet117!E14,Sheet118!E14,Sheet119!E14,Sheet120!E14,Sheet121!E14,Sheet122!E14,Sheet123!E14,Sheet124!E14,Sheet125!E14,Sheet126!E14,Sheet127!E14,Sheet128!E14,Sheet129!E14,Sheet130!E14,Sheet131!E14,Sheet132!E14,Sheet133!E14,Sheet134!E14,Sheet135!E14,Sheet136!E14,Sheet137!E14,Sheet138!E14,Sheet139!E14,Sheet140!E14,Sheet141!E14,Sheet142!E14,Sheet143!E14,Sheet144!E14,Sheet145!E14,Sheet146!E14,Sheet147!E14,Sheet148!E14,Sheet149!E14,Sheet150!E14,Sheet151!E14,Sheet152!E14,Sheet153!E14,Sheet154!E14,Sheet155!E14,Sheet156!E14,Sheet157!E14,Sheet158!E14,Sheet159!E14,Sheet160!E14,Sheet161!E14,Sheet162!E14,Sheet163!E14,Sheet164!E14,Sheet165!E14,Sheet166!E14,Sheet167!E14,Sheet168!E14,Sheet169!E14,Sheet170!E14,Sheet171!E14,Sheet172!E14,Sheet173!E14,Sheet174!E14,Sheet175!E14,Sheet176!E14,Sheet177!E14,Sheet178!E14,Sheet179!E14,Sheet180!E14,Sheet181!E14,Sheet182!E14,Sheet183!E14,Sheet184!E14,Sheet185!E14,Sheet186!E14,Sheet187!E14,Sheet188!E14,Sheet189!E14,Sheet190!E14,Sheet191!E14,Sheet192!E14,Sheet193!E14,Sheet194!E14,Sheet195!E14,Sheet196!E14,Sheet197!E14,Sheet198!E14,Sheet199!E14,Sheet200!E14,Sheet201!E14,Sheet202!E14,Sheet203!E14,Sheet204!E14,Sheet205!E14,Sheet206!E14,Sheet207!E14,Sheet208!E14,Sheet209!E14,Sheet210!E14,Sheet211!E14,Sheet212!E14,Sheet213!E14,Sheet214!E14,Sheet215!E14,Sheet216!E14,Sheet217!E14,Sheet218!E14,Sheet219!E14,Sheet220!E14,Sheet221!E14,Sheet222!E14,Sheet223!E14,Sheet224!E14,Sheet225!E14,Sheet226!E14,Sheet227!E14,Sheet228!E14,Sheet229!E14,Sheet230!E14,Sheet231!E14,Sheet232!E14,Sheet233!E14,Sheet234!E14,Sheet235!E14,Sheet236!E14,Sheet237!E14,Sheet238!E14,Sheet239!E14,Sheet240!E14,Sheet241!E14,Sheet242!E14,Sheet243!E14,Sheet244!E14,Sheet245!E14,Sheet246!E14,Sheet247!E14,Sheet248!E14,Sheet249!E14,Sheet250!E14) -> 300 | F14: =SUM(sheet1!F14,Sheet2!F14,Sheet3!F14,Sheet4!F14,Sheet5!F14,Sheet6!F14,Sheet7!F14,Sheet8!F14,Sheet9!F14,Sheet10!F14,Sheet11!F14,Sheet12!F14,Sheet13!F14,Sheet14!F14,Sheet15!F14,Sheet16!F14,Sheet17!F14,Sheet18!F14,Sheet19!F14,Sheet20!F14,Sheet21!F14,Sheet22!F14,Sheet23!F14,Sheet24!F14,Sheet25!F14,Sheet26!F14,Sheet27!F14,Sheet28!F14,Sheet29!F14,Sheet30!F14,Sheet31!F14,Sheet32!F14,Sheet33!F14,Sheet34!F14,Sheet35!F14,Sheet36!F14,Sheet37!F14,Sheet38!F14,Sheet39!F14,Sheet40!F14,Sheet41!F14,Sheet42!F14,Sheet43!F14,Sheet44!F14,Sheet45!F14,Sheet46!F14,Sheet47!F14,Sheet48!F14,Sheet49!F14,Sheet50!F14,Sheet51!F14,Sheet52!F14,Sheet53!F14,Sheet54!F14,Sheet55!F14,Sheet56!F14,Sheet57!F14,Sheet58!F14,Sheet59!F14,Sheet60!F14,Sheet61!F14,Sheet62!F14,Sheet63!F14,Sheet64!F14,Sheet65!F14,Sheet66!F14,Sheet67!F14,Sheet68!F14,Sheet69!F14,Sheet70!F14,Sheet71!F14,Sheet72!F14,Sheet73!F14,Sheet74!F14,Sheet75!F14,Sheet76!F14,Sheet77!F14,Sheet78!F14,Sheet79!F14,Sheet80!F14,Sheet81!F14,Sheet82!F14,Sheet83!F14,Sheet84!F14,Sheet85!F14,Sheet86!F14,Sheet87!F14,Sheet88!F14,Sheet89!F14,Sheet90!F14,Sheet91!F14,Sheet92!F14,Sheet93!F14,Sheet94!F14,Sheet95!F14,Sheet96!F14,Sheet97!F14,Sheet98!F14,Sheet99!F14,Sheet100!F14,Sheet101!F14,Sheet102!F14,Sheet103!F14,Sheet104!F14,Sheet105!F14,Sheet106!F14,Sheet107!F14,Sheet108!F14,Sheet109!F14,Sheet110!F14,Sheet111!F14,Sheet112!F14,Sheet113!F14,Sheet114!F14,Sheet115!F14,Sheet116!F14,Sheet117!F14,Sheet118!F14,Sheet119!F14,Sheet120!F14,Sheet121!F14,Sheet122!F14,Sheet123!F14,Sheet124!F14,Sheet125!F14,Sheet126!F14,Sheet127!F14,Sheet128!F14,Sheet129!F14,Sheet130!F14,Sheet131!F14,Sheet132!F14,Sheet133!F14,Sheet134!F14,Sheet135!F14,Sheet136!F14,Sheet137!F14,Sheet138!F14,Sheet139!F14,Sheet140!F14,Sheet141!F14,Sheet142!F14,Sheet143!F14,Sheet144!F14,Sheet145!F14,Sheet146!F14,Sheet147!F14,Sheet148!F14,Sheet149!F14,Sheet150!F14,Sheet151!F14,Sheet152!F14,Sheet153!F14,Sheet154!F14,Sheet155!F14,Sheet156!F14,Sheet157!F14,Sheet158!F14,Sheet159!F14,Sheet160!F14,Sheet161!F14,Sheet162!F14,Sheet163!F14,Sheet164!F14,Sheet165!F14,Sheet166!F14,Sheet167!F14,Sheet168!F14,Sheet169!F14,Sheet170!F14,Sheet171!F14,Sheet172!F14,Sheet173!F14,Sheet174!F14,Sheet175!F14,Sheet176!F14,Sheet177!F14,Sheet178!F14,Sheet179!F14,Sheet180!F14,Sheet181!F14,Sheet182!F14,Sheet183!F14,Sheet184!F14,Sheet185!F14,Sheet186!F14,Sheet187!F14,Sheet188!F14,Sheet189!F14,Sheet190!F14,Sheet191!F14,Sheet192!F14,Sheet193!F14,Sheet194!F14,Sheet195!F14,Sheet196!F14,Sheet197!F14,Sheet198!F14,Sheet199!F14,Sheet200!F14,Sheet201!F14,Sheet202!F14,Sheet203!F14,Sheet204!F14,Sheet205!F14,Sheet206!F14,Sheet207!F14,Sheet208!F14,Sheet209!F14,Sheet210!F14,Sheet211!F14,Sheet212!F14,Sheet213!F14,Sheet214!F14,Sheet215!F14,Sheet216!F14,Sheet217!F14,Sheet218!F14,Sheet219!F14,Sheet220!F14,Sheet221!F14,Sheet222!F14,Sheet223!F14,Sheet224!F14,Sheet225!F14,Sheet226!F14,Sheet227!F14,Sheet228!F14,Sheet229!F14,Sheet230!F14,Sheet231!F14,Sheet232!F14,Sheet233!F14,Sheet234!F14,Sheet235!F14,Sheet236!F14,Sheet237!F14,Sheet238!F14,Sheet239!F14,Sheet240!F14,Sheet241!F14,Sheet242!F14,Sheet243!F14,Sheet244!F14,Sheet245!F14,Sheet246!F14,Sheet247!F14,Sheet248!F14,Sheet249!F14,Sheet250!F14) -> 301 | G14: =SUM(sheet1!G14,Sheet2!G14,Sheet3!G14,Sheet4!G14,Sheet5!G14,Sheet6!G14,Sheet7!G14,Sheet8!G14,Sheet9!G14,Sheet10!G14,Sheet11!G14,Sheet12!G14,Sheet13!G14,Sheet14!G14,Sheet15!G14,Sheet16!G14,Sheet17!G14,Sheet18!G14,Sheet19!G14,Sheet20!G14,Sheet21!G14,Sheet22!G14,Sheet23!G14,Sheet24!G14,Sheet25!G14,Sheet26!G14,Sheet27!G14,Sheet28!G14,Sheet29!G14,Sheet30!G14,Sheet31!G14,Sheet32!G14,Sheet33!G14,Sheet34!G14,Sheet35!G14,Sheet36!G14,Sheet37!G14,Sheet38!G14,Sheet39!G14,Sheet40!G14,Sheet41!G14,Sheet42!G14,Sheet43!G14,Sheet44!G14,Sheet45!G14,Sheet46!G14,Sheet47!G14,Sheet48!G14,Sheet49!G14,Sheet50!G14,Sheet51!G14,Sheet52!G14,Sheet53!G14,Sheet54!G14,Sheet55!G14,Sheet56!G14,Sheet57!G14,Sheet58!G14,Sheet59!G14,Sheet60!G14,Sheet61!G14,Sheet62!G14,Sheet63!G14,Sheet64!G14,Sheet65!G14,Sheet66!G14,Sheet67!G14,Sheet68!G14,Sheet69!G14,Sheet70!G14,Sheet71!G14,Sheet72!G14,Sheet73!G14,Sheet74!G14,Sheet75!G14,Sheet76!G14,Sheet77!G14,Sheet78!G14,Sheet79!G14,Sheet80!G14,Sheet81!G14,Sheet82!G14,Sheet83!G14,Sheet84!G14,Sheet85!G14,Sheet86!G14,Sheet87!G14,Sheet88!G14,Sheet89!G14,Sheet90!G14,Sheet91!G14,Sheet92!G14,Sheet93!G14,Sheet94!G14,Sheet95!G14,Sheet96!G14,Sheet97!G14,Sheet98!G14,Sheet99!G14,Sheet100!G14,Sheet101!G14,Sheet102!G14,Sheet103!G14,Sheet104!G14,Sheet105!G14,Sheet106!G14,Sheet107!G14,Sheet108!G14,Sheet109!G14,Sheet110!G14,Sheet111!G14,Sheet112!G14,Sheet113!G14,Sheet114!G14,Sheet115!G14,Sheet116!G14,Sheet117!G14,Sheet118!G14,Sheet119!G14,Sheet120!G14,Sheet121!G14,Sheet122!G14,Sheet123!G14,Sheet124!G14,Sheet125!G14,Sheet126!G14,Sheet127!G14,Sheet128!G14,Sheet129!G14,Sheet130!G14,Sheet131!G14,Sheet132!G14,Sheet133!G14,Sheet134!G14,Sheet135!G14,Sheet136!G14,Sheet137!G14,Sheet138!G14,Sheet139!G14,Sheet140!G14,Sheet141!G14,Sheet142!G14,Sheet143!G14,Sheet144!G14,Sheet145!G14,Sheet146!G14,Sheet147!G14,Sheet148!G14,Sheet149!G14,Sheet150!G14,Sheet151!G14,Sheet152!G14,Sheet153!G14,Sheet154!G14,Sheet155!G14,Sheet156!G14,Sheet157!G14,Sheet158!G14,Sheet159!G14,Sheet160!G14,Sheet161!G14,Sheet162!G14,Sheet163!G14,Sheet164!G14,Sheet165!G14,Sheet166!G14,Sheet167!G14,Sheet168!G14,Sheet169!G14,Sheet170!G14,Sheet171!G14,Sheet172!G14,Sheet173!G14,Sheet174!G14,Sheet175!G14,Sheet176!G14,Sheet177!G14,Sheet178!G14,Sheet179!G14,Sheet180!G14,Sheet181!G14,Sheet182!G14,Sheet183!G14,Sheet184!G14,Sheet185!G14,Sheet186!G14,Sheet187!G14,Sheet188!G14,Sheet189!G14,Sheet190!G14,Sheet191!G14,Sheet192!G14,Sheet193!G14,Sheet194!G14,Sheet195!G14,Sheet196!G14,Sheet197!G14,Sheet198!G14,Sheet199!G14,Sheet200!G14,Sheet201!G14,Sheet202!G14,Sheet203!G14,Sheet204!G14,Sheet205!G14,Sheet206!G14,Sheet207!G14,Sheet208!G14,Sheet209!G14,Sheet210!G14,Sheet211!G14,Sheet212!G14,Sheet213!G14,Sheet214!G14,Sheet215!G14,Sheet216!G14,Sheet217!G14,Sheet218!G14,Sheet219!G14,Sheet220!G14,Sheet221!G14,Sheet222!G14,Sheet223!G14,Sheet224!G14,Sheet225!G14,Sheet226!G14,Sheet227!G14,Sheet228!G14,Sheet229!G14,Sheet230!G14,Sheet231!G14,Sheet232!G14,Sheet233!G14,Sheet234!G14,Sheet235!G14,Sheet236!G14,Sheet237!G14,Sheet238!G14,Sheet239!G14,Sheet240!G14,Sheet241!G14,Sheet242!G14,Sheet243!G14,Sheet244!G14,Sheet245!G14,Sheet246!G14,Sheet247!G14,Sheet248!G14,Sheet249!G14,Sheet250!G14) -> 0 | H14: =SUM(C14:G14) -> 1203
B15: · 사용하지 않는 가전제품 전기 플러그 뽑기 | C15: =SUM(sheet1!C15,Sheet2!C15,Sheet3!C15,Sheet4!C15,Sheet5!C15,Sheet6!C15,Sheet7!C15,Sheet8!C15,Sheet9!C15,Sheet10!C15,Sheet11!C15,Sheet12!C15,Sheet13!C15,Sheet14!C15,Sheet15!C15,Sheet16!C15,Sheet17!C15,Sheet18!C15,Sheet19!C15,Sheet20!C15,Sheet21!C15,Sheet22!C15,Sheet23!C15,Sheet24!C15,Sheet25!C15,Sheet26!C15,Sheet27!C15,Sheet28!C15,Sheet29!C15,Sheet30!C15,Sheet31!C15,Sheet32!C15,Sheet33!C15,Sheet34!C15,Sheet35!C15,Sheet36!C15,Sheet37!C15,Sheet38!C15,Sheet39!C15,Sheet40!C15,Sheet41!C15,Sheet42!C15,Sheet43!C15,Sheet44!C15,Sheet45!C15,Sheet46!C15,Sheet47!C15,Sheet48!C15,Sheet49!C15,Sheet50!C15,Sheet51!C15,Sheet52!C15,Sheet53!C15,Sheet54!C15,Sheet55!C15,Sheet56!C15,Sheet57!C15,Sheet58!C15,Sheet59!C15,Sheet60!C15,Sheet61!C15,Sheet62!C15,Sheet63!C15,Sheet64!C15,Sheet65!C15,Sheet66!C15,Sheet67!C15,Sheet68!C15,Sheet69!C15,Sheet70!C15,Sheet71!C15,Sheet72!C15,Sheet73!C15,Sheet74!C15,Sheet75!C15,Sheet76!C15,Sheet77!C15,Sheet78!C15,Sheet79!C15,Sheet80!C15,Sheet81!C15,Sheet82!C15,Sheet83!C15,Sheet84!C15,Sheet85!C15,Sheet86!C15,Sheet87!C15,Sheet88!C15,Sheet89!C15,Sheet90!C15,Sheet91!C15,Sheet92!C15,Sheet93!C15,Sheet94!C15,Sheet95!C15,Sheet96!C15,Sheet97!C15,Sheet98!C15,Sheet99!C15,Sheet100!C15,Sheet101!C15,Sheet102!C15,Sheet103!C15,Sheet104!C15,Sheet105!C15,Sheet106!C15,Sheet107!C15,Sheet108!C15,Sheet109!C15,Sheet110!C15,Sheet111!C15,Sheet112!C15,Sheet113!C15,Sheet114!C15,Sheet115!C15,Sheet116!C15,Sheet117!C15,Sheet118!C15,Sheet119!C15,Sheet120!C15,Sheet121!C15,Sheet122!C15,Sheet123!C15,Sheet124!C15,Sheet125!C15,Sheet126!C15,Sheet127!C15,Sheet128!C15,Sheet129!C15,Sheet130!C15,Sheet131!C15,Sheet132!C15,Sheet133!C15,Sheet134!C15,Sheet135!C15,Sheet136!C15,Sheet137!C15,Sheet138!C15,Sheet139!C15,Sheet140!C15,Sheet141!C15,Sheet142!C15,Sheet143!C15,Sheet144!C15,Sheet145!C15,Sheet146!C15,Sheet147!C15,Sheet148!C15,Sheet149!C15,Sheet150!C15,Sheet151!C15,Sheet152!C15,Sheet153!C15,Sheet154!C15,Sheet155!C15,Sheet156!C15,Sheet157!C15,Sheet158!C15,Sheet159!C15,Sheet160!C15,Sheet161!C15,Sheet162!C15,Sheet163!C15,Sheet164!C15,Sheet165!C15,Sheet166!C15,Sheet167!C15,Sheet168!C15,Sheet169!C15,Sheet170!C15,Sheet171!C15,Sheet172!C15,Sheet173!C15,Sheet174!C15,Sheet175!C15,Sheet176!C15,Sheet177!C15,Sheet178!C15,Sheet179!C15,Sheet180!C15,Sheet181!C15,Sheet182!C15,Sheet183!C15,Sheet184!C15,Sheet185!C15,Sheet186!C15,Sheet187!C15,Sheet188!C15,Sheet189!C15,Sheet190!C15,Sheet191!C15,Sheet192!C15,Sheet193!C15,Sheet194!C15,Sheet195!C15,Sheet196!C15,Sheet197!C15,Sheet198!C15,Sheet199!C15,Sheet200!C15,Sheet201!C15,Sheet202!C15,Sheet203!C15,Sheet204!C15,Sheet205!C15,Sheet206!C15,Sheet207!C15,Sheet208!C15,Sheet209!C15,Sheet210!C15,Sheet211!C15,Sheet212!C15,Sheet213!C15,Sheet214!C15,Sheet215!C15,Sheet216!C15,Sheet217!C15,Sheet218!C15,Sheet219!C15,Sheet220!C15,Sheet221!C15,Sheet222!C15,Sheet223!C15,Sheet224!C15,Sheet225!C15,Sheet226!C15,Sheet227!C15,Sheet228!C15,Sheet229!C15,Sheet230!C15,Sheet231!C15,Sheet232!C15,Sheet233!C15,Sheet234!C15,Sheet235!C15,Sheet236!C15,Sheet237!C15,Sheet238!C15,Sheet239!C15,Sheet240!C15,Sheet241!C15,Sheet242!C15,Sheet243!C15,Sheet244!C15,Sheet245!C15,Sheet246!C15,Sheet247!C15,Sheet248!C15,Sheet249!C15,Sheet250!C15) -> 78 | D15: =SUM(sheet1!D15,Sheet2!D15,Sheet3!D15,Sheet4!D15,Sheet5!D15,Sheet6!D15,Sheet7!D15,Sheet8!D15,Sheet9!D15,Sheet10!D15,Sheet11!D15,Sheet12!D15,Sheet13!D15,Sheet14!D15,Sheet15!D15,Sheet16!D15,Sheet17!D15,Sheet18!D15,Sheet19!D15,Sheet20!D15,Sheet21!D15,Sheet22!D15,Sheet23!D15,Sheet24!D15,Sheet25!D15,Sheet26!D15,Sheet27!D15,Sheet28!D15,Sheet29!D15,Sheet30!D15,Sheet31!D15,Sheet32!D15,Sheet33!D15,Sheet34!D15,Sheet35!D15,Sheet36!D15,Sheet37!D15,Sheet38!D15,Sheet39!D15,Sheet40!D15,Sheet41!D15,Sheet42!D15,Sheet43!D15,Sheet44!D15,Sheet45!D15,Sheet46!D15,Sheet47!D15,Sheet48!D15,Sheet49!D15,Sheet50!D15,Sheet51!D15,Sheet52!D15,Sheet53!D15,Sheet54!D15,Sheet55!D15,Sheet56!D15,Sheet57!D15,Sheet58!D15,Sheet59!D15,Sheet60!D15,Sheet61!D15,Sheet62!D15,Sheet63!D15,Sheet64!D15,Sheet65!D15,Sheet66!D15,Sheet67!D15,Sheet68!D15,Sheet69!D15,Sheet70!D15,Sheet71!D15,Sheet72!D15,Sheet73!D15,Sheet74!D15,Sheet75!D15,Sheet76!D15,Sheet77!D15,Sheet78!D15,Sheet79!D15,Sheet80!D15,Sheet81!D15,Sheet82!D15,Sheet83!D15,Sheet84!D15,Sheet85!D15,Sheet86!D15,Sheet87!D15,Sheet88!D15,Sheet89!D15,Sheet90!D15,Sheet91!D15,Sheet92!D15,Sheet93!D15,Sheet94!D15,Sheet95!D15,Sheet96!D15,Sheet97!D15,Sheet98!D15,Sheet99!D15,Sheet100!D15,Sheet101!D15,Sheet102!D15,Sheet103!D15,Sheet104!D15,Sheet105!D15,Sheet106!D15,Sheet107!D15,Sheet108!D15,Sheet109!D15,Sheet110!D15,Sheet111!D15,Sheet112!D15,Sheet113!D15,Sheet114!D15,Sheet115!D15,Sheet116!D15,Sheet117!D15,Sheet118!D15,Sheet119!D15,Sheet120!D15,Sheet121!D15,Sheet122!D15,Sheet123!D15,Sheet124!D15,Sheet125!D15,Sheet126!D15,Sheet127!D15,Sheet128!D15,Sheet129!D15,Sheet130!D15,Sheet131!D15,Sheet132!D15,Sheet133!D15,Sheet134!D15,Sheet135!D15,Sheet136!D15,Sheet137!D15,Sheet138!D15,Sheet139!D15,Sheet140!D15,Sheet141!D15,Sheet142!D15,Sheet143!D15,Sheet144!D15,Sheet145!D15,Sheet146!D15,Sheet147!D15,Sheet148!D15,Sheet149!D15,Sheet150!D15,Sheet151!D15,Sheet152!D15,Sheet153!D15,Sheet154!D15,Sheet155!D15,Sheet156!D15,Sheet157!D15,Sheet158!D15,Sheet159!D15,Sheet160!D15,Sheet161!D15,Sheet162!D15,Sheet163!D15,Sheet164!D15,Sheet165!D15,Sheet166!D15,Sheet167!D15,Sheet168!D15,Sheet169!D15,Sheet170!D15,Sheet171!D15,Sheet172!D15,Sheet173!D15,Sheet174!D15,Sheet175!D15,Sheet176!D15,Sheet177!D15,Sheet178!D15,Sheet179!D15,Sheet180!D15,Sheet181!D15,Sheet182!D15,Sheet183!D15,Sheet184!D15,Sheet185!D15,Sheet186!D15,Sheet187!D15,Sheet188!D15,Sheet189!D15,Sheet190!D15,Sheet191!D15,Sheet192!D15,Sheet193!D15,Sheet194!D15,Sheet195!D15,Sheet196!D15,Sheet197!D15,Sheet198!D15,Sheet199!D15,Sheet200!D15,Sheet201!D15,Sheet202!D15,Sheet203!D15,Sheet204!D15,Sheet205!D15,Sheet206!D15,Sheet207!D15,Sheet208!D15,Sheet209!D15,Sheet210!D15,Sheet211!D15,Sheet212!D15,Sheet213!D15,Sheet214!D15,Sheet215!D15,Sheet216!D15,Sheet217!D15,Sheet218!D15,Sheet219!D15,Sheet220!D15,Sheet221!D15,Sheet222!D15,Sheet223!D15,Sheet224!D15,Sheet225!D15,Sheet226!D15,Sheet227!D15,Sheet228!D15,Sheet229!D15,Sheet230!D15,Sheet231!D15,Sheet232!D15,Sheet233!D15,Sheet234!D15,Sheet235!D15,Sheet236!D15,Sheet237!D15,Sheet238!D15,Sheet239!D15,Sheet240!D15,Sheet241!D15,Sheet242!D15,Sheet243!D15,Sheet244!D15,Sheet245!D15,Sheet246!D15,Sheet247!D15,Sheet248!D15,Sheet249!D15,Sheet250!D15) -> 70 | E15: =SUM(sheet1!E15,Sheet2!E15,Sheet3!E15,Sheet4!E15,Sheet5!E15,Sheet6!E15,Sheet7!E15,Sheet8!E15,Sheet9!E15,Sheet10!E15,Sheet11!E15,Sheet12!E15,Sheet13!E15,Sheet14!E15,Sheet15!E15,Sheet16!E15,Sheet17!E15,Sheet18!E15,Sheet19!E15,Sheet20!E15,Sheet21!E15,Sheet22!E15,Sheet23!E15,Sheet24!E15,Sheet25!E15,Sheet26!E15,Sheet27!E15,Sheet28!E15,Sheet29!E15,Sheet30!E15,Sheet31!E15,Sheet32!E15,Sheet33!E15,Sheet34!E15,Sheet35!E15,Sheet36!E15,Sheet37!E15,Sheet38!E15,Sheet39!E15,Sheet40!E15,Sheet41!E15,Sheet42!E15,Sheet43!E15,Sheet44!E15,Sheet45!E15,Sheet46!E15,Sheet47!E15,Sheet48!E15,Sheet49!E15,Sheet50!E15,Sheet51!E15,Sheet52!E15,Sheet53!E15,Sheet54!E15,Sheet55!E15,Sheet56!E15,Sheet57!E15,Sheet58!E15,Sheet59!E15,Sheet60!E15,Sheet61!E15,Sheet62!E15,Sheet63!E15,Sheet64!E15,Sheet65!E15,Sheet66!E15,Sheet67!E15,Sheet68!E15,Sheet69!E15,Sheet70!E15,Sheet71!E15,Sheet72!E15,Sheet73!E15,Sheet74!E15,Sheet75!E15,Sheet76!E15,Sheet77!E15,Sheet78!E15,Sheet79!E15,Sheet80!E15,Sheet81!E15,Sheet82!E15,Sheet83!E15,Sheet84!E15,Sheet85!E15,Sheet86!E15,Sheet87!E15,Sheet88!E15,Sheet89!E15,Sheet90!E15,Sheet91!E15,Sheet92!E15,Sheet93!E15,Sheet94!E15,Sheet95!E15,Sheet96!E15,Sheet97!E15,Sheet98!E15,Sheet99!E15,Sheet100!E15,Sheet101!E15,Sheet102!E15,Sheet103!E15,Sheet104!E15,Sheet105!E15,Sheet106!E15,Sheet107!E15,Sheet108!E15,Sheet109!E15,Sheet110!E15,Sheet111!E15,Sheet112!E15,Sheet113!E15,Sheet114!E15,Sheet115!E15,Sheet116!E15,Sheet117!E15,Sheet118!E15,Sheet119!E15,Sheet120!E15,Sheet121!E15,Sheet122!E15,Sheet123!E15,Sheet124!E15,Sheet125!E15,Sheet126!E15,Sheet127!E15,Sheet128!E15,Sheet129!E15,Sheet130!E15,Sheet131!E15,Sheet132!E15,Sheet133!E15,Sheet134!E15,Sheet135!E15,Sheet136!E15,Sheet137!E15,Sheet138!E15,Sheet139!E15,Sheet140!E15,Sheet141!E15,Sheet142!E15,Sheet143!E15,Sheet144!E15,Sheet145!E15,Sheet146!E15,Sheet147!E15,Sheet148!E15,Sheet149!E15,Sheet150!E15,Sheet151!E15,Sheet152!E15,Sheet153!E15,Sheet154!E15,Sheet155!E15,Sheet156!E15,Sheet157!E15,Sheet158!E15,Sheet159!E15,Sheet160!E15,Sheet161!E15,Sheet162!E15,Sheet163!E15,Sheet164!E15,Sheet165!E15,Sheet166!E15,Sheet167!E15,Sheet168!E15,Sheet169!E15,Sheet170!E15,Sheet171!E15,Sheet172!E15,Sheet173!E15,Sheet174!E15,Sheet175!E15,Sheet176!E15,Sheet177!E15,Sheet178!E15,Sheet179!E15,Sheet180!E15,Sheet181!E15,Sheet182!E15,Sheet183!E15,Sheet184!E15,Sheet185!E15,Sheet186!E15,Sheet187!E15,Sheet188!E15,Sheet189!E15,Sheet190!E15,Sheet191!E15,Sheet192!E15,Sheet193!E15,Sheet194!E15,Sheet195!E15,Sheet196!E15,Sheet197!E15,Sheet198!E15,Sheet199!E15,Sheet200!E15,Sheet201!E15,Sheet202!E15,Sheet203!E15,Sheet204!E15,Sheet205!E15,Sheet206!E15,Sheet207!E15,Sheet208!E15,Sheet209!E15,Sheet210!E15,Sheet211!E15,Sheet212!E15,Sheet213!E15,Sheet214!E15,Sheet215!E15,Sheet216!E15,Sheet217!E15,Sheet218!E15,Sheet219!E15,Sheet220!E15,Sheet221!E15,Sheet222!E15,Sheet223!E15,Sheet224!E15,Sheet225!E15,Sheet226!E15,Sheet227!E15,Sheet228!E15,Sheet229!E15,Sheet230!E15,Sheet231!E15,Sheet232!E15,Sheet233!E15,Sheet234!E15,Sheet235!E15,Sheet236!E15,Sheet237!E15,Sheet238!E15,Sheet239!E15,Sheet240!E15,Sheet241!E15,Sheet242!E15,Sheet243!E15,Sheet244!E15,Sheet245!E15,Sheet246!E15,Sheet247!E15,Sheet248!E15,Sheet249!E15,Sheet250!E15) -> 72 | F15: =SUM(sheet1!F15,Sheet2!F15,Sheet3!F15,Sheet4!F15,Sheet5!F15,Sheet6!F15,Sheet7!F15,Sheet8!F15,Sheet9!F15,Sheet10!F15,Sheet11!F15,Sheet12!F15,Sheet13!F15,Sheet14!F15,Sheet15!F15,Sheet16!F15,Sheet17!F15,Sheet18!F15,Sheet19!F15,Sheet20!F15,Sheet21!F15,Sheet22!F15,Sheet23!F15,Sheet24!F15,Sheet25!F15,Sheet26!F15,Sheet27!F15,Sheet28!F15,Sheet29!F15,Sheet30!F15,Sheet31!F15,Sheet32!F15,Sheet33!F15,Sheet34!F15,Sheet35!F15,Sheet36!F15,Sheet37!F15,Sheet38!F15,Sheet39!F15,Sheet40!F15,Sheet41!F15,Sheet42!F15,Sheet43!F15,Sheet44!F15,Sheet45!F15,Sheet46!F15,Sheet47!F15,Sheet48!F15,Sheet49!F15,Sheet50!F15,Sheet51!F15,Sheet52!F15,Sheet53!F15,Sheet54!F15,Sheet55!F15,Sheet56!F15,Sheet57!F15,Sheet58!F15,Sheet59!F15,Sheet60!F15,Sheet61!F15,Sheet62!F15,Sheet63!F15,Sheet64!F15,Sheet65!F15,Sheet66!F15,Sheet67!F15,Sheet68!F15,Sheet69!F15,Sheet70!F15,Sheet71!F15,Sheet72!F15,Sheet73!F15,Sheet74!F15,Sheet75!F15,Sheet76!F15,Sheet77!F15,Sheet78!F15,Sheet79!F15,Sheet80!F15,Sheet81!F15,Sheet82!F15,Sheet83!F15,Sheet84!F15,Sheet85!F15,Sheet86!F15,Sheet87!F15,Sheet88!F15,Sheet89!F15,Sheet90!F15,Sheet91!F15,Sheet92!F15,Sheet93!F15,Sheet94!F15,Sheet95!F15,Sheet96!F15,Sheet97!F15,Sheet98!F15,Sheet99!F15,Sheet100!F15,Sheet101!F15,Sheet102!F15,Sheet103!F15,Sheet104!F15,Sheet105!F15,Sheet106!F15,Sheet107!F15,Sheet108!F15,Sheet109!F15,Sheet110!F15,Sheet111!F15,Sheet112!F15,Sheet113!F15,Sheet114!F15,Sheet115!F15,Sheet116!F15,Sheet117!F15,Sheet118!F15,Sheet119!F15,Sheet120!F15,Sheet121!F15,Sheet122!F15,Sheet123!F15,Sheet124!F15,Sheet125!F15,Sheet126!F15,Sheet127!F15,Sheet128!F15,Sheet129!F15,Sheet130!F15,Sheet131!F15,Sheet132!F15,Sheet133!F15,Sheet134!F15,Sheet135!F15,Sheet136!F15,Sheet137!F15,Sheet138!F15,Sheet139!F15,Sheet140!F15,Sheet141!F15,Sheet142!F15,Sheet143!F15,Sheet144!F15,Sheet145!F15,Sheet146!F15,Sheet147!F15,Sheet148!F15,Sheet149!F15,Sheet150!F15,Sheet151!F15,Sheet152!F15,Sheet153!F15,Sheet154!F15,Sheet155!F15,Sheet156!F15,Sheet157!F15,Sheet158!F15,Sheet159!F15,Sheet160!F15,Sheet161!F15,Sheet162!F15,Sheet163!F15,Sheet164!F15,Sheet165!F15,Sheet166!F15,Sheet167!F15,Sheet168!F15,Sheet169!F15,Sheet170!F15,Sheet171!F15,Sheet172!F15,Sheet173!F15,Sheet174!F15,Sheet175!F15,Sheet176!F15,Sheet177!F15,Sheet178!F15,Sheet179!F15,Sheet180!F15,Sheet181!F15,Sheet182!F15,Sheet183!F15,Sheet184!F15,Sheet185!F15,Sheet186!F15,Sheet187!F15,Sheet188!F15,Sheet189!F15,Sheet190!F15,Sheet191!F15,Sheet192!F15,Sheet193!F15,Sheet194!F15,Sheet195!F15,Sheet196!F15,Sheet197!F15,Sheet198!F15,Sheet199!F15,Sheet200!F15,Sheet201!F15,Sheet202!F15,Sheet203!F15,Sheet204!F15,Sheet205!F15,Sheet206!F15,Sheet207!F15,Sheet208!F15,Sheet209!F15,Sheet210!F15,Sheet211!F15,Sheet212!F15,Sheet213!F15,Sheet214!F15,Sheet215!F15,Sheet216!F15,Sheet217!F15,Sheet218!F15,Sheet219!F15,Sheet220!F15,Sheet221!F15,Sheet222!F15,Sheet223!F15,Sheet224!F15,Sheet225!F15,Sheet226!F15,Sheet227!F15,Sheet228!F15,Sheet229!F15,Sheet230!F15,Sheet231!F15,Sheet232!F15,Sheet233!F15,Sheet234!F15,Sheet235!F15,Sheet236!F15,Sheet237!F15,Sheet238!F15,Sheet239!F15,Sheet240!F15,Sheet241!F15,Sheet242!F15,Sheet243!F15,Sheet244!F15,Sheet245!F15,Sheet246!F15,Sheet247!F15,Sheet248!F15,Sheet249!F15,Sheet250!F15) -> 71 | G15: =SUM(sheet1!G15,Sheet2!G15,Sheet3!G15,Sheet4!G15,Sheet5!G15,Sheet6!G15,Sheet7!G15,Sheet8!G15,Sheet9!G15,Sheet10!G15,Sheet11!G15,Sheet12!G15,Sheet13!G15,Sheet14!G15,Sheet15!G15,Sheet16!G15,Sheet17!G15,Sheet18!G15,Sheet19!G15,Sheet20!G15,Sheet21!G15,Sheet22!G15,Sheet23!G15,Sheet24!G15,Sheet25!G15,Sheet26!G15,Sheet27!G15,Sheet28!G15,Sheet29!G15,Sheet30!G15,Sheet31!G15,Sheet32!G15,Sheet33!G15,Sheet34!G15,Sheet35!G15,Sheet36!G15,Sheet37!G15,Sheet38!G15,Sheet39!G15,Sheet40!G15,Sheet41!G15,Sheet42!G15,Sheet43!G15,Sheet44!G15,Sheet45!G15,Sheet46!G15,Sheet47!G15,Sheet48!G15,Sheet49!G15,Sheet50!G15,Sheet51!G15,Sheet52!G15,Sheet53!G15,Sheet54!G15,Sheet55!G15,Sheet56!G15,Sheet57!G15,Sheet58!G15,Sheet59!G15,Sheet60!G15,Sheet61!G15,Sheet62!G15,Sheet63!G15,Sheet64!G15,Sheet65!G15,Sheet66!G15,Sheet67!G15,Sheet68!G15,Sheet69!G15,Sheet70!G15,Sheet71!G15,Sheet72!G15,Sheet73!G15,Sheet74!G15,Sheet75!G15,Sheet76!G15,Sheet77!G15,Sheet78!G15,Sheet79!G15,Sheet80!G15,Sheet81!G15,Sheet82!G15,Sheet83!G15,Sheet84!G15,Sheet85!G15,Sheet86!G15,Sheet87!G15,Sheet88!G15,Sheet89!G15,Sheet90!G15,Sheet91!G15,Sheet92!G15,Sheet93!G15,Sheet94!G15,Sheet95!G15,Sheet96!G15,Sheet97!G15,Sheet98!G15,Sheet99!G15,Sheet100!G15,Sheet101!G15,Sheet102!G15,Sheet103!G15,Sheet104!G15,Sheet105!G15,Sheet106!G15,Sheet107!G15,Sheet108!G15,Sheet109!G15,Sheet110!G15,Sheet111!G15,Sheet112!G15,Sheet113!G15,Sheet114!G15,Sheet115!G15,Sheet116!G15,Sheet117!G15,Sheet118!G15,Sheet119!G15,Sheet120!G15,Sheet121!G15,Sheet122!G15,Sheet123!G15,Sheet124!G15,Sheet125!G15,Sheet126!G15,Sheet127!G15,Sheet128!G15,Sheet129!G15,Sheet130!G15,Sheet131!G15,Sheet132!G15,Sheet133!G15,Sheet134!G15,Sheet135!G15,Sheet136!G15,Sheet137!G15,Sheet138!G15,Sheet139!G15,Sheet140!G15,Sheet141!G15,Sheet142!G15,Sheet143!G15,Sheet144!G15,Sheet145!G15,Sheet146!G15,Sheet147!G15,Sheet148!G15,Sheet149!G15,Sheet150!G15,Sheet151!G15,Sheet152!G15,Sheet153!G15,Sheet154!G15,Sheet155!G15,Sheet156!G15,Sheet157!G15,Sheet158!G15,Sheet159!G15,Sheet160!G15,Sheet161!G15,Sheet162!G15,Sheet163!G15,Sheet164!G15,Sheet165!G15,Sheet166!G15,Sheet167!G15,Sheet168!G15,Sheet169!G15,Sheet170!G15,Sheet171!G15,Sheet172!G15,Sheet173!G15,Sheet174!G15,Sheet175!G15,Sheet176!G15,Sheet177!G15,Sheet178!G15,Sheet179!G15,Sheet180!G15,Sheet181!G15,Sheet182!G15,Sheet183!G15,Sheet184!G15,Sheet185!G15,Sheet186!G15,Sheet187!G15,Sheet188!G15,Sheet189!G15,Sheet190!G15,Sheet191!G15,Sheet192!G15,Sheet193!G15,Sheet194!G15,Sheet195!G15,Sheet196!G15,Sheet197!G15,Sheet198!G15,Sheet199!G15,Sheet200!G15,Sheet201!G15,Sheet202!G15,Sheet203!G15,Sheet204!G15,Sheet205!G15,Sheet206!G15,Sheet207!G15,Sheet208!G15,Sheet209!G15,Sheet210!G15,Sheet211!G15,Sheet212!G15,Sheet213!G15,Sheet214!G15,Sheet215!G15,Sheet216!G15,Sheet217!G15,Sheet218!G15,Sheet219!G15,Sheet220!G15,Sheet221!G15,Sheet222!G15,Sheet223!G15,Sheet224!G15,Sheet225!G15,Sheet226!G15,Sheet227!G15,Sheet228!G15,Sheet229!G15,Sheet230!G15,Sheet231!G15,Sheet232!G15,Sheet233!G15,Sheet234!G15,Sheet235!G15,Sheet236!G15,Sheet237!G15,Sheet238!G15,Sheet239!G15,Sheet240!G15,Sheet241!G15,Sheet242!G15,Sheet243!G15,Sheet244!G15,Sheet245!G15,Sheet246!G15,Sheet247!G15,Sheet248!G15,Sheet249!G15,Sheet250!G15) -> 0 | H15: =SUM(C15:G15) -> 291
B16: · 손수건 휴대하여 휴지 사용 줄이기 | C16: =SUM(sheet1!C16,Sheet2!C16,Sheet3!C16,Sheet4!C16,Sheet5!C16,Sheet6!C16,Sheet7!C16,Sheet8!C16,Sheet9!C16,Sheet10!C16,Sheet11!C16,Sheet12!C16,Sheet13!C16,Sheet14!C16,Sheet15!C16,Sheet16!C16,Sheet17!C16,Sheet18!C16,Sheet19!C16,Sheet20!C16,Sheet21!C16,Sheet22!C16,Sheet23!C16,Sheet24!C16,Sheet25!C16,Sheet26!C16,Sheet27!C16,Sheet28!C16,Sheet29!C16,Sheet30!C16,Sheet31!C16,Sheet32!C16,Sheet33!C16,Sheet34!C16,Sheet35!C16,Sheet36!C16,Sheet37!C16,Sheet38!C16,Sheet39!C16,Sheet40!C16,Sheet41!C16,Sheet42!C16,Sheet43!C16,Sheet44!C16,Sheet45!C16,Sheet46!C16,Sheet47!C16,Sheet48!C16,Sheet49!C16,Sheet50!C16,Sheet51!C16,Sheet52!C16,Sheet53!C16,Sheet54!C16,Sheet55!C16,Sheet56!C16,Sheet57!C16,Sheet58!C16,Sheet59!C16,Sheet60!C16,Sheet61!C16,Sheet62!C16,Sheet63!C16,Sheet64!C16,Sheet65!C16,Sheet66!C16,Sheet67!C16,Sheet68!C16,Sheet69!C16,Sheet70!C16,Sheet71!C16,Sheet72!C16,Sheet73!C16,Sheet74!C16,Sheet75!C16,Sheet76!C16,Sheet77!C16,Sheet78!C16,Sheet79!C16,Sheet80!C16,Sheet81!C16,Sheet82!C16,Sheet83!C16,Sheet84!C16,Sheet85!C16,Sheet86!C16,Sheet87!C16,Sheet88!C16,Sheet89!C16,Sheet90!C16,Sheet91!C16,Sheet92!C16,Sheet93!C16,Sheet94!C16,Sheet95!C16,Sheet96!C16,Sheet97!C16,Sheet98!C16,Sheet99!C16,Sheet100!C16,Sheet101!C16,Sheet102!C16,Sheet103!C16,Sheet104!C16,Sheet105!C16,Sheet106!C16,Sheet107!C16,Sheet108!C16,Sheet109!C16,Sheet110!C16,Sheet111!C16,Sheet112!C16,Sheet113!C16,Sheet114!C16,Sheet115!C16,Sheet116!C16,Sheet117!C16,Sheet118!C16,Sheet119!C16,Sheet120!C16,Sheet121!C16,Sheet122!C16,Sheet123!C16,Sheet124!C16,Sheet125!C16,Sheet126!C16,Sheet127!C16,Sheet128!C16,Sheet129!C16,Sheet130!C16,Sheet131!C16,Sheet132!C16,Sheet133!C16,Sheet134!C16,Sheet135!C16,Sheet136!C16,Sheet137!C16,Sheet138!C16,Sheet139!C16,Sheet140!C16,Sheet141!C16,Sheet142!C16,Sheet143!C16,Sheet144!C16,Sheet145!C16,Sheet146!C16,Sheet147!C16,Sheet148!C16,Sheet149!C16,Sheet150!C16,Sheet151!C16,Sheet152!C16,Sheet153!C16,Sheet154!C16,Sheet155!C16,Sheet156!C16,Sheet157!C16,Sheet158!C16,Sheet159!C16,Sheet160!C16,Sheet161!C16,Sheet162!C16,Sheet163!C16,Sheet164!C16,Sheet165!C16,Sheet166!C16,Sheet167!C16,Sheet168!C16,Sheet169!C16,Sheet170!C16,Sheet171!C16,Sheet172!C16,Sheet173!C16,Sheet174!C16,Sheet175!C16,Sheet176!C16,Sheet177!C16,Sheet178!C16,Sheet179!C16,Sheet180!C16,Sheet181!C16,Sheet182!C16,Sheet183!C16,Sheet184!C16,Sheet185!C16,Sheet186!C16,Sheet187!C16,Sheet188!C16,Sheet189!C16,Sheet190!C16,Sheet191!C16,Sheet192!C16,Sheet193!C16,Sheet194!C16,Sheet195!C16,Sheet196!C16,Sheet197!C16,Sheet198!C16,Sheet199!C16,Sheet200!C16,Sheet201!C16,Sheet202!C16,Sheet203!C16,Sheet204!C16,Sheet205!C16,Sheet206!C16,Sheet207!C16,Sheet208!C16,Sheet209!C16,Sheet210!C16,Sheet211!C16,Sheet212!C16,Sheet213!C16,Sheet214!C16,Sheet215!C16,Sheet216!C16,Sheet217!C16,Sheet218!C16,Sheet219!C16,Sheet220!C16,Sheet221!C16,Sheet222!C16,Sheet223!C16,Sheet224!C16,Sheet225!C16,Sheet226!C16,Sheet227!C16,Sheet228!C16,Sheet229!C16,Sheet230!C16,Sheet231!C16,Sheet232!C16,Sheet233!C16,Sheet234!C16,Sheet235!C16,Sheet236!C16,Sheet237!C16,Sheet238!C16,Sheet239!C16,Sheet240!C16,Sheet241!C16,Sheet242!C16,Sheet243!C16,Sheet244!C16,Sheet245!C16,Sheet246!C16,Sheet247!C16,Sheet248!C16,Sheet249!C16,Sheet250!C16) -> 141 | D16: =SUM(sheet1!D16,Sheet2!D16,Sheet3!D16,Sheet4!D16,Sheet5!D16,Sheet6!D16,Sheet7!D16,Sheet8!D16,Sheet9!D16,Sheet10!D16,Sheet11!D16,Sheet12!D16,Sheet13!D16,Sheet14!D16,Sheet15!D16,Sheet16!D16,Sheet17!D16,Sheet18!D16,Sheet19!D16,Sheet20!D16,Sheet21!D16,Sheet22!D16,Sheet23!D16,Sheet24!D16,Sheet25!D16,Sheet26!D16,Sheet27!D16,Sheet28!D16,Sheet29!D16,Sheet30!D16,Sheet31!D16,Sheet32!D16,Sheet33!D16,Sheet34!D16,Sheet35!D16,Sheet36!D16,Sheet37!D16,Sheet38!D16,Sheet39!D16,Sheet40!D16,Sheet41!D16,Sheet42!D16,Sheet43!D16,Sheet44!D16,Sheet45!D16,Sheet46!D16,Sheet47!D16,Sheet48!D16,Sheet49!D16,Sheet50!D16,Sheet51!D16,Sheet52!D16,Sheet53!D16,Sheet54!D16,Sheet55!D16,Sheet56!D16,Sheet57!D16,Sheet58!D16,Sheet59!D16,Sheet60!D16,Sheet61!D16,Sheet62!D16,Sheet63!D16,Sheet64!D16,Sheet65!D16,Sheet66!D16,Sheet67!D16,Sheet68!D16,Sheet69!D16,Sheet70!D16,Sheet71!D16,Sheet72!D16,Sheet73!D16,Sheet74!D16,Sheet75!D16,Sheet76!D16,Sheet77!D16,Sheet78!D16,Sheet79!D16,Sheet80!D16,Sheet81!D16,Sheet82!D16,Sheet83!D16,Sheet84!D16,Sheet85!D16,Sheet86!D16,Sheet87!D16,Sheet88!D16,Sheet89!D16,Sheet90!D16,Sheet91!D16,Sheet92!D16,Sheet93!D16,Sheet94!D16,Sheet95!D16,Sheet96!D16,Sheet97!D16,Sheet98!D16,Sheet99!D16,Sheet100!D16,Sheet101!D16,Sheet102!D16,Sheet103!D16,Sheet104!D16,Sheet105!D16,Sheet106!D16,Sheet107!D16,Sheet108!D16,Sheet109!D16,Sheet110!D16,Sheet111!D16,Sheet112!D16,Sheet113!D16,Sheet114!D16,Sheet115!D16,Sheet116!D16,Sheet117!D16,Sheet118!D16,Sheet119!D16,Sheet120!D16,Sheet121!D16,Sheet122!D16,Sheet123!D16,Sheet124!D16,Sheet125!D16,Sheet126!D16,Sheet127!D16,Sheet128!D16,Sheet129!D16,Sheet130!D16,Sheet131!D16,Sheet132!D16,Sheet133!D16,Sheet134!D16,Sheet135!D16,Sheet136!D16,Sheet137!D16,Sheet138!D16,Sheet139!D16,Sheet140!D16,Sheet141!D16,Sheet142!D16,Sheet143!D16,Sheet144!D16,Sheet145!D16,Sheet146!D16,Sheet147!D16,Sheet148!D16,Sheet149!D16,Sheet150!D16,Sheet151!D16,Sheet152!D16,Sheet153!D16,Sheet154!D16,Sheet155!D16,Sheet156!D16,Sheet157!D16,Sheet158!D16,Sheet159!D16,Sheet160!D16,Sheet161!D16,Sheet162!D16,Sheet163!D16,Sheet164!D16,Sheet165!D16,Sheet166!D16,Sheet167!D16,Sheet168!D16,Sheet169!D16,Sheet170!D16,Sheet171!D16,Sheet172!D16,Sheet173!D16,Sheet174!D16,Sheet175!D16,Sheet176!D16,Sheet177!D16,Sheet178!D16,Sheet179!D16,Sheet180!D16,Sheet181!D16,Sheet182!D16,Sheet183!D16,Sheet184!D16,Sheet185!D16,Sheet186!D16,Sheet187!D16,Sheet188!D16,Sheet189!D16,Sheet190!D16,Sheet191!D16,Sheet192!D16,Sheet193!D16,Sheet194!D16,Sheet195!D16,Sheet196!D16,Sheet197!D16,Sheet198!D16,Sheet199!D16,Sheet200!D16,Sheet201!D16,Sheet202!D16,Sheet203!D16,Sheet204!D16,Sheet205!D16,Sheet206!D16,Sheet207!D16,Sheet208!D16,Sheet209!D16,Sheet210!D16,Sheet211!D16,Sheet212!D16,Sheet213!D16,Sheet214!D16,Sheet215!D16,Sheet216!D16,Sheet217!D16,Sheet218!D16,Sheet219!D16,Sheet220!D16,Sheet221!D16,Sheet222!D16,Sheet223!D16,Sheet224!D16,Sheet225!D16,Sheet226!D16,Sheet227!D16,Sheet228!D16,Sheet229!D16,Sheet230!D16,Sheet231!D16,Sheet232!D16,Sheet233!D16,Sheet234!D16,Sheet235!D16,Sheet236!D16,Sheet237!D16,Sheet238!D16,Sheet239!D16,Sheet240!D16,Sheet241!D16,Sheet242!D16,Sheet243!D16,Sheet244!D16,Sheet245!D16,Sheet246!D16,Sheet247!D16,Sheet248!D16,Sheet249!D16,Sheet250!D16) -> 142 | E16: =SUM(sheet1!E16,Sheet2!E16,Sheet3!E16,Sheet4!E16,Sheet5!E16,Sheet6!E16,Sheet7!E16,Sheet8!E16,Sheet9!E16,Sheet10!E16,Sheet11!E16,Sheet12!E16,Sheet13!E16,Sheet14!E16,Sheet15!E16,Sheet16!E16,Sheet17!E16,Sheet18!E16,Sheet19!E16,Sheet20!E16,Sheet21!E16,Sheet22!E16,Sheet23!E16,Sheet24!E16,Sheet25!E16,Sheet26!E16,Sheet27!E16,Sheet28!E16,Sheet29!E16,Sheet30!E16,Sheet31!E16,Sheet32!E16,Sheet33!E16,Sheet34!E16,Sheet35!E16,Sheet36!E16,Sheet37!E16,Sheet38!E16,Sheet39!E16,Sheet40!E16,Sheet41!E16,Sheet42!E16,Sheet43!E16,Sheet44!E16,Sheet45!E16,Sheet46!E16,Sheet47!E16,Sheet48!E16,Sheet49!E16,Sheet50!E16,Sheet51!E16,Sheet52!E16,Sheet53!E16,Sheet54!E16,Sheet55!E16,Sheet56!E16,Sheet57!E16,Sheet58!E16,Sheet59!E16,Sheet60!E16,Sheet61!E16,Sheet62!E16,Sheet63!E16,Sheet64!E16,Sheet65!E16,Sheet66!E16,Sheet67!E16,Sheet68!E16,Sheet69!E16,Sheet70!E16,Sheet71!E16,Sheet72!E16,Sheet73!E16,Sheet74!E16,Sheet75!E16,Sheet76!E16,Sheet77!E16,Sheet78!E16,Sheet79!E16,Sheet80!E16,Sheet81!E16,Sheet82!E16,Sheet83!E16,Sheet84!E16,Sheet85!E16,Sheet86!E16,Sheet87!E16,Sheet88!E16,Sheet89!E16,Sheet90!E16,Sheet91!E16,Sheet92!E16,Sheet93!E16,Sheet94!E16,Sheet95!E16,Sheet96!E16,Sheet97!E16,Sheet98!E16,Sheet99!E16,Sheet100!E16,Sheet101!E16,Sheet102!E16,Sheet103!E16,Sheet104!E16,Sheet105!E16,Sheet106!E16,Sheet107!E16,Sheet108!E16,Sheet109!E16,Sheet110!E16,Sheet111!E16,Sheet112!E16,Sheet113!E16,Sheet114!E16,Sheet115!E16,Sheet116!E16,Sheet117!E16,Sheet118!E16,Sheet119!E16,Sheet120!E16,Sheet121!E16,Sheet122!E16,Sheet123!E16,Sheet124!E16,Sheet125!E16,Sheet126!E16,Sheet127!E16,Sheet128!E16,Sheet129!E16,Sheet130!E16,Sheet131!E16,Sheet132!E16,Sheet133!E16,Sheet134!E16,Sheet135!E16,Sheet136!E16,Sheet137!E16,Sheet138!E16,Sheet139!E16,Sheet140!E16,Sheet141!E16,Sheet142!E16,Sheet143!E16,Sheet144!E16,Sheet145!E16,Sheet146!E16,Sheet147!E16,Sheet148!E16,Sheet149!E16,Sheet150!E16,Sheet151!E16,Sheet152!E16,Sheet153!E16,Sheet154!E16,Sheet155!E16,Sheet156!E16,Sheet157!E16,Sheet158!E16,Sheet159!E16,Sheet160!E16,Sheet161!E16,Sheet162!E16,Sheet163!E16,Sheet164!E16,Sheet165!E16,Sheet166!E16,Sheet167!E16,Sheet168!E16,Sheet169!E16,Sheet170!E16,Sheet171!E16,Sheet172!E16,Sheet173!E16,Sheet174!E16,Sheet175!E16,Sheet176!E16,Sheet177!E16,Sheet178!E16,Sheet179!E16,Sheet180!E16,Sheet181!E16,Sheet182!E16,Sheet183!E16,Sheet184!E16,Sheet185!E16,Sheet186!E16,Sheet187!E16,Sheet188!E16,Sheet189!E16,Sheet190!E16,Sheet191!E16,Sheet192!E16,Sheet193!E16,Sheet194!E16,Sheet195!E16,Sheet196!E16,Sheet197!E16,Sheet198!E16,Sheet199!E16,Sheet200!E16,Sheet201!E16,Sheet202!E16,Sheet203!E16,Sheet204!E16,Sheet205!E16,Sheet206!E16,Sheet207!E16,Sheet208!E16,Sheet209!E16,Sheet210!E16,Sheet211!E16,Sheet212!E16,Sheet213!E16,Sheet214!E16,Sheet215!E16,Sheet216!E16,Sheet217!E16,Sheet218!E16,Sheet219!E16,Sheet220!E16,Sheet221!E16,Sheet222!E16,Sheet223!E16,Sheet224!E16,Sheet225!E16,Sheet226!E16,Sheet227!E16,Sheet228!E16,Sheet229!E16,Sheet230!E16,Sheet231!E16,Sheet232!E16,Sheet233!E16,Sheet234!E16,Sheet235!E16,Sheet236!E16,Sheet237!E16,Sheet238!E16,Sheet239!E16,Sheet240!E16,Sheet241!E16,Sheet242!E16,Sheet243!E16,Sheet244!E16,Sheet245!E16,Sheet246!E16,Sheet247!E16,Sheet248!E16,Sheet249!E16,Sheet250!E16) -> 143 | F16: =SUM(sheet1!F16,Sheet2!F16,Sheet3!F16,Sheet4!F16,Sheet5!F16,Sheet6!F16,Sheet7!F16,Sheet8!F16,Sheet9!F16,Sheet10!F16,Sheet11!F16,Sheet12!F16,Sheet13!F16,Sheet14!F16,Sheet15!F16,Sheet16!F16,Sheet17!F16,Sheet18!F16,Sheet19!F16,Sheet20!F16,Sheet21!F16,Sheet22!F16,Sheet23!F16,Sheet24!F16,Sheet25!F16,Sheet26!F16,Sheet27!F16,Sheet28!F16,Sheet29!F16,Sheet30!F16,Sheet31!F16,Sheet32!F16,Sheet33!F16,Sheet34!F16,Sheet35!F16,Sheet36!F16,Sheet37!F16,Sheet38!F16,Sheet39!F16,Sheet40!F16,Sheet41!F16,Sheet42!F16,Sheet43!F16,Sheet44!F16,Sheet45!F16,Sheet46!F16,Sheet47!F16,Sheet48!F16,Sheet49!F16,Sheet50!F16,Sheet51!F16,Sheet52!F16,Sheet53!F16,Sheet54!F16,Sheet55!F16,Sheet56!F16,Sheet57!F16,Sheet58!F16,Sheet59!F16,Sheet60!F16,Sheet61!F16,Sheet62!F16,Sheet63!F16,Sheet64!F16,Sheet65!F16,Sheet66!F16,Sheet67!F16,Sheet68!F16,Sheet69!F16,Sheet70!F16,Sheet71!F16,Sheet72!F16,Sheet73!F16,Sheet74!F16,Sheet75!F16,Sheet76!F16,Sheet77!F16,Sheet78!F16,Sheet79!F16,Sheet80!F16,Sheet81!F16,Sheet82!F16,Sheet83!F16,Sheet84!F16,Sheet85!F16,Sheet86!F16,Sheet87!F16,Sheet88!F16,Sheet89!F16,Sheet90!F16,Sheet91!F16,Sheet92!F16,Sheet93!F16,Sheet94!F16,Sheet95!F16,Sheet96!F16,Sheet97!F16,Sheet98!F16,Sheet99!F16,Sheet100!F16,Sheet101!F16,Sheet102!F16,Sheet103!F16,Sheet104!F16,Sheet105!F16,Sheet106!F16,Sheet107!F16,Sheet108!F16,Sheet109!F16,Sheet110!F16,Sheet111!F16,Sheet112!F16,Sheet113!F16,Sheet114!F16,Sheet115!F16,Sheet116!F16,Sheet117!F16,Sheet118!F16,Sheet119!F16,Sheet120!F16,Sheet121!F16,Sheet122!F16,Sheet123!F16,Sheet124!F16,Sheet125!F16,Sheet126!F16,Sheet127!F16,Sheet128!F16,Sheet129!F16,Sheet130!F16,Sheet131!F16,Sheet132!F16,Sheet133!F16,Sheet134!F16,Sheet135!F16,Sheet136!F16,Sheet137!F16,Sheet138!F16,Sheet139!F16,Sheet140!F16,Sheet141!F16,Sheet142!F16,Sheet143!F16,Sheet144!F16,Sheet145!F16,Sheet146!F16,Sheet147!F16,Sheet148!F16,Sheet149!F16,Sheet150!F16,Sheet151!F16,Sheet152!F16,Sheet153!F16,Sheet154!F16,Sheet155!F16,Sheet156!F16,Sheet157!F16,Sheet158!F16,Sheet159!F16,Sheet160!F16,Sheet161!F16,Sheet162!F16,Sheet163!F16,Sheet164!F16,Sheet165!F16,Sheet166!F16,Sheet167!F16,Sheet168!F16,Sheet169!F16,Sheet170!F16,Sheet171!F16,Sheet172!F16,Sheet173!F16,Sheet174!F16,Sheet175!F16,Sheet176!F16,Sheet177!F16,Sheet178!F16,Sheet179!F16,Sheet180!F16,Sheet181!F16,Sheet182!F16,Sheet183!F16,Sheet184!F16,Sheet185!F16,Sheet186!F16,Sheet187!F16,Sheet188!F16,Sheet189!F16,Sheet190!F16,Sheet191!F16,Sheet192!F16,Sheet193!F16,Sheet194!F16,Sheet195!F16,Sheet196!F16,Sheet197!F16,Sheet198!F16,Sheet199!F16,Sheet200!F16,Sheet201!F16,Sheet202!F16,Sheet203!F16,Sheet204!F16,Sheet205!F16,Sheet206!F16,Sheet207!F16,Sheet208!F16,Sheet209!F16,Sheet210!F16,Sheet211!F16,Sheet212!F16,Sheet213!F16,Sheet214!F16,Sheet215!F16,Sheet216!F16,Sheet217!F16,Sheet218!F16,Sheet219!F16,Sheet220!F16,Sheet221!F16,Sheet222!F16,Sheet223!F16,Sheet224!F16,Sheet225!F16,Sheet226!F16,Sheet227!F16,Sheet228!F16,Sheet229!F16,Sheet230!F16,Sheet231!F16,Sheet232!F16,Sheet233!F16,Sheet234!F16,Sheet235!F16,Sheet236!F16,Sheet237!F16,Sheet238!F16,Sheet239!F16,Sheet240!F16,Sheet241!F16,Sheet242!F16,Sheet243!F16,Sheet244!F16,Sheet245!F16,Sheet246!F16,Sheet247!F16,Sheet248!F16,Sheet249!F16,Sheet250!F16) -> 139 | G16: =SUM(sheet1!G16,Sheet2!G16,Sheet3!G16,Sheet4!G16,Sheet5!G16,Sheet6!G16,Sheet7!G16,Sheet8!G16,Sheet9!G16,Sheet10!G16,Sheet11!G16,Sheet12!G16,Sheet13!G16,Sheet14!G16,Sheet15!G16,Sheet16!G16,Sheet17!G16,Sheet18!G16,Sheet19!G16,Sheet20!G16,Sheet21!G16,Sheet22!G16,Sheet23!G16,Sheet24!G16,Sheet25!G16,Sheet26!G16,Sheet27!G16,Sheet28!G16,Sheet29!G16,Sheet30!G16,Sheet31!G16,Sheet32!G16,Sheet33!G16,Sheet34!G16,Sheet35!G16,Sheet36!G16,Sheet37!G16,Sheet38!G16,Sheet39!G16,Sheet40!G16,Sheet41!G16,Sheet42!G16,Sheet43!G16,Sheet44!G16,Sheet45!G16,Sheet46!G16,Sheet47!G16,Sheet48!G16,Sheet49!G16,Sheet50!G16,Sheet51!G16,Sheet52!G16,Sheet53!G16,Sheet54!G16,Sheet55!G16,Sheet56!G16,Sheet57!G16,Sheet58!G16,Sheet59!G16,Sheet60!G16,Sheet61!G16,Sheet62!G16,Sheet63!G16,Sheet64!G16,Sheet65!G16,Sheet66!G16,Sheet67!G16,Sheet68!G16,Sheet69!G16,Sheet70!G16,Sheet71!G16,Sheet72!G16,Sheet73!G16,Sheet74!G16,Sheet75!G16,Sheet76!G16,Sheet77!G16,Sheet78!G16,Sheet79!G16,Sheet80!G16,Sheet81!G16,Sheet82!G16,Sheet83!G16,Sheet84!G16,Sheet85!G16,Sheet86!G16,Sheet87!G16,Sheet88!G16,Sheet89!G16,Sheet90!G16,Sheet91!G16,Sheet92!G16,Sheet93!G16,Sheet94!G16,Sheet95!G16,Sheet96!G16,Sheet97!G16,Sheet98!G16,Sheet99!G16,Sheet100!G16,Sheet101!G16,Sheet102!G16,Sheet103!G16,Sheet104!G16,Sheet105!G16,Sheet106!G16,Sheet107!G16,Sheet108!G16,Sheet109!G16,Sheet110!G16,Sheet111!G16,Sheet112!G16,Sheet113!G16,Sheet114!G16,Sheet115!G16,Sheet116!G16,Sheet117!G16,Sheet118!G16,Sheet119!G16,Sheet120!G16,Sheet121!G16,Sheet122!G16,Sheet123!G16,Sheet124!G16,Sheet125!G16,Sheet126!G16,Sheet127!G16,Sheet128!G16,Sheet129!G16,Sheet130!G16,Sheet131!G16,Sheet132!G16,Sheet133!G16,Sheet134!G16,Sheet135!G16,Sheet136!G16,Sheet137!G16,Sheet138!G16,Sheet139!G16,Sheet140!G16,Sheet141!G16,Sheet142!G16,Sheet143!G16,Sheet144!G16,Sheet145!G16,Sheet146!G16,Sheet147!G16,Sheet148!G16,Sheet149!G16,Sheet150!G16,Sheet151!G16,Sheet152!G16,Sheet153!G16,Sheet154!G16,Sheet155!G16,Sheet156!G16,Sheet157!G16,Sheet158!G16,Sheet159!G16,Sheet160!G16,Sheet161!G16,Sheet162!G16,Sheet163!G16,Sheet164!G16,Sheet165!G16,Sheet166!G16,Sheet167!G16,Sheet168!G16,Sheet169!G16,Sheet170!G16,Sheet171!G16,Sheet172!G16,Sheet173!G16,Sheet174!G16,Sheet175!G16,Sheet176!G16,Sheet177!G16,Sheet178!G16,Sheet179!G16,Sheet180!G16,Sheet181!G16,Sheet182!G16,Sheet183!G16,Sheet184!G16,Sheet185!G16,Sheet186!G16,Sheet187!G16,Sheet188!G16,Sheet189!G16,Sheet190!G16,Sheet191!G16,Sheet192!G16,Sheet193!G16,Sheet194!G16,Sheet195!G16,Sheet196!G16,Sheet197!G16,Sheet198!G16,Sheet199!G16,Sheet200!G16,Sheet201!G16,Sheet202!G16,Sheet203!G16,Sheet204!G16,Sheet205!G16,Sheet206!G16,Sheet207!G16,Sheet208!G16,Sheet209!G16,Sheet210!G16,Sheet211!G16,Sheet212!G16,Sheet213!G16,Sheet214!G16,Sheet215!G16,Sheet216!G16,Sheet217!G16,Sheet218!G16,Sheet219!G16,Sheet220!G16,Sheet221!G16,Sheet222!G16,Sheet223!G16,Sheet224!G16,Sheet225!G16,Sheet226!G16,Sheet227!G16,Sheet228!G16,Sheet229!G16,Sheet230!G16,Sheet231!G16,Sheet232!G16,Sheet233!G16,Sheet234!G16,Sheet235!G16,Sheet236!G16,Sheet237!G16,Sheet238!G16,Sheet239!G16,Sheet240!G16,Sheet241!G16,Sheet242!G16,Sheet243!G16,Sheet244!G16,Sheet245!G16,Sheet246!G16,Sheet247!G16,Sheet248!G16,Sheet249!G16,Sheet250!G16) -> 0 | H16: =SUM(C16:G16) -> 565
B17: · 전기밥솥 보온시간 3시간 줄이기 | C17: =SUM(sheet1!C17,Sheet2!C17,Sheet3!C17,Sheet4!C17,Sheet5!C17,Sheet6!C17,Sheet7!C17,Sheet8!C17,Sheet9!C17,Sheet10!C17,Sheet11!C17,Sheet12!C17,Sheet13!C17,Sheet14!C17,Sheet15!C17,Sheet16!C17,Sheet17!C17,Sheet18!C17,Sheet19!C17,Sheet20!C17,Sheet21!C17,Sheet22!C17,Sheet23!C17,Sheet24!C17,Sheet25!C17,Sheet26!C17,Sheet27!C17,Sheet28!C17,Sheet29!C17,Sheet30!C17,Sheet31!C17,Sheet32!C17,Sheet33!C17,Sheet34!C17,Sheet35!C17,Sheet36!C17,Sheet37!C17,Sheet38!C17,Sheet39!C17,Sheet40!C17,Sheet41!C17,Sheet42!C17,Sheet43!C17,Sheet44!C17,Sheet45!C17,Sheet46!C17,Sheet47!C17,Sheet48!C17,Sheet49!C17,Sheet50!C17,Sheet51!C17,Sheet52!C17,Sheet53!C17,Sheet54!C17,Sheet55!C17,Sheet56!C17,Sheet57!C17,Sheet58!C17,Sheet59!C17,Sheet60!C17,Sheet61!C17,Sheet62!C17,Sheet63!C17,Sheet64!C17,Sheet65!C17,Sheet66!C17,Sheet67!C17,Sheet68!C17,Sheet69!C17,Sheet70!C17,Sheet71!C17,Sheet72!C17,Sheet73!C17,Sheet74!C17,Sheet75!C17,Sheet76!C17,Sheet77!C17,Sheet78!C17,Sheet79!C17,Sheet80!C17,Sheet81!C17,Sheet82!C17,Sheet83!C17,Sheet84!C17,Sheet85!C17,Sheet86!C17,Sheet87!C17,Sheet88!C17,Sheet89!C17,Sheet90!C17,Sheet91!C17,Sheet92!C17,Sheet93!C17,Sheet94!C17,Sheet95!C17,Sheet96!C17,Sheet97!C17,Sheet98!C17,Sheet99!C17,Sheet100!C17,Sheet101!C17,Sheet102!C17,Sheet103!C17,Sheet104!C17,Sheet105!C17,Sheet106!C17,Sheet107!C17,Sheet108!C17,Sheet109!C17,Sheet110!C17,Sheet111!C17,Sheet112!C17,Sheet113!C17,Sheet114!C17,Sheet115!C17,Sheet116!C17,Sheet117!C17,Sheet118!C17,Sheet119!C17,Sheet120!C17,Sheet121!C17,Sheet122!C17,Sheet123!C17,Sheet124!C17,Sheet125!C17,Sheet126!C17,Sheet127!C17,Sheet128!C17,Sheet129!C17,Sheet130!C17,Sheet131!C17,Sheet132!C17,Sheet133!C17,Sheet134!C17,Sheet135!C17,Sheet136!C17,Sheet137!C17,Sheet138!C17,Sheet139!C17,Sheet140!C17,Sheet141!C17,Sheet142!C17,Sheet143!C17,Sheet144!C17,Sheet145!C17,Sheet146!C17,Sheet147!C17,Sheet148!C17,Sheet149!C17,Sheet150!C17,Sheet151!C17,Sheet152!C17,Sheet153!C17,Sheet154!C17,Sheet155!C17,Sheet156!C17,Sheet157!C17,Sheet158!C17,Sheet159!C17,Sheet160!C17,Sheet161!C17,Sheet162!C17,Sheet163!C17,Sheet164!C17,Sheet165!C17,Sheet166!C17,Sheet167!C17,Sheet168!C17,Sheet169!C17,Sheet170!C17,Sheet171!C17,Sheet172!C17,Sheet173!C17,Sheet174!C17,Sheet175!C17,Sheet176!C17,Sheet177!C17,Sheet178!C17,Sheet179!C17,Sheet180!C17,Sheet181!C17,Sheet182!C17,Sheet183!C17,Sheet184!C17,Sheet185!C17,Sheet186!C17,Sheet187!C17,Sheet188!C17,Sheet189!C17,Sheet190!C17,Sheet191!C17,Sheet192!C17,Sheet193!C17,Sheet194!C17,Sheet195!C17,Sheet196!C17,Sheet197!C17,Sheet198!C17,Sheet199!C17,Sheet200!C17,Sheet201!C17,Sheet202!C17,Sheet203!C17,Sheet204!C17,Sheet205!C17,Sheet206!C17,Sheet207!C17,Sheet208!C17,Sheet209!C17,Sheet210!C17,Sheet211!C17,Sheet212!C17,Sheet213!C17,Sheet214!C17,Sheet215!C17,Sheet216!C17,Sheet217!C17,Sheet218!C17,Sheet219!C17,Sheet220!C17,Sheet221!C17,Sheet222!C17,Sheet223!C17,Sheet224!C17,Sheet225!C17,Sheet226!C17,Sheet227!C17,Sheet228!C17,Sheet229!C17,Sheet230!C17,Sheet231!C17,Sheet232!C17,Sheet233!C17,Sheet234!C17,Sheet235!C17,Sheet236!C17,Sheet237!C17,Sheet238!C17,Sheet239!C17,Sheet240!C17,Sheet241!C17,Sheet242!C17,Sheet243!C17,Sheet244!C17,Sheet245!C17,Sheet246!C17,Sheet247!C17,Sheet248!C17,Sheet249!C17,Sheet250!C17) -> 50 | D17: =SUM(sheet1!D17,Sheet2!D17,Sheet3!D17,Sheet4!D17,Sheet5!D17,Sheet6!D17,Sheet7!D17,Sheet8!D17,Sheet9!D17,Sheet10!D17,Sheet11!D17,Sheet12!D17,Sheet13!D17,Sheet14!D17,Sheet15!D17,Sheet16!D17,Sheet17!D17,Sheet18!D17,Sheet19!D17,Sheet20!D17,Sheet21!D17,Sheet22!D17,Sheet23!D17,Sheet24!D17,Sheet25!D17,Sheet26!D17,Sheet27!D17,Sheet28!D17,Sheet29!D17,Sheet30!D17,Sheet31!D17,Sheet32!D17,Sheet33!D17,Sheet34!D17,Sheet35!D17,Sheet36!D17,Sheet37!D17,Sheet38!D17,Sheet39!D17,Sheet40!D17,Sheet41!D17,Sheet42!D17,Sheet43!D17,Sheet44!D17,Sheet45!D17,Sheet46!D17,Sheet47!D17,Sheet48!D17,Sheet49!D17,Sheet50!D17,Sheet51!D17,Sheet52!D17,Sheet53!D17,Sheet54!D17,Sheet55!D17,Sheet56!D17,Sheet57!D17,Sheet58!D17,Sheet59!D17,Sheet60!D17,Sheet61!D17,Sheet62!D17,Sheet63!D17,Sheet64!D17,Sheet65!D17,Sheet66!D17,Sheet67!D17,Sheet68!D17,Sheet69!D17,Sheet70!D17,Sheet71!D17,Sheet72!D17,Sheet73!D17,Sheet74!D17,Sheet75!D17,Sheet76!D17,Sheet77!D17,Sheet78!D17,Sheet79!D17,Sheet80!D17,Sheet81!D17,Sheet82!D17,Sheet83!D17,Sheet84!D17,Sheet85!D17,Sheet86!D17,Sheet87!D17,Sheet88!D17,Sheet89!D17,Sheet90!D17,Sheet91!D17,Sheet92!D17,Sheet93!D17,Sheet94!D17,Sheet95!D17,Sheet96!D17,Sheet97!D17,Sheet98!D17,Sheet99!D17,Sheet100!D17,Sheet101!D17,Sheet102!D17,Sheet103!D17,Sheet104!D17,Sheet105!D17,Sheet106!D17,Sheet107!D17,Sheet108!D17,Sheet109!D17,Sheet110!D17,Sheet111!D17,Sheet112!D17,Sheet113!D17,Sheet114!D17,Sheet115!D17,Sheet116!D17,Sheet117!D17,Sheet118!D17,Sheet119!D17,Sheet120!D17,Sheet121!D17,Sheet122!D17,Sheet123!D17,Sheet124!D17,Sheet125!D17,Sheet126!D17,Sheet127!D17,Sheet128!D17,Sheet129!D17,Sheet130!D17,Sheet131!D17,Sheet132!D17,Sheet133!D17,Sheet134!D17,Sheet135!D17,Sheet136!D17,Sheet137!D17,Sheet138!D17,Sheet139!D17,Sheet140!D17,Sheet141!D17,Sheet142!D17,Sheet143!D17,Sheet144!D17,Sheet145!D17,Sheet146!D17,Sheet147!D17,Sheet148!D17,Sheet149!D17,Sheet150!D17,Sheet151!D17,Sheet152!D17,Sheet153!D17,Sheet154!D17,Sheet155!D17,Sheet156!D17,Sheet157!D17,Sheet158!D17,Sheet159!D17,Sheet160!D17,Sheet161!D17,Sheet162!D17,Sheet163!D17,Sheet164!D17,Sheet165!D17,Sheet166!D17,Sheet167!D17,Sheet168!D17,Sheet169!D17,Sheet170!D17,Sheet171!D17,Sheet172!D17,Sheet173!D17,Sheet174!D17,Sheet175!D17,Sheet176!D17,Sheet177!D17,Sheet178!D17,Sheet179!D17,Sheet180!D17,Sheet181!D17,Sheet182!D17,Sheet183!D17,Sheet184!D17,Sheet185!D17,Sheet186!D17,Sheet187!D17,Sheet188!D17,Sheet189!D17,Sheet190!D17,Sheet191!D17,Sheet192!D17,Sheet193!D17,Sheet194!D17,Sheet195!D17,Sheet196!D17,Sheet197!D17,Sheet198!D17,Sheet199!D17,Sheet200!D17,Sheet201!D17,Sheet202!D17,Sheet203!D17,Sheet204!D17,Sheet205!D17,Sheet206!D17,Sheet207!D17,Sheet208!D17,Sheet209!D17,Sheet210!D17,Sheet211!D17,Sheet212!D17,Sheet213!D17,Sheet214!D17,Sheet215!D17,Sheet216!D17,Sheet217!D17,Sheet218!D17,Sheet219!D17,Sheet220!D17,Sheet221!D17,Sheet222!D17,Sheet223!D17,Sheet224!D17,Sheet225!D17,Sheet226!D17,Sheet227!D17,Sheet228!D17,Sheet229!D17,Sheet230!D17,Sheet231!D17,Sheet232!D17,Sheet233!D17,Sheet234!D17,Sheet235!D17,Sheet236!D17,Sheet237!D17,Sheet238!D17,Sheet239!D17,Sheet240!D17,Sheet241!D17,Sheet242!D17,Sheet243!D17,Sheet244!D17,Sheet245!D17,Sheet246!D17,Sheet247!D17,Sheet248!D17,Sheet249!D17,Sheet250!D17) -> 39 | E17: =SUM(sheet1!E17,Sheet2!E17,Sheet3!E17,Sheet4!E17,Sheet5!E17,Sheet6!E17,Sheet7!E17,Sheet8!E17,Sheet9!E17,Sheet10!E17,Sheet11!E17,Sheet12!E17,Sheet13!E17,Sheet14!E17,Sheet15!E17,Sheet16!E17,Sheet17!E17,Sheet18!E17,Sheet19!E17,Sheet20!E17,Sheet21!E17,Sheet22!E17,Sheet23!E17,Sheet24!E17,Sheet25!E17,Sheet26!E17,Sheet27!E17,Sheet28!E17,Sheet29!E17,Sheet30!E17,Sheet31!E17,Sheet32!E17,Sheet33!E17,Sheet34!E17,Sheet35!E17,Sheet36!E17,Sheet37!E17,Sheet38!E17,Sheet39!E17,Sheet40!E17,Sheet41!E17,Sheet42!E17,Sheet43!E17,Sheet44!E17,Sheet45!E17,Sheet46!E17,Sheet47!E17,Sheet48!E17,Sheet49!E17,Sheet50!E17,Sheet51!E17,Sheet52!E17,Sheet53!E17,Sheet54!E17,Sheet55!E17,Sheet56!E17,Sheet57!E17,Sheet58!E17,Sheet59!E17,Sheet60!E17,Sheet61!E17,Sheet62!E17,Sheet63!E17,Sheet64!E17,Sheet65!E17,Sheet66!E17,Sheet67!E17,Sheet68!E17,Sheet69!E17,Sheet70!E17,Sheet71!E17,Sheet72!E17,Sheet73!E17,Sheet74!E17,Sheet75!E17,Sheet76!E17,Sheet77!E17,Sheet78!E17,Sheet79!E17,Sheet80!E17,Sheet81!E17,Sheet82!E17,Sheet83!E17,Sheet84!E17,Sheet85!E17,Sheet86!E17,Sheet87!E17,Sheet88!E17,Sheet89!E17,Sheet90!E17,Sheet91!E17,Sheet92!E17,Sheet93!E17,Sheet94!E17,Sheet95!E17,Sheet96!E17,Sheet97!E17,Sheet98!E17,Sheet99!E17,Sheet100!E17,Sheet101!E17,Sheet102!E17,Sheet103!E17,Sheet104!E17,Sheet105!E17,Sheet106!E17,Sheet107!E17,Sheet108!E17,Sheet109!E17,Sheet110!E17,Sheet111!E17,Sheet112!E17,Sheet113!E17,Sheet114!E17,Sheet115!E17,Sheet116!E17,Sheet117!E17,Sheet118!E17,Sheet119!E17,Sheet120!E17,Sheet121!E17,Sheet122!E17,Sheet123!E17,Sheet124!E17,Sheet125!E17,Sheet126!E17,Sheet127!E17,Sheet128!E17,Sheet129!E17,Sheet130!E17,Sheet131!E17,Sheet132!E17,Sheet133!E17,Sheet134!E17,Sheet135!E17,Sheet136!E17,Sheet137!E17,Sheet138!E17,Sheet139!E17,Sheet140!E17,Sheet141!E17,Sheet142!E17,Sheet143!E17,Sheet144!E17,Sheet145!E17,Sheet146!E17,Sheet147!E17,Sheet148!E17,Sheet149!E17,Sheet150!E17,Sheet151!E17,Sheet152!E17,Sheet153!E17,Sheet154!E17,Sheet155!E17,Sheet156!E17,Sheet157!E17,Sheet158!E17,Sheet159!E17,Sheet160!E17,Sheet161!E17,Sheet162!E17,Sheet163!E17,Sheet164!E17,Sheet165!E17,Sheet166!E17,Sheet167!E17,Sheet168!E17,Sheet169!E17,Sheet170!E17,Sheet171!E17,Sheet172!E17,Sheet173!E17,Sheet174!E17,Sheet175!E17,Sheet176!E17,Sheet177!E17,Sheet178!E17,Sheet179!E17,Sheet180!E17,Sheet181!E17,Sheet182!E17,Sheet183!E17,Sheet184!E17,Sheet185!E17,Sheet186!E17,Sheet187!E17,Sheet188!E17,Sheet189!E17,Sheet190!E17,Sheet191!E17,Sheet192!E17,Sheet193!E17,Sheet194!E17,Sheet195!E17,Sheet196!E17,Sheet197!E17,Sheet198!E17,Sheet199!E17,Sheet200!E17,Sheet201!E17,Sheet202!E17,Sheet203!E17,Sheet204!E17,Sheet205!E17,Sheet206!E17,Sheet207!E17,Sheet208!E17,Sheet209!E17,Sheet210!E17,Sheet211!E17,Sheet212!E17,Sheet213!E17,Sheet214!E17,Sheet215!E17,Sheet216!E17,Sheet217!E17,Sheet218!E17,Sheet219!E17,Sheet220!E17,Sheet221!E17,Sheet222!E17,Sheet223!E17,Sheet224!E17,Sheet225!E17,Sheet226!E17,Sheet227!E17,Sheet228!E17,Sheet229!E17,Sheet230!E17,Sheet231!E17,Sheet232!E17,Sheet233!E17,Sheet234!E17,Sheet235!E17,Sheet236!E17,Sheet237!E17,Sheet238!E17,Sheet239!E17,Sheet240!E17,Sheet241!E17,Sheet242!E17,Sheet243!E17,Sheet244!E17,Sheet245!E17,Sheet246!E17,Sheet247!E17,Sheet248!E17,Sheet249!E17,Sheet250!E17) -> 44 | F17: =SUM(sheet1!F17,Sheet2!F17,Sheet3!F17,Sheet4!F17,Sheet5!F17,Sheet6!F17,Sheet7!F17,Sheet8!F17,Sheet9!F17,Sheet10!F17,Sheet11!F17,Sheet12!F17,Sheet13!F17,Sheet14!F17,Sheet15!F17,Sheet16!F17,Sheet17!F17,Sheet18!F17,Sheet19!F17,Sheet20!F17,Sheet21!F17,Sheet22!F17,Sheet23!F17,Sheet24!F17,Sheet25!F17,Sheet26!F17,Sheet27!F17,Sheet28!F17,Sheet29!F17,Sheet30!F17,Sheet31!F17,Sheet32!F17,Sheet33!F17,Sheet34!F17,Sheet35!F17,Sheet36!F17,Sheet37!F17,Sheet38!F17,Sheet39!F17,Sheet40!F17,Sheet41!F17,Sheet42!F17,Sheet43!F17,Sheet44!F17,Sheet45!F17,Sheet46!F17,Sheet47!F17,Sheet48!F17,Sheet49!F17,Sheet50!F17,Sheet51!F17,Sheet52!F17,Sheet53!F17,Sheet54!F17,Sheet55!F17,Sheet56!F17,Sheet57!F17,Sheet58!F17,Sheet59!F17,Sheet60!F17,Sheet61!F17,Sheet62!F17,Sheet63!F17,Sheet64!F17,Sheet65!F17,Sheet66!F17,Sheet67!F17,Sheet68!F17,Sheet69!F17,Sheet70!F17,Sheet71!F17,Sheet72!F17,Sheet73!F17,Sheet74!F17,Sheet75!F17,Sheet76!F17,Sheet77!F17,Sheet78!F17,Sheet79!F17,Sheet80!F17,Sheet81!F17,Sheet82!F17,Sheet83!F17,Sheet84!F17,Sheet85!F17,Sheet86!F17,Sheet87!F17,Sheet88!F17,Sheet89!F17,Sheet90!F17,Sheet91!F17,Sheet92!F17,Sheet93!F17,Sheet94!F17,Sheet95!F17,Sheet96!F17,Sheet97!F17,Sheet98!F17,Sheet99!F17,Sheet100!F17,Sheet101!F17,Sheet102!F17,Sheet103!F17,Sheet104!F17,Sheet105!F17,Sheet106!F17,Sheet107!F17,Sheet108!F17,Sheet109!F17,Sheet110!F17,Sheet111!F17,Sheet112!F17,Sheet113!F17,Sheet114!F17,Sheet115!F17,Sheet116!F17,Sheet117!F17,Sheet118!F17,Sheet119!F17,Sheet120!F17,Sheet121!F17,Sheet122!F17,Sheet123!F17,Sheet124!F17,Sheet125!F17,Sheet126!F17,Sheet127!F17,Sheet128!F17,Sheet129!F17,Sheet130!F17,Sheet131!F17,Sheet132!F17,Sheet133!F17,Sheet134!F17,Sheet135!F17,Sheet136!F17,Sheet137!F17,Sheet138!F17,Sheet139!F17,Sheet140!F17,Sheet141!F17,Sheet142!F17,Sheet143!F17,Sheet144!F17,Sheet145!F17,Sheet146!F17,Sheet147!F17,Sheet148!F17,Sheet149!F17,Sheet150!F17,Sheet151!F17,Sheet152!F17,Sheet153!F17,Sheet154!F17,Sheet155!F17,Sheet156!F17,Sheet157!F17,Sheet158!F17,Sheet159!F17,Sheet160!F17,Sheet161!F17,Sheet162!F17,Sheet163!F17,Sheet164!F17,Sheet165!F17,Sheet166!F17,Sheet167!F17,Sheet168!F17,Sheet169!F17,Sheet170!F17,Sheet171!F17,Sheet172!F17,Sheet173!F17,Sheet174!F17,Sheet175!F17,Sheet176!F17,Sheet177!F17,Sheet178!F17,Sheet179!F17,Sheet180!F17,Sheet181!F17,Sheet182!F17,Sheet183!F17,Sheet184!F17,Sheet185!F17,Sheet186!F17,Sheet187!F17,Sheet188!F17,Sheet189!F17,Sheet190!F17,Sheet191!F17,Sheet192!F17,Sheet193!F17,Sheet194!F17,Sheet195!F17,Sheet196!F17,Sheet197!F17,Sheet198!F17,Sheet199!F17,Sheet200!F17,Sheet201!F17,Sheet202!F17,Sheet203!F17,Sheet204!F17,Sheet205!F17,Sheet206!F17,Sheet207!F17,Sheet208!F17,Sheet209!F17,Sheet210!F17,Sheet211!F17,Sheet212!F17,Sheet213!F17,Sheet214!F17,Sheet215!F17,Sheet216!F17,Sheet217!F17,Sheet218!F17,Sheet219!F17,Sheet220!F17,Sheet221!F17,Sheet222!F17,Sheet223!F17,Sheet224!F17,Sheet225!F17,Sheet226!F17,Sheet227!F17,Sheet228!F17,Sheet229!F17,Sheet230!F17,Sheet231!F17,Sheet232!F17,Sheet233!F17,Sheet234!F17,Sheet235!F17,Sheet236!F17,Sheet237!F17,Sheet238!F17,Sheet239!F17,Sheet240!F17,Sheet241!F17,Sheet242!F17,Sheet243!F17,Sheet244!F17,Sheet245!F17,Sheet246!F17,Sheet247!F17,Sheet248!F17,Sheet249!F17,Sheet250!F17) -> 42 | G17: =SUM(sheet1!G17,Sheet2!G17,Sheet3!G17,Sheet4!G17,Sheet5!G17,Sheet6!G17,Sheet7!G17,Sheet8!G17,Sheet9!G17,Sheet10!G17,Sheet11!G17,Sheet12!G17,Sheet13!G17,Sheet14!G17,Sheet15!G17,Sheet16!G17,Sheet17!G17,Sheet18!G17,Sheet19!G17,Sheet20!G17,Sheet21!G17,Sheet22!G17,Sheet23!G17,Sheet24!G17,Sheet25!G17,Sheet26!G17,Sheet27!G17,Sheet28!G17,Sheet29!G17,Sheet30!G17,Sheet31!G17,Sheet32!G17,Sheet33!G17,Sheet34!G17,Sheet35!G17,Sheet36!G17,Sheet37!G17,Sheet38!G17,Sheet39!G17,Sheet40!G17,Sheet41!G17,Sheet42!G17,Sheet43!G17,Sheet44!G17,Sheet45!G17,Sheet46!G17,Sheet47!G17,Sheet48!G17,Sheet49!G17,Sheet50!G17,Sheet51!G17,Sheet52!G17,Sheet53!G17,Sheet54!G17,Sheet55!G17,Sheet56!G17,Sheet57!G17,Sheet58!G17,Sheet59!G17,Sheet60!G17,Sheet61!G17,Sheet62!G17,Sheet63!G17,Sheet64!G17,Sheet65!G17,Sheet66!G17,Sheet67!G17,Sheet68!G17,Sheet69!G17,Sheet70!G17,Sheet71!G17,Sheet72!G17,Sheet73!G17,Sheet74!G17,Sheet75!G17,Sheet76!G17,Sheet77!G17,Sheet78!G17,Sheet79!G17,Sheet80!G17,Sheet81!G17,Sheet82!G17,Sheet83!G17,Sheet84!G17,Sheet85!G17,Sheet86!G17,Sheet87!G17,Sheet88!G17,Sheet89!G17,Sheet90!G17,Sheet91!G17,Sheet92!G17,Sheet93!G17,Sheet94!G17,Sheet95!G17,Sheet96!G17,Sheet97!G17,Sheet98!G17,Sheet99!G17,Sheet100!G17,Sheet101!G17,Sheet102!G17,Sheet103!G17,Sheet104!G17,Sheet105!G17,Sheet106!G17,Sheet107!G17,Sheet108!G17,Sheet109!G17,Sheet110!G17,Sheet111!G17,Sheet112!G17,Sheet113!G17,Sheet114!G17,Sheet115!G17,Sheet116!G17,Sheet117!G17,Sheet118!G17,Sheet119!G17,Sheet120!G17,Sheet121!G17,Sheet122!G17,Sheet123!G17,Sheet124!G17,Sheet125!G17,Sheet126!G17,Sheet127!G17,Sheet128!G17,Sheet129!G17,Sheet130!G17,Sheet131!G17,Sheet132!G17,Sheet133!G17,Sheet134!G17,Sheet135!G17,Sheet136!G17,Sheet137!G17,Sheet138!G17,Sheet139!G17,Sheet140!G17,Sheet141!G17,Sheet142!G17,Sheet143!G17,Sheet144!G17,Sheet145!G17,Sheet146!G17,Sheet147!G17,Sheet148!G17,Sheet149!G17,Sheet150!G17,Sheet151!G17,Sheet152!G17,Sheet153!G17,Sheet154!G17,Sheet155!G17,Sheet156!G17,Sheet157!G17,Sheet158!G17,Sheet159!G17,Sheet160!G17,Sheet161!G17,Sheet162!G17,Sheet163!G17,Sheet164!G17,Sheet165!G17,Sheet166!G17,Sheet167!G17,Sheet168!G17,Sheet169!G17,Sheet170!G17,Sheet171!G17,Sheet172!G17,Sheet173!G17,Sheet174!G17,Sheet175!G17,Sheet176!G17,Sheet177!G17,Sheet178!G17,Sheet179!G17,Sheet180!G17,Sheet181!G17,Sheet182!G17,Sheet183!G17,Sheet184!G17,Sheet185!G17,Sheet186!G17,Sheet187!G17,Sheet188!G17,Sheet189!G17,Sheet190!G17,Sheet191!G17,Sheet192!G17,Sheet193!G17,Sheet194!G17,Sheet195!G17,Sheet196!G17,Sheet197!G17,Sheet198!G17,Sheet199!G17,Sheet200!G17,Sheet201!G17,Sheet202!G17,Sheet203!G17,Sheet204!G17,Sheet205!G17,Sheet206!G17,Sheet207!G17,Sheet208!G17,Sheet209!G17,Sheet210!G17,Sheet211!G17,Sheet212!G17,Sheet213!G17,Sheet214!G17,Sheet215!G17,Sheet216!G17,Sheet217!G17,Sheet218!G17,Sheet219!G17,Sheet220!G17,Sheet221!G17,Sheet222!G17,Sheet223!G17,Sheet224!G17,Sheet225!G17,Sheet226!G17,Sheet227!G17,Sheet228!G17,Sheet229!G17,Sheet230!G17,Sheet231!G17,Sheet232!G17,Sheet233!G17,Sheet234!G17,Sheet235!G17,Sheet236!G17,Sheet237!G17,Sheet238!G17,Sheet239!G17,Sheet240!G17,Sheet241!G17,Sheet242!G17,Sheet243!G17,Sheet244!G17,Sheet245!G17,Sheet246!G17,Sheet247!G17,Sheet248!G17,Sheet249!G17,Sheet250!G17) -> 0 | H17: =SUM(C17:G17) -> 175
B18: · 빨래는 한꺼번에 모아 세탁기에 돌리기 | C18: =SUM(sheet1!C18,Sheet2!C18,Sheet3!C18,Sheet4!C18,Sheet5!C18,Sheet6!C18,Sheet7!C18,Sheet8!C18,Sheet9!C18,Sheet10!C18,Sheet11!C18,Sheet12!C18,Sheet13!C18,Sheet14!C18,Sheet15!C18,Sheet16!C18,Sheet17!C18,Sheet18!C18,Sheet19!C18,Sheet20!C18,Sheet21!C18,Sheet22!C18,Sheet23!C18,Sheet24!C18,Sheet25!C18,Sheet26!C18,Sheet27!C18,Sheet28!C18,Sheet29!C18,Sheet30!C18,Sheet31!C18,Sheet32!C18,Sheet33!C18,Sheet34!C18,Sheet35!C18,Sheet36!C18,Sheet37!C18,Sheet38!C18,Sheet39!C18,Sheet40!C18,Sheet41!C18,Sheet42!C18,Sheet43!C18,Sheet44!C18,Sheet45!C18,Sheet46!C18,Sheet47!C18,Sheet48!C18,Sheet49!C18,Sheet50!C18,Sheet51!C18,Sheet52!C18,Sheet53!C18,Sheet54!C18,Sheet55!C18,Sheet56!C18,Sheet57!C18,Sheet58!C18,Sheet59!C18,Sheet60!C18,Sheet61!C18,Sheet62!C18,Sheet63!C18,Sheet64!C18,Sheet65!C18,Sheet66!C18,Sheet67!C18,Sheet68!C18,Sheet69!C18,Sheet70!C18,Sheet71!C18,Sheet72!C18,Sheet73!C18,Sheet74!C18,Sheet75!C18,Sheet76!C18,Sheet77!C18,Sheet78!C18,Sheet79!C18,Sheet80!C18,Sheet81!C18,Sheet82!C18,Sheet83!C18,Sheet84!C18,Sheet85!C18,Sheet86!C18,Sheet87!C18,Sheet88!C18,Sheet89!C18,Sheet90!C18,Sheet91!C18,Sheet92!C18,Sheet93!C18,Sheet94!C18,Sheet95!C18,Sheet96!C18,Sheet97!C18,Sheet98!C18,Sheet99!C18,Sheet100!C18,Sheet101!C18,Sheet102!C18,Sheet103!C18,Sheet104!C18,Sheet105!C18,Sheet106!C18,Sheet107!C18,Sheet108!C18,Sheet109!C18,Sheet110!C18,Sheet111!C18,Sheet112!C18,Sheet113!C18,Sheet114!C18,Sheet115!C18,Sheet116!C18,Sheet117!C18,Sheet118!C18,Sheet119!C18,Sheet120!C18,Sheet121!C18,Sheet122!C18,Sheet123!C18,Sheet124!C18,Sheet125!C18,Sheet126!C18,Sheet127!C18,Sheet128!C18,Sheet129!C18,Sheet130!C18,Sheet131!C18,Sheet132!C18,Sheet133!C18,Sheet134!C18,Sheet135!C18,Sheet136!C18,Sheet137!C18,Sheet138!C18,Sheet139!C18,Sheet140!C18,Sheet141!C18,Sheet142!C18,Sheet143!C18,Sheet144!C18,Sheet145!C18,Sheet146!C18,Sheet147!C18,Sheet148!C18,Sheet149!C18,Sheet150!C18,Sheet151!C18,Sheet152!C18,Sheet153!C18,Sheet154!C18,Sheet155!C18,Sheet156!C18,Sheet157!C18,Sheet158!C18,Sheet159!C18,Sheet160!C18,Sheet161!C18,Sheet162!C18,Sheet163!C18,Sheet164!C18,Sheet165!C18,Sheet166!C18,Sheet167!C18,Sheet168!C18,Sheet169!C18,Sheet170!C18,Sheet171!C18,Sheet172!C18,Sheet173!C18,Sheet174!C18,Sheet175!C18,Sheet176!C18,Sheet177!C18,Sheet178!C18,Sheet179!C18,Sheet180!C18,Sheet181!C18,Sheet182!C18,Sheet183!C18,Sheet184!C18,Sheet185!C18,Sheet186!C18,Sheet187!C18,Sheet188!C18,Sheet189!C18,Sheet190!C18,Sheet191!C18,Sheet192!C18,Sheet193!C18,Sheet194!C18,Sheet195!C18,Sheet196!C18,Sheet197!C18,Sheet198!C18,Sheet199!C18,Sheet200!C18,Sheet201!C18,Sheet202!C18,Sheet203!C18,Sheet204!C18,Sheet205!C18,Sheet206!C18,Sheet207!C18,Sheet208!C18,Sheet209!C18,Sheet210!C18,Sheet211!C18,Sheet212!C18,Sheet213!C18,Sheet214!C18,Sheet215!C18,Sheet216!C18,Sheet217!C18,Sheet218!C18,Sheet219!C18,Sheet220!C18,Sheet221!C18,Sheet222!C18,Sheet223!C18,Sheet224!C18,Sheet225!C18,Sheet226!C18,Sheet227!C18,Sheet228!C18,Sheet229!C18,Sheet230!C18,Sheet231!C18,Sheet232!C18,Sheet233!C18,Sheet234!C18,Sheet235!C18,Sheet236!C18,Sheet237!C18,Sheet238!C18,Sheet239!C18,Sheet240!C18,Sheet241!C18,Sheet242!C18,Sheet243!C18,Sheet244!C18,Sheet245!C18,Sheet246!C18,Sheet247!C18,Sheet248!C18,Sheet249!C18,Sheet250!C18) -> 49 | D18: =SUM(sheet1!D18,Sheet2!D18,Sheet3!D18,Sheet4!D18,Sheet5!D18,Sheet6!D18,Sheet7!D18,Sheet8!D18,Sheet9!D18,Sheet10!D18,Sheet11!D18,Sheet12!D18,Sheet13!D18,Sheet14!D18,Sheet15!D18,Sheet16!D18,Sheet17!D18,Sheet18!D18,Sheet19!D18,Sheet20!D18,Sheet21!D18,Sheet22!D18,Sheet23!D18,Sheet24!D18,Sheet25!D18,Sheet26!D18,Sheet27!D18,Sheet28!D18,Sheet29!D18,Sheet30!D18,Sheet31!D18,Sheet32!D18,Sheet33!D18,Sheet34!D18,Sheet35!D18,Sheet36!D18,Sheet37!D18,Sheet38!D18,Sheet39!D18,Sheet40!D18,Sheet41!D18,Sheet42!D18,Sheet43!D18,Sheet44!D18,Sheet45!D18,Sheet46!D18,Sheet47!D18,Sheet48!D18,Sheet49!D18,Sheet50!D18,Sheet51!D18,Sheet52!D18,Sheet53!D18,Sheet54!D18,Sheet55!D18,Sheet56!D18,Sheet57!D18,Sheet58!D18,Sheet59!D18,Sheet60!D18,Sheet61!D18,Sheet62!D18,Sheet63!D18,Sheet64!D18,Sheet65!D18,Sheet66!D18,Sheet67!D18,Sheet68!D18,Sheet69!D18,Sheet70!D18,Sheet71!D18,Sheet72!D18,Sheet73!D18,Sheet74!D18,Sheet75!D18,Sheet76!D18,Sheet77!D18,Sheet78!D18,Sheet79!D18,Sheet80!D18,Sheet81!D18,Sheet82!D18,Sheet83!D18,Sheet84!D18,Sheet85!D18,Sheet86!D18,Sheet87!D18,Sheet88!D18,Sheet89!D18,Sheet90!D18,Sheet91!D18,Sheet92!D18,Sheet93!D18,Sheet94!D18,Sheet95!D18,Sheet96!D18,Sheet97!D18,Sheet98!D18,Sheet99!D18,Sheet100!D18,Sheet101!D18,Sheet102!D18,Sheet103!D18,Sheet104!D18,Sheet105!D18,Sheet106!D18,Sheet107!D18,Sheet108!D18,Sheet109!D18,Sheet110!D18,Sheet111!D18,Sheet112!D18,Sheet113!D18,Sheet114!D18,Sheet115!D18,Sheet116!D18,Sheet117!D18,Sheet118!D18,Sheet119!D18,Sheet120!D18,Sheet121!D18,Sheet122!D18,Sheet123!D18,Sheet124!D18,Sheet125!D18,Sheet126!D18,Sheet127!D18,Sheet128!D18,Sheet129!D18,Sheet130!D18,Sheet131!D18,Sheet132!D18,Sheet133!D18,Sheet134!D18,Sheet135!D18,Sheet136!D18,Sheet137!D18,Sheet138!D18,Sheet139!D18,Sheet140!D18,Sheet141!D18,Sheet142!D18,Sheet143!D18,Sheet144!D18,Sheet145!D18,Sheet146!D18,Sheet147!D18,Sheet148!D18,Sheet149!D18,Sheet150!D18,Sheet151!D18,Sheet152!D18,Sheet153!D18,Sheet154!D18,Sheet155!D18,Sheet156!D18,Sheet157!D18,Sheet158!D18,Sheet159!D18,Sheet160!D18,Sheet161!D18,Sheet162!D18,Sheet163!D18,Sheet164!D18,Sheet165!D18,Sheet166!D18,Sheet167!D18,Sheet168!D18,Sheet169!D18,Sheet170!D18,Sheet171!D18,Sheet172!D18,Sheet173!D18,Sheet174!D18,Sheet175!D18,Sheet176!D18,Sheet177!D18,Sheet178!D18,Sheet179!D18,Sheet180!D18,Sheet181!D18,Sheet182!D18,Sheet183!D18,Sheet184!D18,Sheet185!D18,Sheet186!D18,Sheet187!D18,Sheet188!D18,Sheet189!D18,Sheet190!D18,Sheet191!D18,Sheet192!D18,Sheet193!D18,Sheet194!D18,Sheet195!D18,Sheet196!D18,Sheet197!D18,Sheet198!D18,Sheet199!D18,Sheet200!D18,Sheet201!D18,Sheet202!D18,Sheet203!D18,Sheet204!D18,Sheet205!D18,Sheet206!D18,Sheet207!D18,Sheet208!D18,Sheet209!D18,Sheet210!D18,Sheet211!D18,Sheet212!D18,Sheet213!D18,Sheet214!D18,Sheet215!D18,Sheet216!D18,Sheet217!D18,Sheet218!D18,Sheet219!D18,Sheet220!D18,Sheet221!D18,Sheet222!D18,Sheet223!D18,Sheet224!D18,Sheet225!D18,Sheet226!D18,Sheet227!D18,Sheet228!D18,Sheet229!D18,Sheet230!D18,Sheet231!D18,Sheet232!D18,Sheet233!D18,Sheet234!D18,Sheet235!D18,Sheet236!D18,Sheet237!D18,Sheet238!D18,Sheet239!D18,Sheet240!D18,Sheet241!D18,Sheet242!D18,Sheet243!D18,Sheet244!D18,Sheet245!D18,Sheet246!D18,Sheet247!D18,Sheet248!D18,Sheet249!D18,Sheet250!D18) -> 33 | E18: =SUM(sheet1!E18,Sheet2!E18,Sheet3!E18,Sheet4!E18,Sheet5!E18,Sheet6!E18,Sheet7!E18,Sheet8!E18,Sheet9!E18,Sheet10!E18,Sheet11!E18,Sheet12!E18,Sheet13!E18,Sheet14!E18,Sheet15!E18,Sheet16!E18,Sheet17!E18,Sheet18!E18,Sheet19!E18,Sheet20!E18,Sheet21!E18,Sheet22!E18,Sheet23!E18,Sheet24!E18,Sheet25!E18,Sheet26!E18,Sheet27!E18,Sheet28!E18,Sheet29!E18,Sheet30!E18,Sheet31!E18,Sheet32!E18,Sheet33!E18,Sheet34!E18,Sheet35!E18,Sheet36!E18,Sheet37!E18,Sheet38!E18,Sheet39!E18,Sheet40!E18,Sheet41!E18,Sheet42!E18,Sheet43!E18,Sheet44!E18,Sheet45!E18,Sheet46!E18,Sheet47!E18,Sheet48!E18,Sheet49!E18,Sheet50!E18,Sheet51!E18,Sheet52!E18,Sheet53!E18,Sheet54!E18,Sheet55!E18,Sheet56!E18,Sheet57!E18,Sheet58!E18,Sheet59!E18,Sheet60!E18,Sheet61!E18,Sheet62!E18,Sheet63!E18,Sheet64!E18,Sheet65!E18,Sheet66!E18,Sheet67!E18,Sheet68!E18,Sheet69!E18,Sheet70!E18,Sheet71!E18,Sheet72!E18,Sheet73!E18,Sheet74!E18,Sheet75!E18,Sheet76!E18,Sheet77!E18,Sheet78!E18,Sheet79!E18,Sheet80!E18,Sheet81!E18,Sheet82!E18,Sheet83!E18,Sheet84!E18,Sheet85!E18,Sheet86!E18,Sheet87!E18,Sheet88!E18,Sheet89!E18,Sheet90!E18,Sheet91!E18,Sheet92!E18,Sheet93!E18,Sheet94!E18,Sheet95!E18,Sheet96!E18,Sheet97!E18,Sheet98!E18,Sheet99!E18,Sheet100!E18,Sheet101!E18,Sheet102!E18,Sheet103!E18,Sheet104!E18,Sheet105!E18,Sheet106!E18,Sheet107!E18,Sheet108!E18,Sheet109!E18,Sheet110!E18,Sheet111!E18,Sheet112!E18,Sheet113!E18,Sheet114!E18,Sheet115!E18,Sheet116!E18,Sheet117!E18,Sheet118!E18,Sheet119!E18,Sheet120!E18,Sheet121!E18,Sheet122!E18,Sheet123!E18,Sheet124!E18,Sheet125!E18,Sheet126!E18,Sheet127!E18,Sheet128!E18,Sheet129!E18,Sheet130!E18,Sheet131!E18,Sheet132!E18,Sheet133!E18,Sheet134!E18,Sheet135!E18,Sheet136!E18,Sheet137!E18,Sheet138!E18,Sheet139!E18,Sheet140!E18,Sheet141!E18,Sheet142!E18,Sheet143!E18,Sheet144!E18,Sheet145!E18,Sheet146!E18,Sheet147!E18,Sheet148!E18,Sheet149!E18,Sheet150!E18,Sheet151!E18,Sheet152!E18,Sheet153!E18,Sheet154!E18,Sheet155!E18,Sheet156!E18,Sheet157!E18,Sheet158!E18,Sheet159!E18,Sheet160!E18,Sheet161!E18,Sheet162!E18,Sheet163!E18,Sheet164!E18,Sheet165!E18,Sheet166!E18,Sheet167!E18,Sheet168!E18,Sheet169!E18,Sheet170!E18,Sheet171!E18,Sheet172!E18,Sheet173!E18,Sheet174!E18,Sheet175!E18,Sheet176!E18,Sheet177!E18,Sheet178!E18,Sheet179!E18,Sheet180!E18,Sheet181!E18,Sheet182!E18,Sheet183!E18,Sheet184!E18,Sheet185!E18,Sheet186!E18,Sheet187!E18,Sheet188!E18,Sheet189!E18,Sheet190!E18,Sheet191!E18,Sheet192!E18,Sheet193!E18,Sheet194!E18,Sheet195!E18,Sheet196!E18,Sheet197!E18,Sheet198!E18,Sheet199!E18,Sheet200!E18,Sheet201!E18,Sheet202!E18,Sheet203!E18,Sheet204!E18,Sheet205!E18,Sheet206!E18,Sheet207!E18,Sheet208!E18,Sheet209!E18,Sheet210!E18,Sheet211!E18,Sheet212!E18,Sheet213!E18,Sheet214!E18,Sheet215!E18,Sheet216!E18,Sheet217!E18,Sheet218!E18,Sheet219!E18,Sheet220!E18,Sheet221!E18,Sheet222!E18,Sheet223!E18,Sheet224!E18,Sheet225!E18,Sheet226!E18,Sheet227!E18,Sheet228!E18,Sheet229!E18,Sheet230!E18,Sheet231!E18,Sheet232!E18,Sheet233!E18,Sheet234!E18,Sheet235!E18,Sheet236!E18,Sheet237!E18,Sheet238!E18,Sheet239!E18,Sheet240!E18,Sheet241!E18,Sheet242!E18,Sheet243!E18,Sheet244!E18,Sheet245!E18,Sheet246!E18,Sheet247!E18,Sheet248!E18,Sheet249!E18,Sheet250!E18) -> 45 | F18: =SUM(sheet1!F18,Sheet2!F18,Sheet3!F18,Sheet4!F18,Sheet5!F18,Sheet6!F18,Sheet7!F18,Sheet8!F18,Sheet9!F18,Sheet10!F18,Sheet11!F18,Sheet12!F18,Sheet13!F18,Sheet14!F18,Sheet15!F18,Sheet16!F18,Sheet17!F18,Sheet18!F18,Sheet19!F18,Sheet20!F18,Sheet21!F18,Sheet22!F18,Sheet23!F18,Sheet24!F18,Sheet25!F18,Sheet26!F18,Sheet27!F18,Sheet28!F18,Sheet29!F18,Sheet30!F18,Sheet31!F18,Sheet32!F18,Sheet33!F18,Sheet34!F18,Sheet35!F18,Sheet36!F18,Sheet37!F18,Sheet38!F18,Sheet39!F18,Sheet40!F18,Sheet41!F18,Sheet42!F18,Sheet43!F18,Sheet44!F18,Sheet45!F18,Sheet46!F18,Sheet47!F18,Sheet48!F18,Sheet49!F18,Sheet50!F18,Sheet51!F18,Sheet52!F18,Sheet53!F18,Sheet54!F18,Sheet55!F18,Sheet56!F18,Sheet57!F18,Sheet58!F18,Sheet59!F18,Sheet60!F18,Sheet61!F18,Sheet62!F18,Sheet63!F18,Sheet64!F18,Sheet65!F18,Sheet66!F18,Sheet67!F18,Sheet68!F18,Sheet69!F18,Sheet70!F18,Sheet71!F18,Sheet72!F18,Sheet73!F18,Sheet74!F18,Sheet75!F18,Sheet76!F18,Sheet77!F18,Sheet78!F18,Sheet79!F18,Sheet80!F18,Sheet81!F18,Sheet82!F18,Sheet83!F18,Sheet84!F18,Sheet85!F18,Sheet86!F18,Sheet87!F18,Sheet88!F18,Sheet89!F18,Sheet90!F18,Sheet91!F18,Sheet92!F18,Sheet93!F18,Sheet94!F18,Sheet95!F18,Sheet96!F18,Sheet97!F18,Sheet98!F18,Sheet99!F18,Sheet100!F18,Sheet101!F18,Sheet102!F18,Sheet103!F18,Sheet104!F18,Sheet105!F18,Sheet106!F18,Sheet107!F18,Sheet108!F18,Sheet109!F18,Sheet110!F18,Sheet111!F18,Sheet112!F18,Sheet113!F18,Sheet114!F18,Sheet115!F18,Sheet116!F18,Sheet117!F18,Sheet118!F18,Sheet119!F18,Sheet120!F18,Sheet121!F18,Sheet122!F18,Sheet123!F18,Sheet124!F18,Sheet125!F18,Sheet126!F18,Sheet127!F18,Sheet128!F18,Sheet129!F18,Sheet130!F18,Sheet131!F18,Sheet132!F18,Sheet133!F18,Sheet134!F18,Sheet135!F18,Sheet136!F18,Sheet137!F18,Sheet138!F18,Sheet139!F18,Sheet140!F18,Sheet141!F18,Sheet142!F18,Sheet143!F18,Sheet144!F18,Sheet145!F18,Sheet146!F18,Sheet147!F18,Sheet148!F18,Sheet149!F18,Sheet150!F18,Sheet151!F18,Sheet152!F18,Sheet153!F18,Sheet154!F18,Sheet155!F18,Sheet156!F18,Sheet157!F18,Sheet158!F18,Sheet159!F18,Sheet160!F18,Sheet161!F18,Sheet162!F18,Sheet163!F18,Sheet164!F18,Sheet165!F18,Sheet166!F18,Sheet167!F18,Sheet168!F18,Sheet169!F18,Sheet170!F18,Sheet171!F18,Sheet172!F18,Sheet173!F18,Sheet174!F18,Sheet175!F18,Sheet176!F18,Sheet177!F18,Sheet178!F18,Sheet179!F18,Sheet180!F18,Sheet181!F18,Sheet182!F18,Sheet183!F18,Sheet184!F18,Sheet185!F18,Sheet186!F18,Sheet187!F18,Sheet188!F18,Sheet189!F18,Sheet190!F18,Sheet191!F18,Sheet192!F18,Sheet193!F18,Sheet194!F18,Sheet195!F18,Sheet196!F18,Sheet197!F18,Sheet198!F18,Sheet199!F18,Sheet200!F18,Sheet201!F18,Sheet202!F18,Sheet203!F18,Sheet204!F18,Sheet205!F18,Sheet206!F18,Sheet207!F18,Sheet208!F18,Sheet209!F18,Sheet210!F18,Sheet211!F18,Sheet212!F18,Sheet213!F18,Sheet214!F18,Sheet215!F18,Sheet216!F18,Sheet217!F18,Sheet218!F18,Sheet219!F18,Sheet220!F18,Sheet221!F18,Sheet222!F18,Sheet223!F18,Sheet224!F18,Sheet225!F18,Sheet226!F18,Sheet227!F18,Sheet228!F18,Sheet229!F18,Sheet230!F18,Sheet231!F18,Sheet232!F18,Sheet233!F18,Sheet234!F18,Sheet235!F18,Sheet236!F18,Sheet237!F18,Sheet238!F18,Sheet239!F18,Sheet240!F18,Sheet241!F18,Sheet242!F18,Sheet243!F18,Sheet244!F18,Sheet245!F18,Sheet246!F18,Sheet247!F18,Sheet248!F18,Sheet249!F18,Sheet250!F18) -> 35 | G18: =SUM(sheet1!G18,Sheet2!G18,Sheet3!G18,Sheet4!G18,Sheet5!G18,Sheet6!G18,Sheet7!G18,Sheet8!G18,Sheet9!G18,Sheet10!G18,Sheet11!G18,Sheet12!G18,Sheet13!G18,Sheet14!G18,Sheet15!G18,Sheet16!G18,Sheet17!G18,Sheet18!G18,Sheet19!G18,Sheet20!G18,Sheet21!G18,Sheet22!G18,Sheet23!G18,Sheet24!G18,Sheet25!G18,Sheet26!G18,Sheet27!G18,Sheet28!G18,Sheet29!G18,Sheet30!G18,Sheet31!G18,Sheet32!G18,Sheet33!G18,Sheet34!G18,Sheet35!G18,Sheet36!G18,Sheet37!G18,Sheet38!G18,Sheet39!G18,Sheet40!G18,Sheet41!G18,Sheet42!G18,Sheet43!G18,Sheet44!G18,Sheet45!G18,Sheet46!G18,Sheet47!G18,Sheet48!G18,Sheet49!G18,Sheet50!G18,Sheet51!G18,Sheet52!G18,Sheet53!G18,Sheet54!G18,Sheet55!G18,Sheet56!G18,Sheet57!G18,Sheet58!G18,Sheet59!G18,Sheet60!G18,Sheet61!G18,Sheet62!G18,Sheet63!G18,Sheet64!G18,Sheet65!G18,Sheet66!G18,Sheet67!G18,Sheet68!G18,Sheet69!G18,Sheet70!G18,Sheet71!G18,Sheet72!G18,Sheet73!G18,Sheet74!G18,Sheet75!G18,Sheet76!G18,Sheet77!G18,Sheet78!G18,Sheet79!G18,Sheet80!G18,Sheet81!G18,Sheet82!G18,Sheet83!G18,Sheet84!G18,Sheet85!G18,Sheet86!G18,Sheet87!G18,Sheet88!G18,Sheet89!G18,Sheet90!G18,Sheet91!G18,Sheet92!G18,Sheet93!G18,Sheet94!G18,Sheet95!G18,Sheet96!G18,Sheet97!G18,Sheet98!G18,Sheet99!G18,Sheet100!G18,Sheet101!G18,Sheet102!G18,Sheet103!G18,Sheet104!G18,Sheet105!G18,Sheet106!G18,Sheet107!G18,Sheet108!G18,Sheet109!G18,Sheet110!G18,Sheet111!G18,Sheet112!G18,Sheet113!G18,Sheet114!G18,Sheet115!G18,Sheet116!G18,Sheet117!G18,Sheet118!G18,Sheet119!G18,Sheet120!G18,Sheet121!G18,Sheet122!G18,Sheet123!G18,Sheet124!G18,Sheet125!G18,Sheet126!G18,Sheet127!G18,Sheet128!G18,Sheet129!G18,Sheet130!G18,Sheet131!G18,Sheet132!G18,Sheet133!G18,Sheet134!G18,Sheet135!G18,Sheet136!G18,Sheet137!G18,Sheet138!G18,Sheet139!G18,Sheet140!G18,Sheet141!G18,Sheet142!G18,Sheet143!G18,Sheet144!G18,Sheet145!G18,Sheet146!G18,Sheet147!G18,Sheet148!G18,Sheet149!G18,Sheet150!G18,Sheet151!G18,Sheet152!G18,Sheet153!G18,Sheet154!G18,Sheet155!G18,Sheet156!G18,Sheet157!G18,Sheet158!G18,Sheet159!G18,Sheet160!G18,Sheet161!G18,Sheet162!G18,Sheet163!G18,Sheet164!G18,Sheet165!G18,Sheet166!G18,Sheet167!G18,Sheet168!G18,Sheet169!G18,Sheet170!G18,Sheet171!G18,Sheet172!G18,Sheet173!G18,Sheet174!G18,Sheet175!G18,Sheet176!G18,Sheet177!G18,Sheet178!G18,Sheet179!G18,Sheet180!G18,Sheet181!G18,Sheet182!G18,Sheet183!G18,Sheet184!G18,Sheet185!G18,Sheet186!G18,Sheet187!G18,Sheet188!G18,Sheet189!G18,Sheet190!G18,Sheet191!G18,Sheet192!G18,Sheet193!G18,Sheet194!G18,Sheet195!G18,Sheet196!G18,Sheet197!G18,Sheet198!G18,Sheet199!G18,Sheet200!G18,Sheet201!G18,Sheet202!G18,Sheet203!G18,Sheet204!G18,Sheet205!G18,Sheet206!G18,Sheet207!G18,Sheet208!G18,Sheet209!G18,Sheet210!G18,Sheet211!G18,Sheet212!G18,Sheet213!G18,Sheet214!G18,Sheet215!G18,Sheet216!G18,Sheet217!G18,Sheet218!G18,Sheet219!G18,Sheet220!G18,Sheet221!G18,Sheet222!G18,Sheet223!G18,Sheet224!G18,Sheet225!G18,Sheet226!G18,Sheet227!G18,Sheet228!G18,Sheet229!G18,Sheet230!G18,Sheet231!G18,Sheet232!G18,Sheet233!G18,Sheet234!G18,Sheet235!G18,Sheet236!G18,Sheet237!G18,Sheet238!G18,Sheet239!G18,Sheet240!G18,Sheet241!G18,Sheet242!G18,Sheet243!G18,Sheet244!G18,Sheet245!G18,Sheet246!G18,Sheet247!G18,Sheet248!G18,Sheet249!G18,Sheet250!G18) -> 0 | H18: =SUM(C18:G18) -> 162
