Workbook

Sheet 본당집계 - 2026년  02월 자동합산
A1: 붙임2. 6R 실천 체크 리스트(석포성당-본당 합산용).
A2: 6R 실천 체크 리스트(석포성당-본당 합산용)
A4: * 실천한 항목만 체크하세요.
B5: 활동내용 | C5: 2026년 ( 02 )월 | H5: 계
C6: 1주 | D6: 2주 | E6: 3주 | F6: 4주 | G6: 5주
A7: 거절하기 | B7: · 비닐봉지 거절(장바구니 사용)하기 | C7: =SUM(sheet1!C7,Sheet2!C7,Sheet3!C7,Sheet4!C7,Sheet5!C7,Sheet6!C7,Sheet7!C7,Sheet8!C7,Sheet9!C7,Sheet10!C7,Sheet11!C7,Sheet12!C7,Sheet13!C7,Sheet14!C7,Sheet15!C7,Sheet16!C7,Sheet17!C7,Sheet18!C7,Sheet19!C7,Sheet20!C7,Sheet21!C7,Sheet22!C7,Sheet23!C7,Sheet24!C7,Sheet25!C7,Sheet26!C7,Sheet27!C7,Sheet28!C7,Sheet29!C7,Sheet30!C7,Sheet31!C7,Sheet32!C7,Sheet33!C7,Sheet34!C7,Sheet35!C7,Sheet36!C7,Sheet37!C7,Sheet38!C7,Sheet39!C7,Sheet40!C7,Sheet41!C7,Sheet42!C7,Sheet43!C7,Sheet44!C7,Sheet45!C7,Sheet46!C7,Sheet47!C7,Sheet48!C7,Sheet49!C7,Sheet50!C7,Sheet51!C7,Sheet52!C7,Sheet53!C7,Sheet54!C7,Sheet55!C7,Sheet56!C7,Sheet57!C7,Sheet58!C7,Sheet59!C7,Sheet60!C7,Sheet61!C7,Sheet62!C7,Sheet63!C7,Sheet64!C7,Sheet65!C7,Sheet66!C7,Sheet67!C7,Sheet68!C7,Sheet69!C7,Sheet70!C7,Sheet71!C7,Sheet72!C7,Sheet73!C7,Sheet74!C7,Sheet75!C7,Sheet76!C7,Sheet77!C7,Sheet78!C7,Sheet79!C7,Sheet80!C7,Sheet81!C7,Sheet82!C7,Sheet83!C7,Sheet84!C7,Sheet85!C7,Sheet86!C7,Sheet87!C7,Sheet88!C7,Sheet89!C7,Sheet90!C7,Sheet91!C7,Sheet92!C7,Sheet93!C7,Sheet94!C7,Sheet95!C7,Sheet96!C7,Sheet97!C7,Sheet98!C7,Sheet99!C7,Sheet100!C7,Sheet101!C7,Sheet102!C7,Sheet103!C7,Sheet104!C7,Sheet105!C7,Sheet106!C7,Sheet107!C7,Sheet108!C7,Sheet109!C7,Sheet110!C7,Sheet111!C7,Sheet112!C7,Sheet113!C7,Sheet114!C7,Sheet115!C7,Sheet116!C7,Sheet117!C7,Sheet118!C7,Sheet119!C7,Sheet120!C7,Sheet121!C7,Sheet122!C7,Sheet123!C7,Sheet124!C7,Sheet125!C7,Sheet126!C7,Sheet127!C7,Sheet128!C7,Sheet129!C7,Sheet130!C7,Sheet131!C7,Sheet132!C7,Sheet133!C7,Sheet134!C7,Sheet135!C7,Sheet136!C7,Sheet137!C7,Sheet138!C7,Sheet139!C7,Sheet140!C7,Sheet141!C7,Sheet142!C7,Sheet143!C7,Sheet144!C7,Sheet145!C7,Sheet146!C7,Sheet147!C7,Sheet148!C7,Sheet149!C7,Sheet150!C7,Sheet151!C7,Sheet152!C7,Sheet153!C7,Sheet154!C7,Sheet155!C7,Sheet156!C7,Sheet157!C7,Sheet158!C7,Sheet159!C7,Sheet160!C7,Sheet161!C7,Sheet162!C7,Sheet163!C7,Sheet164!C7,Sheet165!C7,Sheet166!C7,Sheet167!C7,Sheet168!C7,Sheet169!C7,Sheet170!C7,Sheet171!C7,Sheet172!C7,Sheet173!C7,Sheet174!C7,Sheet175!C7,Sheet176!C7,Sheet177!C7,Sheet178!C7,Sheet179!C7,Sheet180!C7,Sheet181!C7,Sheet182!C7,Sheet183!C7,Sheet184!C7,Sheet185!C7,Sheet186!C7,Sheet187!C7,Sheet188!C7,Sheet189!C7,Sheet190!C7,Sheet191!C7,Sheet192!C7,Sheet193!C7,Sheet194!C7,Sheet195!C7,Sheet196!C7,Sheet197!C7,Sheet198!C7,Sheet199!C7,Sheet200!C7,Sheet201!C7,Sheet202!C7,Sheet203!C7,Sheet204!C7,Sheet205!C7,Sheet206!C7,Sheet207!C7,Sheet208!C7,Sheet209!C7,Sheet210!C7,Sheet211!C7,Sheet212!C7,Sheet213!C7,Sheet214!C7,Sheet215!C7,Sheet216!C7,Sheet217!C7,Sheet218!C7,Sheet219!C7,Sheet220!C7,Sheet221!C7,Sheet222!C7,Sheet223!C7,Sheet224!C7,Sheet225!C7,Sheet226!C7,Sheet227!C7,Sheet228!C7,Sheet229!C7,Sheet230!C7,Sheet231!C7,Sheet232!C7,Sheet233!C7,Sheet234!C7,Sheet235!C7,Sheet236!C7,Sheet237!C7,Sheet238!C7,Sheet239!C7,Sheet240!C7,Sheet241!C7,Sheet242!C7,Sheet243!C7,Sheet244!C7,Sheet245!C7,Sheet246!C7,Sheet247!C7,Sheet248!C7,Sheet249!C7,Sheet250!C7) -> 70 | D7: =SUM(sheet1!D7,Sheet2!D7,Sheet3!D7,Sheet4!D7,Sheet5!D7,Sheet6!D7,Sheet7!D7,Sheet8!D7,Sheet9!D7,Sheet10!D7,Sheet11!D7,Sheet12!D7,Sheet13!D7,Sheet14!D7,Sheet15!D7,Sheet16!D7,Sheet17!D7,Sheet18!D7,Sheet19!D7,Sheet20!D7,Sheet21!D7,Sheet22!D7,Sheet23!D7,Sheet24!D7,Sheet25!D7,Sheet26!D7,Sheet27!D7,Sheet28!D7,Sheet29!D7,Sheet30!D7,Sheet31!D7,Sheet32!D7,Sheet33!D7,Sheet34!D7,Sheet35!D7,Sheet36!D7,Sheet37!D7,Sheet38!D7,Sheet39!D7,Sheet40!D7,Sheet41!D7,Sheet42!D7,Sheet43!D7,Sheet44!D7,Sheet45!D7,Sheet46!D7,Sheet47!D7,Sheet48!D7,Sheet49!D7,Sheet50!D7,Sheet51!D7,Sheet52!D7,Sheet53!D7,Sheet54!D7,Sheet55!D7,Sheet56!D7,Sheet57!D7,Sheet58!D7,Sheet59!D7,Sheet60!D7,Sheet61!D7,Sheet62!D7,Sheet63!D7,Sheet64!D7,Sheet65!D7,Sheet66!D7,Sheet67!D7,Sheet68!D7,Sheet69!D7,Sheet70!D7,Sheet71!D7,Sheet72!D7,Sheet73!D7,Sheet74!D7,Sheet75!D7,Sheet76!D7,Sheet77!D7,Sheet78!D7,Sheet79!D7,Sheet80!D7,Sheet81!D7,Sheet82!D7,Sheet83!D7,Sheet84!D7,Sheet85!D7,Sheet86!D7,Sheet87!D7,Sheet88!D7,Sheet89!D7,Sheet90!D7,Sheet91!D7,Sheet92!D7,Sheet93!D7,Sheet94!D7,Sheet95!D7,Sheet96!D7,Sheet97!D7,Sheet98!D7,Sheet99!D7,Sheet100!D7,Sheet101!D7,Sheet102!D7,Sheet103!D7,Sheet104!D7,Sheet105!D7,Sheet106!D7,Sheet107!D7,Sheet108!D7,Sheet109!D7,Sheet110!D7,Sheet111!D7,Sheet112!D7,Sheet113!D7,Sheet114!D7,Sheet115!D7,Sheet116!D7,Sheet117!D7,Sheet118!D7,Sheet119!D7,Sheet120!D7,Sheet121!D7,Sheet122!D7,Sheet123!D7,Sheet124!D7,Sheet125!D7,Sheet126!D7,Sheet127!D7,Sheet128!D7,Sheet129!D7,Sheet130!D7,Sheet131!D7,Sheet132!D7,Sheet133!D7,Sheet134!D7,Sheet135!D7,Sheet136!D7,Sheet137!D7,Sheet138!D7,Sheet139!D7,Sheet140!D7,Sheet141!D7,Sheet142!D7,Sheet143!D7,Sheet144!D7,Sheet145!D7,Sheet146!D7,Sheet147!D7,Sheet148!D7,Sheet149!D7,Sheet150!D7,Sheet151!D7,Sheet152!D7,Sheet153!D7,Sheet154!D7,Sheet155!D7,Sheet156!D7,Sheet157!D7,Sheet158!D7,Sheet159!D7,Sheet160!D7,Sheet161!D7,Sheet162!D7,Sheet163!D7,Sheet164!D7,Sheet165!D7,Sheet166!D7,Sheet167!D7,Sheet168!D7,Sheet169!D7,Sheet170!D7,Sheet171!D7,Sheet172!D7,Sheet173!D7,Sheet174!D7,Sheet175!D7,Sheet176!D7,Sheet177!D7,Sheet178!D7,Sheet179!D7,Sheet180!D7,Sheet181!D7,Sheet182!D7,Sheet183!D7,Sheet184!D7,Sheet185!D7,Sheet186!D7,Sheet187!D7,Sheet188!D7,Sheet189!D7,Sheet190!D7,Sheet191!D7,Sheet192!D7,Sheet193!D7,Sheet194!D7,Sheet195!D7,Sheet196!D7,Sheet197!D7,Sheet198!D7,Sheet199!D7,Sheet200!D7,Sheet201!D7,Sheet202!D7,Sheet203!D7,Sheet204!D7,Sheet205!D7,Sheet206!D7,Sheet207!D7,Sheet208!D7,Sheet209!D7,Sheet210!D7,Sheet211!D7,Sheet212!D7,Sheet213!D7,Sheet214!D7,Sheet215!D7,Sheet216!D7,Sheet217!D7,Sheet218!D7,Sheet219!D7,Sheet220!D7,Sheet221!D7,Sheet222!D7,Sheet223!D7,Sheet224!D7,Sheet225!D7,Sheet226!D7,Sheet227!D7,Sheet228!D7,Sheet229!D7,Sheet230!D7,Sheet231!D7,Sheet232!D7,Sheet233!D7,Sheet234!D7,Sheet235!D7,Sheet236!D7,Sheet237!D7,Sheet238!D7,Sheet239!D7,Sheet240!D7,Sheet241!D7,Sheet242!D7,Sheet243!D7,Sheet244!D7,Sheet245!D7,Sheet246!D7,Sheet247!D7,Sheet248!D7,Sheet249!D7,Sheet250!D7) -> 63 | E7: =SUM(sheet1!E7,Sheet2!E7,Sheet3!E7,Sheet4!E7,Sheet5!E7,Sheet6!E7,Sheet7!E7,Sheet8!E7,Sheet9!E7,Sheet10!E7,Sheet11!E7,Sheet12!E7,Sheet13!E7,Sheet14!E7,Sheet15!E7,Sheet16!E7,Sheet17!E7,Sheet18!E7,Sheet19!E7,Sheet20!E7,Sheet21!E7,Sheet22!E7,Sheet23!E7,Sheet24!E7,Sheet25!E7,Sheet26!E7,Sheet27!E7,Sheet28!E7,Sheet29!E7,Sheet30!E7,Sheet31!E7,Sheet32!E7,Sheet33!E7,Sheet34!E7,Sheet35!E7,Sheet36!E7,Sheet37!E7,Sheet38!E7,Sheet39!E7,Sheet40!E7,Sheet41!E7,Sheet42!E7,Sheet43!E7,Sheet44!E7,Sheet45!E7,Sheet46!E7,Sheet47!E7,Sheet48!E7,Sheet49!E7,Sheet50!E7,Sheet51!E7,Sheet52!E7,Sheet53!E7,Sheet54!E7,Sheet55!E7,Sheet56!E7,Sheet57!E7,Sheet58!E7,Sheet59!E7,Sheet60!E7,Sheet61!E7,Sheet62!E7,Sheet63!E7,Sheet64!E7,Sheet65!E7,Sheet66!E7,Sheet67!E7,Sheet68!E7,Sheet69!E7,Sheet70!E7,Sheet71!E7,Sheet72!E7,Sheet73!E7,Sheet74!E7,Sheet75!E7,Sheet76!E7,Sheet77!E7,Sheet78!E7,Sheet79!E7,Sheet80!E7,Sheet81!E7,Sheet82!E7,Sheet83!E7,Sheet84!E7,Sheet85!E7,Sheet86!E7,Sheet87!E7,Sheet88!E7,Sheet89!E7,Sheet90!E7,Sheet91!E7,Sheet92!E7,Sheet93!E7,Sheet94!E7,Sheet95!E7,Sheet96!E7,Sheet97!E7,Sheet98!E7,Sheet99!E7,Sheet100!E7,Sheet101!E7,Sheet102!E7,Sheet103!E7,Sheet104!E7,Sheet105!E7,Sheet106!E7,Sheet107!E7,Sheet108!E7,Sheet109!E7,Sheet110!E7,Sheet111!E7,Sheet112!E7,Sheet113!E7,Sheet114!E7,Sheet115!E7,Sheet116!E7,Sheet117!E7,Sheet118!E7,Sheet119!E7,Sheet120!E7,Sheet121!E7,Sheet122!E7,Sheet123!E7,Sheet124!E7,Sheet125!E7,Sheet126!E7,Sheet127!E7,Sheet128!E7,Sheet129!E7,Sheet130!E7,Sheet131!E7,Sheet132!E7,Sheet133!E7,Sheet134!E7,Sheet135!E7,Sheet136!E7,Sheet137!E7,Sheet138!E7,Sheet139!E7,Sheet140!E7,Sheet141!E7,Sheet142!E7,Sheet143!E7,Sheet144!E7,Sheet145!E7,Sheet146!E7,Sheet147!E7,Sheet148!E7,Sheet149!E7,Sheet150!E7,Sheet151!E7,Sheet152!E7,Sheet153!E7,Sheet154!E7,Sheet155!E7,Sheet156!E7,Sheet157!E7,Sheet158!E7,Sheet159!E7,Sheet160!E7,Sheet161!E7,Sheet162!E7,Sheet163!E7,Sheet164!E7,Sheet165!E7,Sheet166!E7,Sheet167!E7,Sheet168!E7,Sheet169!E7,Sheet170!E7,Sheet171!E7,Sheet172!E7,Sheet173!E7,Sheet174!E7,Sheet175!E7,Sheet176!E7,Sheet177!E7,Sheet178!E7,Sheet179!E7,Sheet180!E7,Sheet181!E7,Sheet182!E7,Sheet183!E7,Sheet184!E7,Sheet185!E7,Sheet186!E7,Sheet187!E7,Sheet188!E7,Sheet189!E7,Sheet190!E7,Sheet191!E7,Sheet192!E7,Sheet193!E7,Sheet194!E7,Sheet195!E7,Sheet196!E7,Sheet197!E7,Sheet198!E7,Sheet199!E7,Sheet200!E7,Sheet201!E7,Sheet202!E7,Sheet203!E7,Sheet204!E7,Sheet205!E7,Sheet206!E7,Sheet207!E7,Sheet208!E7,Sheet209!E7,Sheet210!E7,Sheet211!E7,Sheet212!E7,Sheet213!E7,Sheet214!E7,Sheet215!E7,Sheet216!E7,Sheet217!E7,Sheet218!E7,Sheet219!E7,Sheet220!E7,Sheet221!E7,Sheet222!E7,Sheet223!E7,Sheet224!E7,Sheet225!E7,Sheet226!E7,Sheet227!E7,Sheet228!E7,Sheet229!E7,Sheet230!E7,Sheet231!E7,Sheet232!E7,Sheet233!E7,Sheet234!E7,Sheet235!E7,Sheet236!E7,Sheet237!E7,Sheet238!E7,Sheet239!E7,Sheet240!E7,Sheet241!E7,Sheet242!E7,Sheet243!E7,Sheet244!E7,Sheet245!E7,Sheet246!E7,Sheet247!E7,Sheet248!E7,Sheet249!E7,Sheet250!E7) -> 71 | F7: =SUM(sheet1!F7,Sheet2!F7,Sheet3!F7,Sheet4!F7,Sheet5!F7,Sheet6!F7,Sheet7!F7,Sheet8!F7,Sheet9!F7,Sheet10!F7,Sheet11!F7,Sheet12!F7,Sheet13!F7,Sheet14!F7,Sheet15!F7,Sheet16!F7,Sheet17!F7,Sheet18!F7,Sheet19!F7,Sheet20!F7,Sheet21!F7,Sheet22!F7,Sheet23!F7,Sheet24!F7,Sheet25!F7,Sheet26!F7,Sheet27!F7,Sheet28!F7,Sheet29!F7,Sheet30!F7,Sheet31!F7,Sheet32!F7,Sheet33!F7,Sheet34!F7,Sheet35!F7,Sheet36!F7,Sheet37!F7,Sheet38!F7,Sheet39!F7,Sheet40!F7,Sheet41!F7,Sheet42!F7,Sheet43!F7,Sheet44!F7,Sheet45!F7,Sheet46!F7,Sheet47!F7,Sheet48!F7,Sheet49!F7,Sheet50!F7,Sheet51!F7,Sheet52!F7,Sheet53!F7,Sheet54!F7,Sheet55!F7,Sheet56!F7,Sheet57!F7,Sheet58!F7,Sheet59!F7,Sheet60!F7,Sheet61!F7,Sheet62!F7,Sheet63!F7,Sheet64!F7,Sheet65!F7,Sheet66!F7,Sheet67!F7,Sheet68!F7,Sheet69!F7,Sheet70!F7,Sheet71!F7,Sheet72!F7,Sheet73!F7,Sheet74!F7,Sheet75!F7,Sheet76!F7,Sheet77!F7,Sheet78!F7,Sheet79!F7,Sheet80!F7,Sheet81!F7,Sheet82!F7,Sheet83!F7,Sheet84!F7,Sheet85!F7,Sheet86!F7,Sheet87!F7,Sheet88!F7,Sheet89!F7,Sheet90!F7,Sheet91!F7,Sheet92!F7,Sheet93!F7,Sheet94!F7,Sheet95!F7,Sheet96!F7,Sheet97!F7,Sheet98!F7,Sheet99!F7,Sheet100!F7,Sheet101!F7,Sheet102!F7,Sheet103!F7,Sheet104!F7,Sheet105!F7,Sheet106!F7,Sheet107!F7,Sheet108!F7,Sheet109!F7,Sheet110!F7,Sheet111!F7,Sheet112!F7,Sheet113!F7,Sheet114!F7,Sheet115!F7,Sheet116!F7,Sheet117!F7,Sheet118!F7,Sheet119!F7,Sheet120!F7,Sheet121!F7,Sheet122!F7,Sheet123!F7,Sheet124!F7,Sheet125!F7,Sheet126!F7,Sheet127!F7,Sheet128!F7,Sheet129!F7,Sheet130!F7,Sheet131!F7,Sheet132!F7,Sheet133!F7,Sheet134!F7,Sheet135!F7,Sheet136!F7,Sheet137!F7,Sheet138!F7,Sheet139!F7,Sheet140!F7,Sheet141!F7,Sheet142!F7,Sheet143!F7,Sheet144!F7,Sheet145!F7,Sheet146!F7,Sheet147!F7,Sheet148!F7,Sheet149!F7,Sheet150!F7,Sheet151!F7,Sheet152!F7,Sheet153!F7,Sheet154!F7,Sheet155!F7,Sheet156!F7,Sheet157!F7,Sheet158!F7,Sheet159!F7,Sheet160!F7,Sheet161!F7,Sheet162!F7,Sheet163!F7,Sheet164!F7,Sheet165!F7,Sheet166!F7,Sheet167!F7,Sheet168!F7,Sheet169!F7,Sheet170!F7,Sheet171!F7,Sheet172!F7,Sheet173!F7,Sheet174!F7,Sheet175!F7,Sheet176!F7,Sheet177!F7,Sheet178!F7,Sheet179!F7,Sheet180!F7,Sheet181!F7,Sheet182!F7,Sheet183!F7,Sheet184!F7,Sheet185!F7,Sheet186!F7,Sheet187!F7,Sheet188!F7,Sheet189!F7,Sheet190!F7,Sheet191!F7,Sheet192!F7,Sheet193!F7,Sheet194!F7,Sheet195!F7,Sheet196!F7,Sheet197!F7,Sheet198!F7,Sheet199!F7,Sheet200!F7,Sheet201!F7,Sheet202!F7,Sheet203!F7,Sheet204!F7,Sheet205!F7,Sheet206!F7,Sheet207!F7,Sheet208!F7,Sheet209!F7,Sheet210!F7,Sheet211!F7,Sheet212!F7,Sheet213!F7,Sheet214!F7,Sheet215!F7,Sheet216!F7,Sheet217!F7,Sheet218!F7,Sheet219!F7,Sheet220!F7,Sheet221!F7,Sheet222!F7,Sheet223!F7,Sheet224!F7,Sheet225!F7,Sheet226!F7,Sheet227!F7,Sheet228!F7,Sheet229!F7,Sheet230!F7,Sheet231!F7,Sheet232!F7,Sheet233!F7,Sheet234!F7,Sheet235!F7,Sheet236!F7,Sheet237!F7,Sheet238!F7,Sheet239!F7,Sheet240!F7,Sheet241!F7,Sheet242!F7,Sheet243!F7,Sheet244!F7,Sheet245!F7,Sheet246!F7,Sheet247!F7,Sheet248!F7,Sheet249!F7,Sheet250!F7) -> 47 | G7: =SUM(sheet1!G7,Sheet2!G7,Sheet3!G7,Sheet4!G7,Sheet5!G7,Sheet6!G7,Sheet7!G7,Sheet8!G7,Sheet9!G7,Sheet10!G7,Sheet11!G7,Sheet12!G7,Sheet13!G7,Sheet14!G7,Sheet15!G7,Sheet16!G7,Sheet17!G7,Sheet18!G7,Sheet19!G7,Sheet20!G7,Sheet21!G7,Sheet22!G7,Sheet23!G7,Sheet24!G7,Sheet25!G7,Sheet26!G7,Sheet27!G7,Sheet28!G7,Sheet29!G7,Sheet30!G7,Sheet31!G7,Sheet32!G7,Sheet33!G7,Sheet34!G7,Sheet35!G7,Sheet36!G7,Sheet37!G7,Sheet38!G7,Sheet39!G7,Sheet40!G7,Sheet41!G7,Sheet42!G7,Sheet43!G7,Sheet44!G7,Sheet45!G7,Sheet46!G7,Sheet47!G7,Sheet48!G7,Sheet49!G7,Sheet50!G7,Sheet51!G7,Sheet52!G7,Sheet53!G7,Sheet54!G7,Sheet55!G7,Sheet56!G7,Sheet57!G7,Sheet58!G7,Sheet59!G7,Sheet60!G7,Sheet61!G7,Sheet62!G7,Sheet63!G7,Sheet64!G7,Sheet65!G7,Sheet66!G7,Sheet67!G7,Sheet68!G7,Sheet69!G7,Sheet70!G7,Sheet71!G7,Sheet72!G7,Sheet73!G7,Sheet74!G7,Sheet75!G7,Sheet76!G7,Sheet77!G7,Sheet78!G7,Sheet79!G7,Sheet80!G7,Sheet81!G7,Sheet82!G7,Sheet83!G7,Sheet84!G7,Sheet85!G7,Sheet86!G7,Sheet87!G7,Sheet88!G7,Sheet89!G7,Sheet90!G7,Sheet91!G7,Sheet92!G7,Sheet93!G7,Sheet94!G7,Sheet95!G7,Sheet96!G7,Sheet97!G7,Sheet98!G7,Sheet99!G7,Sheet100!G7,Sheet101!G7,Sheet102!G7,Sheet103!G7,Sheet104!G7,Sheet105!G7,Sheet106!G7,Sheet107!G7,Sheet108!G7,Sheet109!G7,Sheet110!G7,Sheet111!G7,Sheet112!G7,Sheet113!G7,Sheet114!G7,Sheet115!G7,Sheet116!G7,Sheet117!G7,Sheet118!G7,Sheet119!G7,Sheet120!G7,Sheet121!G7,Sheet122!G7,Sheet123!G7,Sheet124!G7,Sheet125!G7,Sheet126!G7,Sheet127!G7,Sheet128!G7,Sheet129!G7,Sheet130!G7,Sheet131!G7,Sheet132!G7,Sheet133!G7,Sheet134!G7,Sheet135!G7,Sheet136!G7,Sheet137!G7,Sheet138!G7,Sheet139!G7,Sheet140!G7,Sheet141!G7,Sheet142!G7,Sheet143!G7,Sheet144!G7,Sheet145!G7,Sheet146!G7,Sheet147!G7,Sheet148!G7,Sheet149!G7,Sheet150!G7,Sheet151!G7,Sheet152!G7,Sheet153!G7,Sheet154!G7,Sheet155!G7,Sheet156!G7,Sheet157!G7,Sheet158!G7,Sheet159!G7,Sheet160!G7,Sheet161!G7,Sheet162!G7,Sheet163!G7,Sheet164!G7,Sheet165!G7,Sheet166!G7,Sheet167!G7,Sheet168!G7,Sheet169!G7,Sheet170!G7,Sheet171!G7,Sheet172!G7,Sheet173!G7,Sheet174!G7,Sheet175!G7,Sheet176!G7,Sheet177!G7,Sheet178!G7,Sheet179!G7,Sheet180!G7,Sheet181!G7,Sheet182!G7,Sheet183!G7,Sheet184!G7,Sheet185!G7,Sheet186!G7,Sheet187!G7,Sheet188!G7,Sheet189!G7,Sheet190!G7,Sheet191!G7,Sheet192!G7,Sheet193!G7,Sheet194!G7,Sheet195!G7,Sheet196!G7,Sheet197!G7,Sheet198!G7,Sheet199!G7,Sheet200!G7,Sheet201!G7,Sheet202!G7,Sheet203!G7,Sheet204!G7,Sheet205!G7,Sheet206!G7,Sheet207!G7,Sheet208!G7,Sheet209!G7,Sheet210!G7,Sheet211!G7,Sheet212!G7,Sheet213!G7,Sheet214!G7,Sheet215!G7,Sheet216!G7,Sheet217!G7,Sheet218!G7,Sheet219!G7,Sheet220!G7,Sheet221!G7,Sheet222!G7,Sheet223!G7,Sheet224!G7,Sheet225!G7,Sheet226!G7,Sheet227!G7,Sheet228!G7,Sheet229!G7,Sheet230!G7,Sheet231!G7,Sheet232!G7,Sheet233!G7,Sheet234!G7,Sheet235!G7,Sheet236!G7,Sheet237!G7,Sheet238!G7,Sheet239!G7,Sheet240!G7,Sheet241!G7,Sheet242!G7,Sheet243!G7,Sheet244!G7,Sheet245!G7,Sheet246!G7,Sheet247!G7,Sheet248!G7,Sheet249!G7,Sheet250!G7) -> 0 | H7: =SUM(C7:G7) -> 251
B8: · 자가용 거절(대중교통 이용)하기 | C8: =SUM(sheet1!C8,Sheet2!C8,Sheet3!C8,Sheet4!C8,Sheet5!C8,Sheet6!C8,Sheet7!C8,Sheet8!C8,Sheet9!C8,Sheet10!C8,Sheet11!C8,Sheet12!C8,Sheet13!C8,Sheet14!C8,Sheet15!C8,Sheet16!C8,Sheet17!C8,Sheet18!C8,Sheet19!C8,Sheet20!C8,Sheet21!C8,Sheet22!C8,Sheet23!C8,Sheet24!C8,Sheet25!C8,Sheet26!C8,Sheet27!C8,Sheet28!C8,Sheet29!C8,Sheet30!C8,Sheet31!C8,Sheet32!C8,Sheet33!C8,Sheet34!C8,Sheet35!C8,Sheet36!C8,Sheet37!C8,Sheet38!C8,Sheet39!C8,Sheet40!C8,Sheet41!C8,Sheet42!C8,Sheet43!C8,Sheet44!C8,Sheet45!C8,Sheet46!C8,Sheet47!C8,Sheet48!C8,Sheet49!C8,Sheet50!C8,Sheet51!C8,Sheet52!C8,Sheet53!C8,Sheet54!C8,Sheet55!C8,Sheet56!C8,Sheet57!C8,Sheet58!C8,Sheet59!C8,Sheet60!C8,Sheet61!C8,Sheet62!C8,Sheet63!C8,Sheet64!C8,Sheet65!C8,Sheet66!C8,Sheet67!C8,Sheet68!C8,Sheet69!C8,Sheet70!C8,Sheet71!C8,Sheet72!C8,Sheet73!C8,Sheet74!C8,Sheet75!C8,Sheet76!C8,Sheet77!C8,Sheet78!C8,Sheet79!C8,Sheet80!C8,Sheet81!C8,Sheet82!C8,Sheet83!C8,Sheet84!C8,Sheet85!C8,Sheet86!C8,Sheet87!C8,Sheet88!C8,Sheet89!C8,Sheet90!C8,Sheet91!C8,Sheet92!C8,Sheet93!C8,Sheet94!C8,Sheet95!C8,Sheet96!C8,Sheet97!C8,Sheet98!C8,Sheet99!C8,Sheet100!C8,Sheet101!C8,Sheet102!C8,Sheet103!C8,Sheet104!C8,Sheet105!C8,Sheet106!C8,Sheet107!C8,Sheet108!C8,Sheet109!C8,Sheet110!C8,Sheet111!C8,Sheet112!C8,Sheet113!C8,Sheet114!C8,Sheet115!C8,Sheet116!C8,Sheet117!C8,Sheet118!C8,Sheet119!C8,Sheet120!C8,Sheet121!C8,Sheet122!C8,Sheet123!C8,Sheet124!C8,Sheet125!C8,Sheet126!C8,Sheet127!C8,Sheet128!C8,Sheet129!C8,Sheet130!C8,Sheet131!C8,Sheet132!C8,Sheet133!C8,Sheet134!C8,Sheet135!C8,Sheet136!C8,Sheet137!C8,Sheet138!C8,Sheet139!C8,Sheet140!C8,Sheet141!C8,Sheet142!C8,Sheet143!C8,Sheet144!C8,Sheet145!C8,Sheet146!C8,Sheet147!C8,Sheet148!C8,Sheet149!C8,Sheet150!C8,Sheet151!C8,Sheet152!C8,Sheet153!C8,Sheet154!C8,Sheet155!C8,Sheet156!C8,Sheet157!C8,Sheet158!C8,Sheet159!C8,Sheet160!C8,Sheet161!C8,Sheet162!C8,Sheet163!C8,Sheet164!C8,Sheet165!C8,Sheet166!C8,Sheet167!C8,Sheet168!C8,Sheet169!C8,Sheet170!C8,Sheet171!C8,Sheet172!C8,Sheet173!C8,Sheet174!C8,Sheet175!C8,Sheet176!C8,Sheet177!C8,Sheet178!C8,Sheet179!C8,Sheet180!C8,Sheet181!C8,Sheet182!C8,Sheet183!C8,Sheet184!C8,Sheet185!C8,Sheet186!C8,Sheet187!C8,Sheet188!C8,Sheet189!C8,Sheet190!C8,Sheet191!C8,Sheet192!C8,Sheet193!C8,Sheet194!C8,Sheet195!C8,Sheet196!C8,Sheet197!C8,Sheet198!C8,Sheet199!C8,Sheet200!C8,Sheet201!C8,Sheet202!C8,Sheet203!C8,Sheet204!C8,Sheet205!C8,Sheet206!C8,Sheet207!C8,Sheet208!C8,Sheet209!C8,Sheet210!C8,Sheet211!C8,Sheet212!C8,Sheet213!C8,Sheet214!C8,Sheet215!C8,Sheet216!C8,Sheet217!C8,Sheet218!C8,Sheet219!C8,Sheet220!C8,Sheet221!C8,Sheet222!C8,Sheet223!C8,Sheet224!C8,Sheet225!C8,Sheet226!C8,Sheet227!C8,Sheet228!C8,Sheet229!C8,Sheet230!C8,Sheet231!C8,Sheet232!C8,Sheet233!C8,Sheet234!C8,Sheet235!C8,Sheet236!C8,Sheet237!C8,Sheet238!C8,Sheet239!C8,Sheet240!C8,Sheet241!C8,Sheet242!C8,Sheet243!C8,Sheet244!C8,Sheet245!C8,Sheet246!C8,Sheet247!C8,Sheet248!C8,Sheet249!C8,Sheet250!C8) -> 118 | D8: =SUM(sheet1!D8,Sheet2!D8,Sheet3!D8,Sheet4!D8,Sheet5!D8,Sheet6!D8,Sheet7!D8,Sheet8!D8,Sheet9!D8,Sheet10!D8,Sheet11!D8,Sheet12!D8,Sheet13!D8,Sheet14!D8,Sheet15!D8,Sheet16!D8,Sheet17!D8,Sheet18!D8,Sheet19!D8,Sheet20!D8,Sheet21!D8,Sheet22!D8,Sheet23!D8,Sheet24!D8,Sheet25!D8,Sheet26!D8,Sheet27!D8,Sheet28!D8,Sheet29!D8,Sheet30!D8,Sheet31!D8,Sheet32!D8,Sheet33!D8,Sheet34!D8,Sheet35!D8,Sheet36!D8,Sheet37!D8,Sheet38!D8,Sheet39!D8,Sheet40!D8,Sheet41!D8,Sheet42!D8,Sheet43!D8,Sheet44!D8,Sheet45!D8,Sheet46!D8,Sheet47!D8,Sheet48!D8,Sheet49!D8,Sheet50!D8,Sheet51!D8,Sheet52!D8,Sheet53!D8,Sheet54!D8,Sheet55!D8,Sheet56!D8,Sheet57!D8,Sheet58!D8,Sheet59!D8,Sheet60!D8,Sheet61!D8,Sheet62!D8,Sheet63!D8,Sheet64!D8,Sheet65!D8,Sheet66!D8,Sheet67!D8,Sheet68!D8,Sheet69!D8,Sheet70!D8,Sheet71!D8,Sheet72!D8,Sheet73!D8,Sheet74!D8,Sheet75!D8,Sheet76!D8,Sheet77!D8,Sheet78!D8,Sheet79!D8,Sheet80!D8,Sheet81!D8,Sheet82!D8,Sheet83!D8,Sheet84!D8,Sheet85!D8,Sheet86!D8,Sheet87!D8,Sheet88!D8,Sheet89!D8,Sheet90!D8,Sheet91!D8,Sheet92!D8,Sheet93!D8,Sheet94!D8,Sheet95!D8,Sheet96!D8,Sheet97!D8,Sheet98!D8,Sheet99!D8,Sheet100!D8,Sheet101!D8,Sheet102!D8,Sheet103!D8,Sheet104!D8,Sheet105!D8,Sheet106!D8,Sheet107!D8,Sheet108!D8,Sheet109!D8,Sheet110!D8,Sheet111!D8,Sheet112!D8,Sheet113!D8,Sheet114!D8,Sheet115!D8,Sheet116!D8,Sheet117!D8,Sheet118!D8,Sheet119!D8,Sheet120!D8,Sheet121!D8,Sheet122!D8,Sheet123!D8,Sheet124!D8,Sheet125!D8,Sheet126!D8,Sheet127!D8,Sheet128!D8,Sheet129!D8,Sheet130!D8,Sheet131!D8,Sheet132!D8,Sheet133!D8,Sheet134!D8,Sheet135!D8,Sheet136!D8,Sheet137!D8,Sheet138!D8,Sheet139!D8,Sheet140!D8,Sheet141!D8,Sheet142!D8,Sheet143!D8,Sheet144!D8,Sheet145!D8,Sheet146!D8,Sheet147!D8,Sheet148!D8,Sheet149!D8,Sheet150!D8,Sheet151!D8,Sheet152!D8,Sheet153!D8,Sheet154!D8,Sheet155!D8,Sheet156!D8,Sheet157!D8,Sheet158!D8,Sheet159!D8,Sheet160!D8,Sheet161!D8,Sheet162!D8,Sheet163!D8,Sheet164!D8,Sheet165!D8,Sheet166!D8,Sheet167!D8,Sheet168!D8,Sheet169!D8,Sheet170!D8,Sheet171!D8,Sheet172!D8,Sheet173!D8,Sheet174!D8,Sheet175!D8,Sheet176!D8,Sheet177!D8,Sheet178!D8,Sheet179!D8,Sheet180!D8,Sheet181!D8,Sheet182!D8,Sheet183!D8,Sheet184!D8,Sheet185!D8,Sheet186!D8,Sheet187!D8,Sheet188!D8,Sheet189!D8,Sheet190!D8,Sheet191!D8,Sheet192!D8,Sheet193!D8,Sheet194!D8,Sheet195!D8,Sheet196!D8,Sheet197!D8,Sheet198!D8,Sheet199!D8,Sheet200!D8,Sheet201!D8,Sheet202!D8,Sheet203!D8,Sheet204!D8,Sheet205!D8,Sheet206!D8,Sheet207!D8,Sheet208!D8,Sheet209!D8,Sheet210!D8,Sheet211!D8,Sheet212!D8,Sheet213!D8,Sheet214!D8,Sheet215!D8,Sheet216!D8,Sheet217!D8,Sheet218!D8,Sheet219!D8,Sheet220!D8,Sheet221!D8,Sheet222!D8,Sheet223!D8,Sheet224!D8,Sheet225!D8,Sheet226!D8,Sheet227!D8,Sheet228!D8,Sheet229!D8,Sheet230!D8,Sheet231!D8,Sheet232!D8,Sheet233!D8,Sheet234!D8,Sheet235!D8,Sheet236!D8,Sheet237!D8,Sheet238!D8,Sheet239!D8,Sheet240!D8,Sheet241!D8,Sheet242!D8,Sheet243!D8,Sheet244!D8,Sheet245!D8,Sheet246!D8,Sheet247!D8,Sheet248!D8,Sheet249!D8,Sheet250!D8) -> 114 | E8: =SUM(sheet1!E8,Sheet2!E8,Sheet3!E8,Sheet4!E8,Sheet5!E8,Sheet6!E8,Sheet7!E8,Sheet8!E8,Sheet9!E8,Sheet10!E8,Sheet11!E8,Sheet12!E8,Sheet13!E8,Sheet14!E8,Sheet15!E8,Sheet16!E8,Sheet17!E8,Sheet18!E8,Sheet19!E8,Sheet20!E8,Sheet21!E8,Sheet22!E8,Sheet23!E8,Sheet24!E8,Sheet25!E8,Sheet26!E8,Sheet27!E8,Sheet28!E8,Sheet29!E8,Sheet30!E8,Sheet31!E8,Sheet32!E8,Sheet33!E8,Sheet34!E8,Sheet35!E8,Sheet36!E8,Sheet37!E8,Sheet38!E8,Sheet39!E8,Sheet40!E8,Sheet41!E8,Sheet42!E8,Sheet43!E8,Sheet44!E8,Sheet45!E8,Sheet46!E8,Sheet47!E8,Sheet48!E8,Sheet49!E8,Sheet50!E8,Sheet51!E8,Sheet52!E8,Sheet53!E8,Sheet54!E8,Sheet55!E8,Sheet56!E8,Sheet57!E8,Sheet58!E8,Sheet59!E8,Sheet60!E8,Sheet61!E8,Sheet62!E8,Sheet63!E8,Sheet64!E8,Sheet65!E8,Sheet66!E8,Sheet67!E8,Sheet68!E8,Sheet69!E8,Sheet70!E8,Sheet71!E8,Sheet72!E8,Sheet73!E8,Sheet74!E8,Sheet75!E8,Sheet76!E8,Sheet77!E8,Sheet78!E8,Sheet79!E8,Sheet80!E8,Sheet81!E8,Sheet82!E8,Sheet83!E8,Sheet84!E8,Sheet85!E8,Sheet86!E8,Sheet87!E8,Sheet88!E8,Sheet89!E8,Sheet90!E8,Sheet91!E8,Sheet92!E8,Sheet93!E8,Sheet94!E8,Sheet95!E8,Sheet96!E8,Sheet97!E8,Sheet98!E8,Sheet99!E8,Sheet100!E8,Sheet101!E8,Sheet102!E8,Sheet103!E8,Sheet104!E8,Sheet105!E8,Sheet106!E8,Sheet107!E8,Sheet108!E8,Sheet109!E8,Sheet110!E8,Sheet111!E8,Sheet112!E8,Sheet113!E8,Sheet114!E8,Sheet115!E8,Sheet116!E8,Sheet117!E8,Sheet118!E8,Sheet119!E8,Sheet120!E8,Sheet121!E8,Sheet122!E8,Sheet123!E8,Sheet124!E8,Sheet125!E8,Sheet126!E8,Sheet127!E8,Sheet128!E8,Sheet129!E8,Sheet130!E8,Sheet131!E8,Sheet132!E8,Sheet133!E8,Sheet134!E8,Sheet135!E8,Sheet136!E8,Sheet137!E8,Sheet138!E8,Sheet139!E8,Sheet140!E8,Sheet141!E8,Sheet142!E8,Sheet143!E8,Sheet144!E8,Sheet145!E8,Sheet146!E8,Sheet147!E8,Sheet148!E8,Sheet149!E8,Sheet150!E8,Sheet151!E8,Sheet152!E8,Sheet153!E8,Sheet154!E8,Sheet155!E8,Sheet156!E8,Sheet157!E8,Sheet158!E8,Sheet159!E8,Sheet160!E8,Sheet161!E8,Sheet162!E8,Sheet163!E8,Sheet164!E8,Sheet165!E8,Sheet166!E8,Sheet167!E8,Sheet168!E8,Sheet169!E8,Sheet170!E8,Sheet171!E8,Sheet172!E8,Sheet173!E8,Sheet174!E8,Sheet175!E8,Sheet176!E8,Sheet177!E8,Sheet178!E8,Sheet179!E8,Sheet180!E8,Sheet181!E8,Sheet182!E8,Sheet183!E8,Sheet184!E8,Sheet185!E8,Sheet186!E8,Sheet187!E8,Sheet188!E8,Sheet189!E8,Sheet190!E8,Sheet191!E8,Sheet192!E8,Sheet193!E8,Sheet194!E8,Sheet195!E8,Sheet196!E8,Sheet197!E8,Sheet198!E8,Sheet199!E8,Sheet200!E8,Sheet201!E8,Sheet202!E8,Sheet203!E8,Sheet204!E8,Sheet205!E8,Sheet206!E8,Sheet207!E8,Sheet208!E8,Sheet209!E8,Sheet210!E8,Sheet211!E8,Sheet212!E8,Sheet213!E8,Sheet214!E8,Sheet215!E8,Sheet216!E8,Sheet217!E8,Sheet218!E8,Sheet219!E8,Sheet220!E8,Sheet221!E8,Sheet222!E8,Sheet223!E8,Sheet224!E8,Sheet225!E8,Sheet226!E8,Sheet227!E8,Sheet228!E8,Sheet229!E8,Sheet230!E8,Sheet231!E8,Sheet232!E8,Sheet233!E8,Sheet234!E8,Sheet235!E8,Sheet236!E8,Sheet237!E8,Sheet238!E8,Sheet239!E8,Sheet240!E8,Sheet241!E8,Sheet242!E8,Sheet243!E8,Sheet244!E8,Sheet245!E8,Sheet246!E8,Sheet247!E8,Sheet248!E8,Sheet249!E8,Sheet250!E8) -> 103 | F8: =SUM(sheet1!F8,Sheet2!F8,Sheet3!F8,Sheet4!F8,Sheet5!F8,Sheet6!F8,Sheet7!F8,Sheet8!F8,Sheet9!F8,Sheet10!F8,Sheet11!F8,Sheet12!F8,Sheet13!F8,Sheet14!F8,Sheet15!F8,Sheet16!F8,Sheet17!F8,Sheet18!F8,Sheet19!F8,Sheet20!F8,Sheet21!F8,Sheet22!F8,Sheet23!F8,Sheet24!F8,Sheet25!F8,Sheet26!F8,Sheet27!F8,Sheet28!F8,Sheet29!F8,Sheet30!F8,Sheet31!F8,Sheet32!F8,Sheet33!F8,Sheet34!F8,Sheet35!F8,Sheet36!F8,Sheet37!F8,Sheet38!F8,Sheet39!F8,Sheet40!F8,Sheet41!F8,Sheet42!F8,Sheet43!F8,Sheet44!F8,Sheet45!F8,Sheet46!F8,Sheet47!F8,Sheet48!F8,Sheet49!F8,Sheet50!F8,Sheet51!F8,Sheet52!F8,Sheet53!F8,Sheet54!F8,Sheet55!F8,Sheet56!F8,Sheet57!F8,Sheet58!F8,Sheet59!F8,Sheet60!F8,Sheet61!F8,Sheet62!F8,Sheet63!F8,Sheet64!F8,Sheet65!F8,Sheet66!F8,Sheet67!F8,Sheet68!F8,Sheet69!F8,Sheet70!F8,Sheet71!F8,Sheet72!F8,Sheet73!F8,Sheet74!F8,Sheet75!F8,Sheet76!F8,Sheet77!F8,Sheet78!F8,Sheet79!F8,Sheet80!F8,Sheet81!F8,Sheet82!F8,Sheet83!F8,Sheet84!F8,Sheet85!F8,Sheet86!F8,Sheet87!F8,Sheet88!F8,Sheet89!F8,Sheet90!F8,Sheet91!F8,Sheet92!F8,Sheet93!F8,Sheet94!F8,Sheet95!F8,Sheet96!F8,Sheet97!F8,Sheet98!F8,Sheet99!F8,Sheet100!F8,Sheet101!F8,Sheet102!F8,Sheet103!F8,Sheet104!F8,Sheet105!F8,Sheet106!F8,Sheet107!F8,Sheet108!F8,Sheet109!F8,Sheet110!F8,Sheet111!F8,Sheet112!F8,Sheet113!F8,Sheet114!F8,Sheet115!F8,Sheet116!F8,Sheet117!F8,Sheet118!F8,Sheet119!F8,Sheet120!F8,Sheet121!F8,Sheet122!F8,Sheet123!F8,Sheet124!F8,Sheet125!F8,Sheet126!F8,Sheet127!F8,Sheet128!F8,Sheet129!F8,Sheet130!F8,Sheet131!F8,Sheet132!F8,Sheet133!F8,Sheet134!F8,Sheet135!F8,Sheet136!F8,Sheet137!F8,Sheet138!F8,Sheet139!F8,Sheet140!F8,Sheet141!F8,Sheet142!F8,Sheet143!F8,Sheet144!F8,Sheet145!F8,Sheet146!F8,Sheet147!F8,Sheet148!F8,Sheet149!F8,Sheet150!F8,Sheet151!F8,Sheet152!F8,Sheet153!F8,Sheet154!F8,Sheet155!F8,Sheet156!F8,Sheet157!F8,Sheet158!F8,Sheet159!F8,Sheet160!F8,Sheet161!F8,Sheet162!F8,Sheet163!F8,Sheet164!F8,Sheet165!F8,Sheet166!F8,Sheet167!F8,Sheet168!F8,Sheet169!F8,Sheet170!F8,Sheet171!F8,Sheet172!F8,Sheet173!F8,Sheet174!F8,Sheet175!F8,Sheet176!F8,Sheet177!F8,Sheet178!F8,Sheet179!F8,Sheet180!F8,Sheet181!F8,Sheet182!F8,Sheet183!F8,Sheet184!F8,Sheet185!F8,Sheet186!F8,Sheet187!F8,Sheet188!F8,Sheet189!F8,Sheet190!F8,Sheet191!F8,Sheet192!F8,Sheet193!F8,Sheet194!F8,Sheet195!F8,Sheet196!F8,Sheet197!F8,Sheet198!F8,Sheet199!F8,Sheet200!F8,Sheet201!F8,Sheet202!F8,Sheet203!F8,Sheet204!F8,Sheet205!F8,Sheet206!F8,Sheet207!F8,Sheet208!F8,Sheet209!F8,Sheet210!F8,Sheet211!F8,Sheet212!F8,Sheet213!F8,Sheet214!F8,Sheet215!F8,Sheet216!F8,Sheet217!F8,Sheet218!F8,Sheet219!F8,Sheet220!F8,Sheet221!F8,Sheet222!F8,Sheet223!F8,Sheet224!F8,Sheet225!F8,Sheet226!F8,Sheet227!F8,Sheet228!F8,Sheet229!F8,Sheet230!F8,Sheet231!F8,Sheet232!F8,Sheet233!F8,Sheet234!F8,Sheet235!F8,Sheet236!F8,Sheet237!F8,Sheet238!F8,Sheet239!F8,Sheet240!F8,Sheet241!F8,Sheet242!F8,Sheet243!F8,Sheet244!F8,Sheet245!F8,Sheet246!F8,Sheet247!F8,Sheet248!F8,Sheet249!F8,Sheet250!F8) -> 111 | G8: =SUM(sheet1!G8,Sheet2!G8,Sheet3!G8,Sheet4!G8,Sheet5!G8,Sheet6!G8,Sheet7!G8,Sheet8!G8,Sheet9!G8,Sheet10!G8,Sheet11!G8,Sheet12!G8,Sheet13!G8,Sheet14!G8,Sheet15!G8,Sheet16!G8,Sheet17!G8,Sheet18!G8,Sheet19!G8,Sheet20!G8,Sheet21!G8,Sheet22!G8,Sheet23!G8,Sheet24!G8,Sheet25!G8,Sheet26!G8,Sheet27!G8,Sheet28!G8,Sheet29!G8,Sheet30!G8,Sheet31!G8,Sheet32!G8,Sheet33!G8,Sheet34!G8,Sheet35!G8,Sheet36!G8,Sheet37!G8,Sheet38!G8,Sheet39!G8,Sheet40!G8,Sheet41!G8,Sheet42!G8,Sheet43!G8,Sheet44!G8,Sheet45!G8,Sheet46!G8,Sheet47!G8,Sheet48!G8,Sheet49!G8,Sheet50!G8,Sheet51!G8,Sheet52!G8,Sheet53!G8,Sheet54!G8,Sheet55!G8,Sheet56!G8,Sheet57!G8,Sheet58!G8,Sheet59!G8,Sheet60!G8,Sheet61!G8,Sheet62!G8,Sheet63!G8,Sheet64!G8,Sheet65!G8,Sheet66!G8,Sheet67!G8,Sheet68!G8,Sheet69!G8,Sheet70!G8,Sheet71!G8,Sheet72!G8,Sheet73!G8,Sheet74!G8,Sheet75!G8,Sheet76!G8,Sheet77!G8,Sheet78!G8,Sheet79!G8,Sheet80!G8,Sheet81!G8,Sheet82!G8,Sheet83!G8,Sheet84!G8,Sheet85!G8,Sheet86!G8,Sheet87!G8,Sheet88!G8,Sheet89!G8,Sheet90!G8,Sheet91!G8,Sheet92!G8,Sheet93!G8,Sheet94!G8,Sheet95!G8,Sheet96!G8,Sheet97!G8,Sheet98!G8,Sheet99!G8,Sheet100!G8,Sheet101!G8,Sheet102!G8,Sheet103!G8,Sheet104!G8,Sheet105!G8,Sheet106!G8,Sheet107!G8,Sheet108!G8,Sheet109!G8,Sheet110!G8,Sheet111!G8,Sheet112!G8,Sheet113!G8,Sheet114!G8,Sheet115!G8,Sheet116!G8,Sheet117!G8,Sheet118!G8,Sheet119!G8,Sheet120!G8,Sheet121!G8,Sheet122!G8,Sheet123!G8,Sheet124!G8,Sheet125!G8,Sheet126!G8,Sheet127!G8,Sheet128!G8,Sheet129!G8,Sheet130!G8,Sheet131!G8,Sheet132!G8,Sheet133!G8,Sheet134!G8,Sheet135!G8,Sheet136!G8,Sheet137!G8,Sheet138!G8,Sheet139!G8,Sheet140!G8,Sheet141!G8,Sheet142!G8,Sheet143!G8,Sheet144!G8,Sheet145!G8,Sheet146!G8,Sheet147!G8,Sheet148!G8,Sheet149!G8,Sheet150!G8,Sheet151!G8,Sheet152!G8,Sheet153!G8,Sheet154!G8,Sheet155!G8,Sheet156!G8,Sheet157!G8,Sheet158!G8,Sheet159!G8,Sheet160!G8,Sheet161!G8,Sheet162!G8,Sheet163!G8,Sheet164!G8,Sheet165!G8,Sheet166!G8,Sheet167!G8,Sheet168!G8,Sheet169!G8,Sheet170!G8,Sheet171!G8,Sheet172!G8,Sheet173!G8,Sheet174!G8,Sheet175!G8,Sheet176!G8,Sheet177!G8,Sheet178!G8,Sheet179!G8,Sheet180!G8,Sheet181!G8,Sheet182!G8,Sheet183!G8,Sheet184!G8,Sheet185!G8,Sheet186!G8,Sheet187!G8,Sheet188!G8,Sheet189!G8,Sheet190!G8,Sheet191!G8,Sheet192!G8,Sheet193!G8,Sheet194!G8,Sheet195!G8,Sheet196!G8,Sheet197!G8,Sheet198!G8,Sheet199!G8,Sheet200!G8,Sheet201!G8,Sheet202!G8,Sheet203!G8,Sheet204!G8,Sheet205!G8,Sheet206!G8,Sheet207!G8,Sheet208!G8,Sheet209!G8,Sheet210!G8,Sheet211!G8,Sheet212!G8,Sheet213!G8,Sheet214!G8,Sheet215!G8,Sheet216!G8,Sheet217!G8,Sheet218!G8,Sheet219!G8,Sheet220!G8,Sheet221!G8,Sheet222!G8,Sheet223!G8,Sheet224!G8,Sheet225!G8,Sheet226!G8,Sheet227!G8,Sheet228!G8,Sheet229!G8,Sheet230!G8,Sheet231!G8,Sheet232!G8,Sheet233!G8,Sheet234!G8,Sheet235!G8,Sheet236!G8,Sheet237!G8,Sheet238!G8,Sheet239!G8,Sheet240!G8,Sheet241!G8,Sheet242!G8,Sheet243!G8,Sheet244!G8,Sheet245!G8,Sheet246!G8,Sheet247!G8,Sheet248!G8,Sheet249!G8,Sheet250!G8) -> 0 | H8: =SUM(C8:G8) -> 446
B9: · 배달음식 주문 시 일회용 수저는 빼 달라고 요청하기 | C9: =SUM(sheet1!C9,Sheet2!C9,Sheet3!C9,Sheet4!C9,Sheet5!C9,Sheet6!C9,Sheet7!C9,Sheet8!C9,Sheet9!C9,Sheet10!C9,Sheet11!C9,Sheet12!C9,Sheet13!C9,Sheet14!C9,Sheet15!C9,Sheet16!C9,Sheet17!C9,Sheet18!C9,Sheet19!C9,Sheet20!C9,Sheet21!C9,Sheet22!C9,Sheet23!C9,Sheet24!C9,Sheet25!C9,Sheet26!C9,Sheet27!C9,Sheet28!C9,Sheet29!C9,Sheet30!C9,Sheet31!C9,Sheet32!C9,Sheet33!C9,Sheet34!C9,Sheet35!C9,Sheet36!C9,Sheet37!C9,Sheet38!C9,Sheet39!C9,Sheet40!C9,Sheet41!C9,Sheet42!C9,Sheet43!C9,Sheet44!C9,Sheet45!C9,Sheet46!C9,Sheet47!C9,Sheet48!C9,Sheet49!C9,Sheet50!C9,Sheet51!C9,Sheet52!C9,Sheet53!C9,Sheet54!C9,Sheet55!C9,Sheet56!C9,Sheet57!C9,Sheet58!C9,Sheet59!C9,Sheet60!C9,Sheet61!C9,Sheet62!C9,Sheet63!C9,Sheet64!C9,Sheet65!C9,Sheet66!C9,Sheet67!C9,Sheet68!C9,Sheet69!C9,Sheet70!C9,Sheet71!C9,Sheet72!C9,Sheet73!C9,Sheet74!C9,Sheet75!C9,Sheet76!C9,Sheet77!C9,Sheet78!C9,Sheet79!C9,Sheet80!C9,Sheet81!C9,Sheet82!C9,Sheet83!C9,Sheet84!C9,Sheet85!C9,Sheet86!C9,Sheet87!C9,Sheet88!C9,Sheet89!C9,Sheet90!C9,Sheet91!C9,Sheet92!C9,Sheet93!C9,Sheet94!C9,Sheet95!C9,Sheet96!C9,Sheet97!C9,Sheet98!C9,Sheet99!C9,Sheet100!C9,Sheet101!C9,Sheet102!C9,Sheet103!C9,Sheet104!C9,Sheet105!C9,Sheet106!C9,Sheet107!C9,Sheet108!C9,Sheet109!C9,Sheet110!C9,Sheet111!C9,Sheet112!C9,Sheet113!C9,Sheet114!C9,Sheet115!C9,Sheet116!C9,Sheet117!C9,Sheet118!C9,Sheet119!C9,Sheet120!C9,Sheet121!C9,Sheet122!C9,Sheet123!C9,Sheet124!C9,Sheet125!C9,Sheet126!C9,Sheet127!C9,Sheet128!C9,Sheet129!C9,Sheet130!C9,Sheet131!C9,Sheet132!C9,Sheet133!C9,Sheet134!C9,Sheet135!C9,Sheet136!C9,Sheet137!C9,Sheet138!C9,Sheet139!C9,Sheet140!C9,Sheet141!C9,Sheet142!C9,Sheet143!C9,Sheet144!C9,Sheet145!C9,Sheet146!C9,Sheet147!C9,Sheet148!C9,Sheet149!C9,Sheet150!C9,Sheet151!C9,Sheet152!C9,Sheet153!C9,Sheet154!C9,Sheet155!C9,Sheet156!C9,Sheet157!C9,Sheet158!C9,Sheet159!C9,Sheet160!C9,Sheet161!C9,Sheet162!C9,Sheet163!C9,Sheet164!C9,Sheet165!C9,Sheet166!C9,Sheet167!C9,Sheet168!C9,Sheet169!C9,Sheet170!C9,Sheet171!C9,Sheet172!C9,Sheet173!C9,Sheet174!C9,Sheet175!C9,Sheet176!C9,Sheet177!C9,Sheet178!C9,Sheet179!C9,Sheet180!C9,Sheet181!C9,Sheet182!C9,Sheet183!C9,Sheet184!C9,Sheet185!C9,Sheet186!C9,Sheet187!C9,Sheet188!C9,Sheet189!C9,Sheet190!C9,Sheet191!C9,Sheet192!C9,Sheet193!C9,Sheet194!C9,Sheet195!C9,Sheet196!C9,Sheet197!C9,Sheet198!C9,Sheet199!C9,Sheet200!C9,Sheet201!C9,Sheet202!C9,Sheet203!C9,Sheet204!C9,Sheet205!C9,Sheet206!C9,Sheet207!C9,Sheet208!C9,Sheet209!C9,Sheet210!C9,Sheet211!C9,Sheet212!C9,Sheet213!C9,Sheet214!C9,Sheet215!C9,Sheet216!C9,Sheet217!C9,Sheet218!C9,Sheet219!C9,Sheet220!C9,Sheet221!C9,Sheet222!C9,Sheet223!C9,Sheet224!C9,Sheet225!C9,Sheet226!C9,Sheet227!C9,Sheet228!C9,Sheet229!C9,Sheet230!C9,Sheet231!C9,Sheet232!C9,Sheet233!C9,Sheet234!C9,Sheet235!C9,Sheet236!C9,Sheet237!C9,Sheet238!C9,Sheet239!C9,Sheet240!C9,Sheet241!C9,Sheet242!C9,Sheet243!C9,Sheet244!C9,Sheet245!C9,Sheet246!C9,Sheet247!C9,Sheet248!C9,Sheet249!C9,Sheet250!C9) -> 6 | D9: =SUM(sheet1!D9,Sheet2!D9,Sheet3!D9,Sheet4!D9,Sheet5!D9,Sheet6!D9,Sheet7!D9,Sheet8!D9,Sheet9!D9,Sheet10!D9,Sheet11!D9,Sheet12!D9,Sheet13!D9,Sheet14!D9,Sheet15!D9,Sheet16!D9,Sheet17!D9,Sheet18!D9,Sheet19!D9,Sheet20!D9,Sheet21!D9,Sheet22!D9,Sheet23!D9,Sheet24!D9,Sheet25!D9,Sheet26!D9,Sheet27!D9,Sheet28!D9,Sheet29!D9,Sheet30!D9,Sheet31!D9,Sheet32!D9,Sheet33!D9,Sheet34!D9,Sheet35!D9,Sheet36!D9,Sheet37!D9,Sheet38!D9,Sheet39!D9,Sheet40!D9,Sheet41!D9,Sheet42!D9,Sheet43!D9,Sheet44!D9,Sheet45!D9,Sheet46!D9,Sheet47!D9,Sheet48!D9,Sheet49!D9,Sheet50!D9,Sheet51!D9,Sheet52!D9,Sheet53!D9,Sheet54!D9,Sheet55!D9,Sheet56!D9,Sheet57!D9,Sheet58!D9,Sheet59!D9,Sheet60!D9,Sheet61!D9,Sheet62!D9,Sheet63!D9,Sheet64!D9,Sheet65!D9,Sheet66!D9,Sheet67!D9,Sheet68!D9,Sheet69!D9,Sheet70!D9,Sheet71!D9,Sheet72!D9,Sheet73!D9,Sheet74!D9,Sheet75!D9,Sheet76!D9,Sheet77!D9,Sheet78!D9,Sheet79!D9,Sheet80!D9,Sheet81!D9,Sheet82!D9,Sheet83!D9,Sheet84!D9,Sheet85!D9,Sheet86!D9,Sheet87!D9,Sheet88!D9,Sheet89!D9,Sheet90!D9,Sheet91!D9,Sheet92!D9,Sheet93!D9,Sheet94!D9,Sheet95!D9,Sheet96!D9,Sheet97!D9,Sheet98!D9,Sheet99!D9,Sheet100!D9,Sheet101!D9,Sheet102!D9,Sheet103!D9,Sheet104!D9,Sheet105!D9,Sheet106!D9,Sheet107!D9,Sheet108!D9,Sheet109!D9,Sheet110!D9,Sheet111!D9,Sheet112!D9,Sheet113!D9,Sheet114!D9,Sheet115!D9,Sheet116!D9,Sheet117!D9,Sheet118!D9,Sheet119!D9,Sheet120!D9,Sheet121!D9,Sheet122!D9,Sheet123!D9,Sheet124!D9,Sheet125!D9,Sheet126!D9,Sheet127!D9,Sheet128!D9,Sheet129!D9,Sheet130!D9,Sheet131!D9,Sheet132!D9,Sheet133!D9,Sheet134!D9,Sheet135!D9,Sheet136!D9,Sheet137!D9,Sheet138!D9,Sheet139!D9,Sheet140!D9,Sheet141!D9,Sheet142!D9,Sheet143!D9,Sheet144!D9,Sheet145!D9,Sheet146!D9,Sheet147!D9,Sheet148!D9,Sheet149!D9,Sheet150!D9,Sheet151!D9,Sheet152!D9,Sheet153!D9,Sheet154!D9,Sheet155!D9,Sheet156!D9,Sheet157!D9,Sheet158!D9,Sheet159!D9,Sheet160!D9,Sheet161!D9,Sheet162!D9,Sheet163!D9,Sheet164!D9,Sheet165!D9,Sheet166!D9,Sheet167!D9,Sheet168!D9,Sheet169!D9,Sheet170!D9,Sheet171!D9,Sheet172!D9,Sheet173!D9,Sheet174!D9,Sheet175!D9,Sheet176!D9,Sheet177!D9,Sheet178!D9,Sheet179!D9,Sheet180!D9,Sheet181!D9,Sheet182!D9,Sheet183!D9,Sheet184!D9,Sheet185!D9,Sheet186!D9,Sheet187!D9,Sheet188!D9,Sheet189!D9,Sheet190!D9,Sheet191!D9,Sheet192!D9,Sheet193!D9,Sheet194!D9,Sheet195!D9,Sheet196!D9,Sheet197!D9,Sheet198!D9,Sheet199!D9,Sheet200!D9,Sheet201!D9,Sheet202!D9,Sheet203!D9,Sheet204!D9,Sheet205!D9,Sheet206!D9,Sheet207!D9,Sheet208!D9,Sheet209!D9,Sheet210!D9,Sheet211!D9,Sheet212!D9,Sheet213!D9,Sheet214!D9,Sheet215!D9,Sheet216!D9,Sheet217!D9,Sheet218!D9,Sheet219!D9,Sheet220!D9,Sheet221!D9,Sheet222!D9,Sheet223!D9,Sheet224!D9,Sheet225!D9,Sheet226!D9,Sheet227!D9,Sheet228!D9,Sheet229!D9,Sheet230!D9,Sheet231!D9,Sheet232!D9,Sheet233!D9,Sheet234!D9,Sheet235!D9,Sheet236!D9,Sheet237!D9,Sheet238!D9,Sheet239!D9,Sheet240!D9,Sheet241!D9,Sheet242!D9,Sheet243!D9,Sheet244!D9,Sheet245!D9,Sheet246!D9,Sheet247!D9,Sheet248!D9,Sheet249!D9,Sheet250!D9) -> 1 | E9: =SUM(sheet1!E9,Sheet2!E9,Sheet3!E9,Sheet4!E9,Sheet5!E9,Sheet6!E9,Sheet7!E9,Sheet8!E9,Sheet9!E9,Sheet10!E9,Sheet11!E9,Sheet12!E9,Sheet13!E9,Sheet14!E9,Sheet15!E9,Sheet16!E9,Sheet17!E9,Sheet18!E9,Sheet19!E9,Sheet20!E9,Sheet21!E9,Sheet22!E9,Sheet23!E9,Sheet24!E9,Sheet25!E9,Sheet26!E9,Sheet27!E9,Sheet28!E9,Sheet29!E9,Sheet30!E9,Sheet31!E9,Sheet32!E9,Sheet33!E9,Sheet34!E9,Sheet35!E9,Sheet36!E9,Sheet37!E9,Sheet38!E9,Sheet39!E9,Sheet40!E9,Sheet41!E9,Sheet42!E9,Sheet43!E9,Sheet44!E9,Sheet45!E9,Sheet46!E9,Sheet47!E9,Sheet48!E9,Sheet49!E9,Sheet50!E9,Sheet51!E9,Sheet52!E9,Sheet53!E9,Sheet54!E9,Sheet55!E9,Sheet56!E9,Sheet57!E9,Sheet58!E9,Sheet59!E9,Sheet60!E9,Sheet61!E9,Sheet62!E9,Sheet63!E9,Sheet64!E9,Sheet65!E9,Sheet66!E9,Sheet67!E9,Sheet68!E9,Sheet69!E9,Sheet70!E9,Sheet71!E9,Sheet72!E9,Sheet73!E9,Sheet74!E9,Sheet75!E9,Sheet76!E9,Sheet77!E9,Sheet78!E9,Sheet79!E9,Sheet80!E9,Sheet81!E9,Sheet82!E9,Sheet83!E9,Sheet84!E9,Sheet85!E9,Sheet86!E9,Sheet87!E9,Sheet88!E9,Sheet89!E9,Sheet90!E9,Sheet91!E9,Sheet92!E9,Sheet93!E9,Sheet94!E9,Sheet95!E9,Sheet96!E9,Sheet97!E9,Sheet98!E9,Sheet99!E9,Sheet100!E9,Sheet101!E9,Sheet102!E9,Sheet103!E9,Sheet104!E9,Sheet105!E9,Sheet106!E9,Sheet107!E9,Sheet108!E9,Sheet109!E9,Sheet110!E9,Sheet111!E9,Sheet112!E9,Sheet113!E9,Sheet114!E9,Sheet115!E9,Sheet116!E9,Sheet117!E9,Sheet118!E9,Sheet119!E9,Sheet120!E9,Sheet121!E9,Sheet122!E9,Sheet123!E9,Sheet124!E9,Sheet125!E9,Sheet126!E9,Sheet127!E9,Sheet128!E9,Sheet129!E9,Sheet130!E9,Sheet131!E9,Sheet132!E9,Sheet133!E9,Sheet134!E9,Sheet135!E9,Sheet136!E9,Sheet137!E9,Sheet138!E9,Sheet139!E9,Sheet140!E9,Sheet141!E9,Sheet142!E9,Sheet143!E9,Sheet144!E9,Sheet145!E9,Sheet146!E9,Sheet147!E9,Sheet148!E9,Sheet149!E9,Sheet150!E9,Sheet151!E9,Sheet152!E9,Sheet153!E9,Sheet154!E9,Sheet155!E9,Sheet156!E9,Sheet157!E9,Sheet158!E9,Sheet159!E9,Sheet160!E9,Sheet161!E9,Sheet162!E9,Sheet163!E9,Sheet164!E9,Sheet165!E9,Sheet166!E9,Sheet167!E9,Sheet168!E9,Sheet169!E9,Sheet170!E9,Sheet171!E9,Sheet172!E9,Sheet173!E9,Sheet174!E9,Sheet175!E9,Sheet176!E9,Sheet177!E9,Sheet178!E9,Sheet179!E9,Sheet180!E9,Sheet181!E9,Sheet182!E9,Sheet183!E9,Sheet184!E9,Sheet185!E9,Sheet186!E9,Sheet187!E9,Sheet188!E9,Sheet189!E9,Sheet190!E9,Sheet191!E9,Sheet192!E9,Sheet193!E9,Sheet194!E9,Sheet195!E9,Sheet196!E9,Sheet197!E9,Sheet198!E9,Sheet199!E9,Sheet200!E9,Sheet201!E9,Sheet202!E9,Sheet203!E9,Sheet204!E9,Sheet205!E9,Sheet206!E9,Sheet207!E9,Sheet208!E9,Sheet209!E9,Sheet210!E9,Sheet211!E9,Sheet212!E9,Sheet213!E9,Sheet214!E9,Sheet215!E9,Sheet216!E9,Sheet217!E9,Sheet218!E9,Sheet219!E9,Sheet220!E9,Sheet221!E9,Sheet222!E9,Sheet223!E9,Sheet224!E9,Sheet225!E9,Sheet226!E9,Sheet227!E9,Sheet228!E9,Sheet229!E9,Sheet230!E9,Sheet231!E9,Sheet232!E9,Sheet233!E9,Sheet234!E9,Sheet235!E9,Sheet236!E9,Sheet237!E9,Sheet238!E9,Sheet239!E9,Sheet240!E9,Sheet241!E9,Sheet242!E9,Sheet243!E9,Sheet244!E9,Sheet245!E9,Sheet246!E9,Sheet247!E9,Sheet248!E9,Sheet249!E9,Sheet250!E9) -> 1 | F9: =SUM(sheet1!F9,Sheet2!F9,Sheet3!F9,Sheet4!F9,Sheet5!F9,Sheet6!F9,Sheet7!F9,Sheet8!F9,Sheet9!F9,Sheet10!F9,Sheet11!F9,Sheet12!F9,Sheet13!F9,Sheet14!F9,Sheet15!F9,Sheet16!F9,Sheet17!F9,Sheet18!F9,Sheet19!F9,Sheet20!F9,Sheet21!F9,Sheet22!F9,Sheet23!F9,Sheet24!F9,Sheet25!F9,Sheet26!F9,Sheet27!F9,Sheet28!F9,Sheet29!F9,Sheet30!F9,Sheet31!F9,Sheet32!F9,Sheet33!F9,Sheet34!F9,Sheet35!F9,Sheet36!F9,Sheet37!F9,Sheet38!F9,Sheet39!F9,Sheet40!F9,Sheet41!F9,Sheet42!F9,Sheet43!F9,Sheet44!F9,Sheet45!F9,Sheet46!F9,Sheet47!F9,Sheet48!F9,Sheet49!F9,Sheet50!F9,Sheet51!F9,Sheet52!F9,Sheet53!F9,Sheet54!F9,Sheet55!F9,Sheet56!F9,Sheet57!F9,Sheet58!F9,Sheet59!F9,Sheet60!F9,Sheet61!F9,Sheet62!F9,Sheet63!F9,Sheet64!F9,Sheet65!F9,Sheet66!F9,Sheet67!F9,Sheet68!F9,Sheet69!F9,Sheet70!F9,Sheet71!F9,Sheet72!F9,Sheet73!F9,Sheet74!F9,Sheet75!F9,Sheet76!F9,Sheet77!F9,Sheet78!F9,Sheet79!F9,Sheet80!F9,Sheet81!F9,Sheet82!F9,Sheet83!F9,Sheet84!F9,Sheet85!F9,Sheet86!F9,Sheet87!F9,Sheet88!F9,Sheet89!F9,Sheet90!F9,Sheet91!F9,Sheet92!F9,Sheet93!F9,Sheet94!F9,Sheet95!F9,Sheet96!F9,Sheet97!F9,Sheet98!F9,Sheet99!F9,Sheet100!F9,Sheet101!F9,Sheet102!F9,Sheet103!F9,Sheet104!F9,Sheet105!F9,Sheet106!F9,Sheet107!F9,Sheet108!F9,Sheet109!F9,Sheet110!F9,Sheet111!F9,Sheet112!F9,Sheet113!F9,Sheet114!F9,Sheet115!F9,Sheet116!F9,Sheet117!F9,Sheet118!F9,Sheet119!F9,Sheet120!F9,Sheet121!F9,Sheet122!F9,Sheet123!F9,Sheet124!F9,Sheet125!F9,Sheet126!F9,Sheet127!F9,Sheet128!F9,Sheet129!F9,Sheet130!F9,Sheet131!F9,Sheet132!F9,Sheet133!F9,Sheet134!F9,Sheet135!F9,Sheet136!F9,Sheet137!F9,Sheet138!F9,Sheet139!F9,Sheet140!F9,Sheet141!F9,Sheet142!F9,Sheet143!F9,Sheet144!F9,Sheet145!F9,Sheet146!F9,Sheet147!F9,Sheet148!F9,Sheet149!F9,Sheet150!F9,Sheet151!F9,Sheet152!F9,Sheet153!F9,Sheet154!F9,Sheet155!F9,Sheet156!F9,Sheet157!F9,Sheet158!F9,Sheet159!F9,Sheet160!F9,Sheet161!F9,Sheet162!F9,Sheet163!F9,Sheet164!F9,Sheet165!F9,Sheet166!F9,Sheet167!F9,Sheet168!F9,Sheet169!F9,Sheet170!F9,Sheet171!F9,Sheet172!F9,Sheet173!F9,Sheet174!F9,Sheet175!F9,Sheet176!F9,Sheet177!F9,Sheet178!F9,Sheet179!F9,Sheet180!F9,Sheet181!F9,Sheet182!F9,Sheet183!F9,Sheet184!F9,Sheet185!F9,Sheet186!F9,Sheet187!F9,Sheet188!F9,Sheet189!F9,Sheet190!F9,Sheet191!F9,Sheet192!F9,Sheet193!F9,Sheet194!F9,Sheet195!F9,Sheet196!F9,Sheet197!F9,Sheet198!F9,Sheet199!F9,Sheet200!F9,Sheet201!F9,Sheet202!F9,Sheet203!F9,Sheet204!F9,Sheet205!F9,Sheet206!F9,Sheet207!F9,Sheet208!F9,Sheet209!F9,Sheet210!F9,Sheet211!F9,Sheet212!F9,Sheet213!F9,Sheet214!F9,Sheet215!F9,Sheet216!F9,Sheet217!F9,Sheet218!F9,Sheet219!F9,Sheet220!F9,Sheet221!F9,Sheet222!F9,Sheet223!F9,Sheet224!F9,Sheet225!F9,Sheet226!F9,Sheet227!F9,Sheet228!F9,Sheet229!F9,Sheet230!F9,Sheet231!F9,Sheet232!F9,Sheet233!F9,Sheet234!F9,Sheet235!F9,Sheet236!F9,Sheet237!F9,Sheet238!F9,Sheet239!F9,Sheet240!F9,Sheet241!F9,Sheet242!F9,Sheet243!F9,Sheet244!F9,Sheet245!F9,Sheet246!F9,Sheet247!F9,Sheet248!F9,Sheet249!F9,Sheet250!F9) -> 1 | G9: =SUM(sheet1!G9,Sheet2!G9,Sheet3!G9,Sheet4!G9,Sheet5!G9,Sheet6!G9,Sheet7!G9,Sheet8!G9,Sheet9!G9,Sheet10!G9,Sheet11!G9,Sheet12!G9,Sheet13!G9,Sheet14!G9,Sheet15!G9,Sheet16!G9,Sheet17!G9,Sheet18!G9,Sheet19!G9,Sheet20!G9,Sheet21!G9,Sheet22!G9,Sheet23!G9,Sheet24!G9,Sheet25!G9,Sheet26!G9,Sheet27!G9,Sheet28!G9,Sheet29!G9,Sheet30!G9,Sheet31!G9,Sheet32!G9,Sheet33!G9,Sheet34!G9,Sheet35!G9,Sheet36!G9,Sheet37!G9,Sheet38!G9,Sheet39!G9,Sheet40!G9,Sheet41!G9,Sheet42!G9,Sheet43!G9,Sheet44!G9,Sheet45!G9,Sheet46!G9,Sheet47!G9,Sheet48!G9,Sheet49!G9,Sheet50!G9,Sheet51!G9,Sheet52!G9,Sheet53!G9,Sheet54!G9,Sheet55!G9,Sheet56!G9,Sheet57!G9,Sheet58!G9,Sheet59!G9,Sheet60!G9,Sheet61!G9,Sheet62!G9,Sheet63!G9,Sheet64!G9,Sheet65!G9,Sheet66!G9,Sheet67!G9,Sheet68!G9,Sheet69!G9,Sheet70!G9,Sheet71!G9,Sheet72!G9,Sheet73!G9,Sheet74!G9,Sheet75!G9,Sheet76!G9,Sheet77!G9,Sheet78!G9,Sheet79!G9,Sheet80!G9,Sheet81!G9,Sheet82!G9,Sheet83!G9,Sheet84!G9,Sheet85!G9,Sheet86!G9,Sheet87!G9,Sheet88!G9,Sheet89!G9,Sheet90!G9,Sheet91!G9,Sheet92!G9,Sheet93!G9,Sheet94!G9,Sheet95!G9,Sheet96!G9,Sheet97!G9,Sheet98!G9,Sheet99!G9,Sheet100!G9,Sheet101!G9,Sheet102!G9,Sheet103!G9,Sheet104!G9,Sheet105!G9,Sheet106!G9,Sheet107!G9,Sheet108!G9,Sheet109!G9,Sheet110!G9,Sheet111!G9,Sheet112!G9,Sheet113!G9,Sheet114!G9,Sheet115!G9,Sheet116!G9,Sheet117!G9,Sheet118!G9,Sheet119!G9,Sheet120!G9,Sheet121!G9,Sheet122!G9,Sheet123!G9,Sheet124!G9,Sheet125!G9,Sheet126!G9,Sheet127!G9,Sheet128!G9,Sheet129!G9,Sheet130!G9,Sheet131!G9,Sheet132!G9,Sheet133!G9,Sheet134!G9,Sheet135!G9,Sheet136!G9,Sheet137!G9,Sheet138!G9,Sheet139!G9,Sheet140!G9,Sheet141!G9,Sheet142!G9,Sheet143!G9,Sheet144!G9,Sheet145!G9,Sheet146!G9,Sheet147!G9,Sheet148!G9,Sheet149!G9,Sheet150!G9,Sheet151!G9,Sheet152!G9,Sheet153!G9,Sheet154!G9,Sheet155!G9,Sheet156!G9,Sheet157!G9,Sheet158!G9,Sheet159!G9,Sheet160!G9,Sheet161!G9,Sheet162!G9,Sheet163!G9,Sheet164!G9,Sheet165!G9,Sheet166!G9,Sheet167!G9,Sheet168!G9,Sheet169!G9,Sheet170!G9,Sheet171!G9,Sheet172!G9,Sheet173!G9,Sheet174!G9,Sheet175!G9,Sheet176!G9,Sheet177!G9,Sheet178!G9,Sheet179!G9,Sheet180!G9,Sheet181!G9,Sheet182!G9,Sheet183!G9,Sheet184!G9,Sheet185!G9,Sheet186!G9,Sheet187!G9,Sheet188!G9,Sheet189!G9,Sheet190!G9,Sheet191!G9,Sheet192!G9,Sheet193!G9,Sheet194!G9,Sheet195!G9,Sheet196!G9,Sheet197!G9,Sheet198!G9,Sheet199!G9,Sheet200!G9,Sheet201!G9,Sheet202!G9,Sheet203!G9,Sheet204!G9,Sheet205!G9,Sheet206!G9,Sheet207!G9,Sheet208!G9,Sheet209!G9,Sheet210!G9,Sheet211!G9,Sheet212!G9,Sheet213!G9,Sheet214!G9,Sheet215!G9,Sheet216!G9,Sheet217!G9,Sheet218!G9,Sheet219!G9,Sheet220!G9,Sheet221!G9,Sheet222!G9,Sheet223!G9,Sheet224!G9,Sheet225!G9,Sheet226!G9,Sheet227!G9,Sheet228!G9,Sheet229!G9,Sheet230!G9,Sheet231!G9,Sheet232!G9,Sheet233!G9,Sheet234!G9,Sheet235!G9,Sheet236!G9,Sheet237!G9,Sheet238!G9,Sheet239!G9,Sheet240!G9,Sheet241!G9,Sheet242!G9,Sheet243!G9,Sheet244!G9,Sheet245!G9,Sheet246!G9,Sheet247!G9,Sheet248!G9,Sheet249!G9,Sheet250!G9) -> 0 | H9: =SUM(C9:G9) -> 9
B10: · 종이컵 거절(텀블러 휴대)하기 | C10: =SUM(sheet1!C10,Sheet2!C10,Sheet3!C10,Sheet4!C10,Sheet5!C10,Sheet6!C10,Sheet7!C10,Sheet8!C10,Sheet9!C10,Sheet10!C10,Sheet11!C10,Sheet12!C10,Sheet13!C10,Sheet14!C10,Sheet15!C10,Sheet16!C10,Sheet17!C10,Sheet18!C10,Sheet19!C10,Sheet20!C10,Sheet21!C10,Sheet22!C10,Sheet23!C10,Sheet24!C10,Sheet25!C10,Sheet26!C10,Sheet27!C10,Sheet28!C10,Sheet29!C10,Sheet30!C10,Sheet31!C10,Sheet32!C10,Sheet33!C10,Sheet34!C10,Sheet35!C10,Sheet36!C10,Sheet37!C10,Sheet38!C10,Sheet39!C10,Sheet40!C10,Sheet41!C10,Sheet42!C10,Sheet43!C10,Sheet44!C10,Sheet45!C10,Sheet46!C10,Sheet47!C10,Sheet48!C10,Sheet49!C10,Sheet50!C10,Sheet51!C10,Sheet52!C10,Sheet53!C10,Sheet54!C10,Sheet55!C10,Sheet56!C10,Sheet57!C10,Sheet58!C10,Sheet59!C10,Sheet60!C10,Sheet61!C10,Sheet62!C10,Sheet63!C10,Sheet64!C10,Sheet65!C10,Sheet66!C10,Sheet67!C10,Sheet68!C10,Sheet69!C10,Sheet70!C10,Sheet71!C10,Sheet72!C10,Sheet73!C10,Sheet74!C10,Sheet75!C10,Sheet76!C10,Sheet77!C10,Sheet78!C10,Sheet79!C10,Sheet80!C10,Sheet81!C10,Sheet82!C10,Sheet83!C10,Sheet84!C10,Sheet85!C10,Sheet86!C10,Sheet87!C10,Sheet88!C10,Sheet89!C10,Sheet90!C10,Sheet91!C10,Sheet92!C10,Sheet93!C10,Sheet94!C10,Sheet95!C10,Sheet96!C10,Sheet97!C10,Sheet98!C10,Sheet99!C10,Sheet100!C10,Sheet101!C10,Sheet102!C10,Sheet103!C10,Sheet104!C10,Sheet105!C10,Sheet106!C10,Sheet107!C10,Sheet108!C10,Sheet109!C10,Sheet110!C10,Sheet111!C10,Sheet112!C10,Sheet113!C10,Sheet114!C10,Sheet115!C10,Sheet116!C10,Sheet117!C10,Sheet118!C10,Sheet119!C10,Sheet120!C10,Sheet121!C10,Sheet122!C10,Sheet123!C10,Sheet124!C10,Sheet125!C10,Sheet126!C10,Sheet127!C10,Sheet128!C10,Sheet129!C10,Sheet130!C10,Sheet131!C10,Sheet132!C10,Sheet133!C10,Sheet134!C10,Sheet135!C10,Sheet136!C10,Sheet137!C10,Sheet138!C10,Sheet139!C10,Sheet140!C10,Sheet141!C10,Sheet142!C10,Sheet143!C10,Sheet144!C10,Sheet145!C10,Sheet146!C10,Sheet147!C10,Sheet148!C10,Sheet149!C10,Sheet150!C10,Sheet151!C10,Sheet152!C10,Sheet153!C10,Sheet154!C10,Sheet155!C10,Sheet156!C10,Sheet157!C10,Sheet158!C10,Sheet159!C10,Sheet160!C10,Sheet161!C10,Sheet162!C10,Sheet163!C10,Sheet164!C10,Sheet165!C10,Sheet166!C10,Sheet167!C10,Sheet168!C10,Sheet169!C10,Sheet170!C10,Sheet171!C10,Sheet172!C10,Sheet173!C10,Sheet174!C10,Sheet175!C10,Sheet176!C10,Sheet177!C10,Sheet178!C10,Sheet179!C10,Sheet180!C10,Sheet181!C10,Sheet182!C10,Sheet183!C10,Sheet184!C10,Sheet185!C10,Sheet186!C10,Sheet187!C10,Sheet188!C10,Sheet189!C10,Sheet190!C10,Sheet191!C10,Sheet192!C10,Sheet193!C10,Sheet194!C10,Sheet195!C10,Sheet196!C10,Sheet197!C10,Sheet198!C10,Sheet199!C10,Sheet200!C10,Sheet201!C10,Sheet202!C10,Sheet203!C10,Sheet204!C10,Sheet205!C10,Sheet206!C10,Sheet207!C10,Sheet208!C10,Sheet209!C10,Sheet210!C10,Sheet211!C10,Sheet212!C10,Sheet213!C10,Sheet214!C10,Sheet215!C10,Sheet216!C10,Sheet217!C10,Sheet218!C10,Sheet219!C10,Sheet220!C10,Sheet221!C10,Sheet222!C10,Sheet223!C10,Sheet224!C10,Sheet225!C10,Sheet226!C10,Sheet227!C10,Sheet228!C10,Sheet229!C10,Sheet230!C10,Sheet231!C10,Sheet232!C10,Sheet233!C10,Sheet234!C10,Sheet235!C10,Sheet236!C10,Sheet237!C10,Sheet238!C10,Sheet239!C10,Sheet240!C10,Sheet241!C10,Sheet242!C10,Sheet243!C10,Sheet244!C10,Sheet245!C10,Sheet246!C10,Sheet247!C10,Sheet248!C10,Sheet249!C10,Sheet250!C10) -> 99 | D10: =SUM(sheet1!D10,Sheet2!D10,Sheet3!D10,Sheet4!D10,Sheet5!D10,Sheet6!D10,Sheet7!D10,Sheet8!D10,Sheet9!D10,Sheet10!D10,Sheet11!D10,Sheet12!D10,Sheet13!D10,Sheet14!D10,Sheet15!D10,Sheet16!D10,Sheet17!D10,Sheet18!D10,Sheet19!D10,Sheet20!D10,Sheet21!D10,Sheet22!D10,Sheet23!D10,Sheet24!D10,Sheet25!D10,Sheet26!D10,Sheet27!D10,Sheet28!D10,Sheet29!D10,Sheet30!D10,Sheet31!D10,Sheet32!D10,Sheet33!D10,Sheet34!D10,Sheet35!D10,Sheet36!D10,Sheet37!D10,Sheet38!D10,Sheet39!D10,Sheet40!D10,Sheet41!D10,Sheet42!D10,Sheet43!D10,Sheet44!D10,Sheet45!D10,Sheet46!D10,Sheet47!D10,Sheet48!D10,Sheet49!D10,Sheet50!D10,Sheet51!D10,Sheet52!D10,Sheet53!D10,Sheet54!D10,Sheet55!D10,Sheet56!D10,Sheet57!D10,Sheet58!D10,Sheet59!D10,Sheet60!D10,Sheet61!D10,Sheet62!D10,Sheet63!D10,Sheet64!D10,Sheet65!D10,Sheet66!D10,Sheet67!D10,Sheet68!D10,Sheet69!D10,Sheet70!D10,Sheet71!D10,Sheet72!D10,Sheet73!D10,Sheet74!D10,Sheet75!D10,Sheet76!D10,Sheet77!D10,Sheet78!D10,Sheet79!D10,Sheet80!D10,Sheet81!D10,Sheet82!D10,Sheet83!D10,Sheet84!D10,Sheet85!D10,Sheet86!D10,Sheet87!D10,Sheet88!D10,Sheet89!D10,Sheet90!D10,Sheet91!D10,Sheet92!D10,Sheet93!D10,Sheet94!D10,Sheet95!D10,Sheet96!D10,Sheet97!D10,Sheet98!D10,Sheet99!D10,Sheet100!D10,Sheet101!D10,Sheet102!D10,Sheet103!D10,Sheet104!D10,Sheet105!D10,Sheet106!D10,Sheet107!D10,Sheet108!D10,Sheet109!D10,Sheet110!D10,Sheet111!D10,Sheet112!D10,Sheet113!D10,Sheet114!D10,Sheet115!D10,Sheet116!D10,Sheet117!D10,Sheet118!D10,Sheet119!D10,Sheet120!D10,Sheet121!D10,Sheet122!D10,Sheet123!D10,Sheet124!D10,Sheet125!D10,Sheet126!D10,Sheet127!D10,Sheet128!D10,Sheet129!D10,Sheet130!D10,Sheet131!D10,Sheet132!D10,Sheet133!D10,Sheet134!D10,Sheet135!D10,Sheet136!D10,Sheet137!D10,Sheet138!D10,Sheet139!D10,Sheet140!D10,Sheet141!D10,Sheet142!D10,Sheet143!D10,Sheet144!D10,Sheet145!D10,Sheet146!D10,Sheet147!D10,Sheet148!D10,Sheet149!D10,Sheet150!D10,Sheet151!D10,Sheet152!D10,Sheet153!D10,Sheet154!D10,Sheet155!D10,Sheet156!D10,Sheet157!D10,Sheet158!D10,Sheet159!D10,Sheet160!D10,Sheet161!D10,Sheet162!D10,Sheet163!D10,Sheet164!D10,Sheet165!D10,Sheet166!D10,Sheet167!D10,Sheet168!D10,Sheet169!D10,Sheet170!D10,Sheet171!D10,Sheet172!D10,Sheet173!D10,Sheet174!D10,Sheet175!D10,Sheet176!D10,Sheet177!D10,Sheet178!D10,Sheet179!D10,Sheet180!D10,Sheet181!D10,Sheet182!D10,Sheet183!D10,Sheet184!D10,Sheet185!D10,Sheet186!D10,Sheet187!D10,Sheet188!D10,Sheet189!D10,Sheet190!D10,Sheet191!D10,Sheet192!D10,Sheet193!D10,Sheet194!D10,Sheet195!D10,Sheet196!D10,Sheet197!D10,Sheet198!D10,Sheet199!D10,Sheet200!D10,Sheet201!D10,Sheet202!D10,Sheet203!D10,Sheet204!D10,Sheet205!D10,Sheet206!D10,Sheet207!D10,Sheet208!D10,Sheet209!D10,Sheet210!D10,Sheet211!D10,Sheet212!D10,Sheet213!D10,Sheet214!D10,Sheet215!D10,Sheet216!D10,Sheet217!D10,Sheet218!D10,Sheet219!D10,Sheet220!D10,Sheet221!D10,Sheet222!D10,Sheet223!D10,Sheet224!D10,Sheet225!D10,Sheet226!D10,Sheet227!D10,Sheet228!D10,Sheet229!D10,Sheet230!D10,Sheet231!D10,Sheet232!D10,Sheet233!D10,Sheet234!D10,Sheet235!D10,Sheet236!D10,Sheet237!D10,Sheet238!D10,Sheet239!D10,Sheet240!D10,Sheet241!D10,Sheet242!D10,Sheet243!D10,Sheet244!D10,Sheet245!D10,Sheet246!D10,Sheet247!D10,Sheet248!D10,Sheet249!D10,Sheet250!D10) -> 84 | E10: =SUM(sheet1!E10,Sheet2!E10,Sheet3!E10,Sheet4!E10,Sheet5!E10,Sheet6!E10,Sheet7!E10,Sheet8!E10,Sheet9!E10,Sheet10!E10,Sheet11!E10,Sheet12!E10,Sheet13!E10,Sheet14!E10,Sheet15!E10,Sheet16!E10,Sheet17!E10,Sheet18!E10,Sheet19!E10,Sheet20!E10,Sheet21!E10,Sheet22!E10,Sheet23!E10,Sheet24!E10,Sheet25!E10,Sheet26!E10,Sheet27!E10,Sheet28!E10,Sheet29!E10,Sheet30!E10,Sheet31!E10,Sheet32!E10,Sheet33!E10,Sheet34!E10,Sheet35!E10,Sheet36!E10,Sheet37!E10,Sheet38!E10,Sheet39!E10,Sheet40!E10,Sheet41!E10,Sheet42!E10,Sheet43!E10,Sheet44!E10,Sheet45!E10,Sheet46!E10,Sheet47!E10,Sheet48!E10,Sheet49!E10,Sheet50!E10,Sheet51!E10,Sheet52!E10,Sheet53!E10,Sheet54!E10,Sheet55!E10,Sheet56!E10,Sheet57!E10,Sheet58!E10,Sheet59!E10,Sheet60!E10,Sheet61!E10,Sheet62!E10,Sheet63!E10,Sheet64!E10,Sheet65!E10,Sheet66!E10,Sheet67!E10,Sheet68!E10,Sheet69!E10,Sheet70!E10,Sheet71!E10,Sheet72!E10,Sheet73!E10,Sheet74!E10,Sheet75!E10,Sheet76!E10,Sheet77!E10,Sheet78!E10,Sheet79!E10,Sheet80!E10,Sheet81!E10,Sheet82!E10,Sheet83!E10,Sheet84!E10,Sheet85!E10,Sheet86!E10,Sheet87!E10,Sheet88!E10,Sheet89!E10,Sheet90!E10,Sheet91!E10,Sheet92!E10,Sheet93!E10,Sheet94!E10,Sheet95!E10,Sheet96!E10,Sheet97!E10,Sheet98!E10,Sheet99!E10,Sheet100!E10,Sheet101!E10,Sheet102!E10,Sheet103!E10,Sheet104!E10,Sheet105!E10,Sheet106!E10,Sheet107!E10,Sheet108!E10,Sheet109!E10,Sheet110!E10,Sheet111!E10,Sheet112!E10,Sheet113!E10,Sheet114!E10,Sheet115!E10,Sheet116!E10,Sheet117!E10,Sheet118!E10,Sheet119!E10,Sheet120!E10,Sheet121!E10,Sheet122!E10,Sheet123!E10,Sheet124!E10,Sheet125!E10,Sheet126!E10,Sheet127!E10,Sheet128!E10,Sheet129!E10,Sheet130!E10,Sheet131!E10,Sheet132!E10,Sheet133!E10,Sheet134!E10,Sheet135!E10,Sheet136!E10,Sheet137!E10,Sheet138!E10,Sheet139!E10,Sheet140!E10,Sheet141!E10,Sheet142!E10,Sheet143!E10,Sheet144!E10,Sheet145!E10,Sheet146!E10,Sheet147!E10,Sheet148!E10,Sheet149!E10,Sheet150!E10,Sheet151!E10,Sheet152!E10,Sheet153!E10,Sheet154!E10,Sheet155!E10,Sheet156!E10,Sheet157!E10,Sheet158!E10,Sheet159!E10,Sheet160!E10,Sheet161!E10,Sheet162!E10,Sheet163!E10,Sheet164!E10,Sheet165!E10,Sheet166!E10,Sheet167!E10,Sheet168!E10,Sheet169!E10,Sheet170!E10,Sheet171!E10,Sheet172!E10,Sheet173!E10,Sheet174!E10,Sheet175!E10,Sheet176!E10,Sheet177!E10,Sheet178!E10,Sheet179!E10,Sheet180!E10,Sheet181!E10,Sheet182!E10,Sheet183!E10,Sheet184!E10,Sheet185!E10,Sheet186!E10,Sheet187!E10,Sheet188!E10,Sheet189!E10,Sheet190!E10,Sheet191!E10,Sheet192!E10,Sheet193!E10,Sheet194!E10,Sheet195!E10,Sheet196!E10,Sheet197!E10,Sheet198!E10,Sheet199!E10,Sheet200!E10,Sheet201!E10,Sheet202!E10,Sheet203!E10,Sheet204!E10,Sheet205!E10,Sheet206!E10,Sheet207!E10,Sheet208!E10,Sheet209!E10,Sheet210!E10,Sheet211!E10,Sheet212!E10,Sheet213!E10,Sheet214!E10,Sheet215!E10,Sheet216!E10,Sheet217!E10,Sheet218!E10,Sheet219!E10,Sheet220!E10,Sheet221!E10,Sheet222!E10,Sheet223!E10,Sheet224!E10,Sheet225!E10,Sheet226!E10,Sheet227!E10,Sheet228!E10,Sheet229!E10,Sheet230!E10,Sheet231!E10,Sheet232!E10,Sheet233!E10,Sheet234!E10,Sheet235!E10,Sheet236!E10,Sheet237!E10,Sheet238!E10,Sheet239!E10,Sheet240!E10,Sheet241!E10,Sheet242!E10,Sheet243!E10,Sheet244!E10,Sheet245!E10,Sheet246!E10,Sheet247!E10,Sheet248!E10,Sheet249!E10,Sheet250!E10) -> 89 | F10: =SUM(sheet1!F10,Sheet2!F10,Sheet3!F10,Sheet4!F10,Sheet5!F10,Sheet6!F10,Sheet7!F10,Sheet8!F10,Sheet9!F10,Sheet10!F10,Sheet11!F10,Sheet12!F10,Sheet13!F10,Sheet14!F10,Sheet15!F10,Sheet16!F10,Sheet17!F10,Sheet18!F10,Sheet19!F10,Sheet20!F10,Sheet21!F10,Sheet22!F10,Sheet23!F10,Sheet24!F10,Sheet25!F10,Sheet26!F10,Sheet27!F10,Sheet28!F10,Sheet29!F10,Sheet30!F10,Sheet31!F10,Sheet32!F10,Sheet33!F10,Sheet34!F10,Sheet35!F10,Sheet36!F10,Sheet37!F10,Sheet38!F10,Sheet39!F10,Sheet40!F10,Sheet41!F10,Sheet42!F10,Sheet43!F10,Sheet44!F10,Sheet45!F10,Sheet46!F10,Sheet47!F10,Sheet48!F10,Sheet49!F10,Sheet50!F10,Sheet51!F10,Sheet52!F10,Sheet53!F10,Sheet54!F10,Sheet55!F10,Sheet56!F10,Sheet57!F10,Sheet58!F10,Sheet59!F10,Sheet60!F10,Sheet61!F10,Sheet62!F10,Sheet63!F10,Sheet64!F10,Sheet65!F10,Sheet66!F10,Sheet67!F10,Sheet68!F10,Sheet69!F10,Sheet70!F10,Sheet71!F10,Sheet72!F10,Sheet73!F10,Sheet74!F10,Sheet75!F10,Sheet76!F10,Sheet77!F10,Sheet78!F10,Sheet79!F10,Sheet80!F10,Sheet81!F10,Sheet82!F10,Sheet83!F10,Sheet84!F10,Sheet85!F10,Sheet86!F10,Sheet87!F10,Sheet88!F10,Sheet89!F10,Sheet90!F10,Sheet91!F10,Sheet92!F10,Sheet93!F10,Sheet94!F10,Sheet95!F10,Sheet96!F10,Sheet97!F10,Sheet98!F10,Sheet99!F10,Sheet100!F10,Sheet101!F10,Sheet102!F10,Sheet103!F10,Sheet104!F10,Sheet105!F10,Sheet106!F10,Sheet107!F10,Sheet108!F10,Sheet109!F10,Sheet110!F10,Sheet111!F10,Sheet112!F10,Sheet113!F10,Sheet114!F10,Sheet115!F10,Sheet116!F10,Sheet117!F10,Sheet118!F10,Sheet119!F10,Sheet120!F10,Sheet121!F10,Sheet122!F10,Sheet123!F10,Sheet124!F10,Sheet125!F10,Sheet126!F10,Sheet127!F10,Sheet128!F10,Sheet129!F10,Sheet130!F10,Sheet131!F10,Sheet132!F10,Sheet133!F10,Sheet134!F10,Sheet135!F10,Sheet136!F10,Sheet137!F10,Sheet138!F10,Sheet139!F10,Sheet140!F10,Sheet141!F10,Sheet142!F10,Sheet143!F10,Sheet144!F10,Sheet145!F10,Sheet146!F10,Sheet147!F10,Sheet148!F10,Sheet149!F10,Sheet150!F10,Sheet151!F10,Sheet152!F10,Sheet153!F10,Sheet154!F10,Sheet155!F10,Sheet156!F10,Sheet157!F10,Sheet158!F10,Sheet159!F10,Sheet160!F10,Sheet161!F10,Sheet162!F10,Sheet163!F10,Sheet164!F10,Sheet165!F10,Sheet166!F10,Sheet167!F10,Sheet168!F10,Sheet169!F10,Sheet170!F10,Sheet171!F10,Sheet172!F10,Sheet173!F10,Sheet174!F10,Sheet175!F10,Sheet176!F10,Sheet177!F10,Sheet178!F10,Sheet179!F10,Sheet180!F10,Sheet181!F10,Sheet182!F10,Sheet183!F10,Sheet184!F10,Sheet185!F10,Sheet186!F10,Sheet187!F10,Sheet188!F10,Sheet189!F10,Sheet190!F10,Sheet191!F10,Sheet192!F10,Sheet193!F10,Sheet194!F10,Sheet195!F10,Sheet196!F10,Sheet197!F10,Sheet198!F10,Sheet199!F10,Sheet200!F10,Sheet201!F10,Sheet202!F10,Sheet203!F10,Sheet204!F10,Sheet205!F10,Sheet206!F10,Sheet207!F10,Sheet208!F10,Sheet209!F10,Sheet210!F10,Sheet211!F10,Sheet212!F10,Sheet213!F10,Sheet214!F10,Sheet215!F10,Sheet216!F10,Sheet217!F10,Sheet218!F10,Sheet219!F10,Sheet220!F10,Sheet221!F10,Sheet222!F10,Sheet223!F10,Sheet224!F10,Sheet225!F10,Sheet226!F10,Sheet227!F10,Sheet228!F10,Sheet229!F10,Sheet230!F10,Sheet231!F10,Sheet232!F10,Sheet233!F10,Sheet234!F10,Sheet235!F10,Sheet236!F10,Sheet237!F10,Sheet238!F10,Sheet239!F10,Sheet240!F10,Sheet241!F10,Sheet242!F10,Sheet243!F10,Sheet244!F10,Sheet245!F10,Sheet246!F10,Sheet247!F10,Sheet248!F10,Sheet249!F10,Sheet250!F10) -> 90 | G10: =SUM(sheet1!G10,Sheet2!G10,Sheet3!G10,Sheet4!G10,Sheet5!G10,Sheet6!G10,Sheet7!G10,Sheet8!G10,Sheet9!G10,Sheet10!G10,Sheet11!G10,Sheet12!G10,Sheet13!G10,Sheet14!G10,Sheet15!G10,Sheet16!G10,Sheet17!G10,Sheet18!G10,Sheet19!G10,Sheet20!G10,Sheet21!G10,Sheet22!G10,Sheet23!G10,Sheet24!G10,Sheet25!G10,Sheet26!G10,Sheet27!G10,Sheet28!G10,Sheet29!G10,Sheet30!G10,Sheet31!G10,Sheet32!G10,Sheet33!G10,Sheet34!G10,Sheet35!G10,Sheet36!G10,Sheet37!G10,Sheet38!G10,Sheet39!G10,Sheet40!G10,Sheet41!G10,Sheet42!G10,Sheet43!G10,Sheet44!G10,Sheet45!G10,Sheet46!G10,Sheet47!G10,Sheet48!G10,Sheet49!G10,Sheet50!G10,Sheet51!G10,Sheet52!G10,Sheet53!G10,Sheet54!G10,Sheet55!G10,Sheet56!G10,Sheet57!G10,Sheet58!G10,Sheet59!G10,Sheet60!G10,Sheet61!G10,Sheet62!G10,Sheet63!G10,Sheet64!G10,Sheet65!G10,Sheet66!G10,Sheet67!G10,Sheet68!G10,Sheet69!G10,Sheet70!G10,Sheet71!G10,Sheet72!G10,Sheet73!G10,Sheet74!G10,Sheet75!G10,Sheet76!G10,Sheet77!G10,Sheet78!G10,Sheet79!G10,Sheet80!G10,Sheet81!G10,Sheet82!G10,Sheet83!G10,Sheet84!G10,Sheet85!G10,Sheet86!G10,Sheet87!G10,Sheet88!G10,Sheet89!G10,Sheet90!G10,Sheet91!G10,Sheet92!G10,Sheet93!G10,Sheet94!G10,Sheet95!G10,Sheet96!G10,Sheet97!G10,Sheet98!G10,Sheet99!G10,Sheet100!G10,Sheet101!G10,Sheet102!G10,Sheet103!G10,Sheet104!G10,Sheet105!G10,Sheet106!G10,Sheet107!G10,Sheet108!G10,Sheet109!G10,Sheet110!G10,Sheet111!G10,Sheet112!G10,Sheet113!G10,Sheet114!G10,Sheet115!G10,Sheet116!G10,Sheet117!G10,Sheet118!G10,Sheet119!G10,Sheet120!G10,Sheet121!G10,Sheet122!G10,Sheet123!G10,Sheet124!G10,Sheet125!G10,Sheet126!G10,Sheet127!G10,Sheet128!G10,Sheet129!G10,Sheet130!G10,Sheet131!G10,Sheet132!G10,Sheet133!G10,Sheet134!G10,Sheet135!G10,Sheet136!G10,Sheet137!G10,Sheet138!G10,Sheet139!G10,Sheet140!G10,Sheet141!G10,Sheet142!G10,Sheet143!G10,Sheet144!G10,Sheet145!G10,Sheet146!G10,Sheet147!G10,Sheet148!G10,Sheet149!G10,Sheet150!G10,Sheet151!G10,Sheet152!G10,Sheet153!G10,Sheet154!G10,Sheet155!G10,Sheet156!G10,Sheet157!G10,Sheet158!G10,Sheet159!G10,Sheet160!G10,Sheet161!G10,Sheet162!G10,Sheet163!G10,Sheet164!G10,Sheet165!G10,Sheet166!G10,Sheet167!G10,Sheet168!G10,Sheet169!G10,Sheet170!G10,Sheet171!G10,Sheet172!G10,Sheet173!G10,Sheet174!G10,Sheet175!G10,Sheet176!G10,Sheet177!G10,Sheet178!G10,Sheet179!G10,Sheet180!G10,Sheet181!G10,Sheet182!G10,Sheet183!G10,Sheet184!G10,Sheet185!G10,Sheet186!G10,Sheet187!G10,Sheet188!G10,Sheet189!G10,Sheet190!G10,Sheet191!G10,Sheet192!G10,Sheet193!G10,Sheet194!G10,Sheet195!G10,Sheet196!G10,Sheet197!G10,Sheet198!G10,Sheet199!G10,Sheet200!G10,Sheet201!G10,Sheet202!G10,Sheet203!G10,Sheet204!G10,Sheet205!G10,Sheet206!G10,Sheet207!G10,Sheet208!G10,Sheet209!G10,Sheet210!G10,Sheet211!G10,Sheet212!G10,Sheet213!G10,Sheet214!G10,Sheet215!G10,Sheet216!G10,Sheet217!G10,Sheet218!G10,Sheet219!G10,Sheet220!G10,Sheet221!G10,Sheet222!G10,Sheet223!G10,Sheet224!G10,Sheet225!G10,Sheet226!G10,Sheet227!G10,Sheet228!G10,Sheet229!G10,Sheet230!G10,Sheet231!G10,Sheet232!G10,Sheet233!G10,Sheet234!G10,Sheet235!G10,Sheet236!G10,Sheet237!G10,Sheet238!G10,Sheet239!G10,Sheet240!G10,Sheet241!G10,Sheet242!G10,Sheet243!G10,Sheet244!G10,Sheet245!G10,Sheet246!G10,Sheet247!G10,Sheet248!G10,Sheet249!G10,Sheet250!G10) -> 0 | H10: =SUM(C10:G10) -> 362
